BEGIN:VCALENDAR
VERSION:2.0
PRODID:-//Pierson Library - ECPv6.15.16//NONSGML v1.0//EN
CALSCALE:GREGORIAN
METHOD:PUBLISH
X-WR-CALNAME:Pierson Library
X-ORIGINAL-URL:https://piersonlibrary.org
X-WR-CALDESC:Events for Pierson Library
REFRESH-INTERVAL;VALUE=DURATION:PT1H
X-Robots-Tag:noindex
X-PUBLISHED-TTL:PT1H
BEGIN:VTIMEZONE
TZID:America/New_York
BEGIN:DAYLIGHT
TZOFFSETFROM:-0500
TZOFFSETTO:-0400
TZNAME:EDT
DTSTART:20240310T070000
END:DAYLIGHT
BEGIN:STANDARD
TZOFFSETFROM:-0400
TZOFFSETTO:-0500
TZNAME:EST
DTSTART:20241103T060000
END:STANDARD
BEGIN:DAYLIGHT
TZOFFSETFROM:-0500
TZOFFSETTO:-0400
TZNAME:EDT
DTSTART:20250309T070000
END:DAYLIGHT
BEGIN:STANDARD
TZOFFSETFROM:-0400
TZOFFSETTO:-0500
TZNAME:EST
DTSTART:20251102T060000
END:STANDARD
BEGIN:DAYLIGHT
TZOFFSETFROM:-0500
TZOFFSETTO:-0400
TZNAME:EDT
DTSTART:20260308T070000
END:DAYLIGHT
BEGIN:STANDARD
TZOFFSETFROM:-0400
TZOFFSETTO:-0500
TZNAME:EST
DTSTART:20261101T060000
END:STANDARD
END:VTIMEZONE
BEGIN:VEVENT
DTSTART;VALUE=DATE:20251104
DTEND;VALUE=DATE:20251127
DTSTAMP:20260424T192546
CREATED:20251031T103440Z
LAST-MODIFIED:20251031T103440Z
UID:6963-1762214400-1764201599@piersonlibrary.org
SUMMARY:Picture This! Work with author/illustrator Greg Garious to create a one-of-a-kind picture book!
DESCRIPTION:Shelburne folks collaborate with author/illustrator Greg Garious to hive-mind a one-of-a-kind picture book! Stop in during the month of November and meet Peepers & Salamander\, the terrifically illustrated dynamic duo setting out on an adventure of our choosing! Pitch your ideas each week for which direction the story should take and see the book come to life in words and pictures.
URL:https://piersonlibrary.org/event/picture-this-work-with-author-illustrator-greg-garious-to-create-a-one-of-a-kind-picture-book/
CATEGORIES:Creativity
ATTACH;FMTTYPE=image/jpeg:https://piersonlibrary.org/wp-content/uploads/2025/10/Picture-This-scaled.jpg
END:VEVENT
BEGIN:VEVENT
DTSTART;TZID=America/New_York:20251106T103000
DTEND;TZID=America/New_York:20251106T110000
DTSTAMP:20260424T192546
CREATED:20251031T105105Z
LAST-MODIFIED:20251031T105322Z
UID:6975-1762425000-1762426800@piersonlibrary.org
SUMMARY:Thursday Musical Story Time
DESCRIPTION:Experience the magic of music and storytelling at our weekly musical story time! Join us for an adventure where stories come to life with the power of music. Musician and storyteller Liz Buchanan transports young minds into the world of rhythm\, melody\, and imagination.
URL:https://piersonlibrary.org/event/thursday-musical-story-time/
CATEGORIES:Storytime
ATTACH;FMTTYPE=image/jpeg:https://piersonlibrary.org/wp-content/uploads/2024/02/Thursday-Storytime-scaled.jpg
END:VEVENT
BEGIN:VEVENT
DTSTART;TZID=America/New_York:20251106T130000
DTEND;TZID=America/New_York:20251106T150000
DTSTAMP:20260424T192546
CREATED:20251031T151732Z
LAST-MODIFIED:20251031T151732Z
UID:7017-1762434000-1762441200@piersonlibrary.org
SUMMARY:Mahjong Playing Society
DESCRIPTION:Join us for a new way to have fun\, make friends\, and build community! Mahjong is a tile-based game of skill\, luck\, and strategy akin to Gin Rummy. Players draw tiles and form melds. We will be joined by Pauline Nolte\, who can instruct players in both Chinese and American mahjong (following the hands and rules developed by the National Mah Jongg League). Whether you’re brand new to the game or an old pro\, find jubilation and community with the Mahjong Playing Society! Call to register at 802-985-5124.
URL:https://piersonlibrary.org/event/mahjong-playing-society/
CATEGORIES:Mahjong
ATTACH;FMTTYPE=image/jpeg:https://piersonlibrary.org/wp-content/uploads/2025/09/Mahjong-Playing-Society-scaled.jpg
END:VEVENT
BEGIN:VEVENT
DTSTART;TZID=America/New_York:20251106T173000
DTEND;TZID=America/New_York:20251106T183000
DTSTAMP:20260424T192546
CREATED:20251031T110637Z
LAST-MODIFIED:20251031T110637Z
UID:6982-1762450200-1762453800@piersonlibrary.org
SUMMARY:Writing Workshop with author Lindsey Stoddard
DESCRIPTION:Writers and aspiring authors grades 4 and up take note! Join us for pizza and an evening writing workshop with Shelburne’s own Lindsey Stoddard! Ask your questions\, get your creativity flowing\, and hone your art through fun writing prompt and exercises. Call to register at 802-985-5124.
URL:https://piersonlibrary.org/event/writing-workshop-with-author-lindsey-stoddard/
CATEGORIES:Writing
ATTACH;FMTTYPE=image/jpeg:https://piersonlibrary.org/wp-content/uploads/2025/10/Lindsey-Stoddard-Writing-Workshop-1-scaled.jpg
END:VEVENT
BEGIN:VEVENT
DTSTART;TZID=America/New_York:20251106T183000
DTEND;TZID=America/New_York:20251106T193000
DTSTAMP:20260424T192546
CREATED:20251105T205245Z
LAST-MODIFIED:20251105T205426Z
UID:7056-1762453800-1762457400@piersonlibrary.org
SUMMARY:Peaceful Parenting with Natalie Raby
DESCRIPTION:Discover powerful shifts to transform frustration into peace and connection with your kids. When we parent without working through our own history\, we are destined to repeat painful patterns we ourselves experienced as children\, no matter how much we want things to be different. Natalie Raby is a certified parent coach who brings to this important work a combination of formal education in counseling\, child development\, and psychology\, as well as experience as a teacher\, school counselor\, and mother of four.
URL:https://piersonlibrary.org/event/peaceful-parenting-with-natalie-raby-2/
ATTACH;FMTTYPE=image/jpeg:https://piersonlibrary.org/wp-content/uploads/2025/10/Gentle-Parenting-scaled.jpg
END:VEVENT
BEGIN:VEVENT
DTSTART;TZID=America/New_York:20251107T153000
DTEND;TZID=America/New_York:20251107T163000
DTSTAMP:20260424T192546
CREATED:20251031T111839Z
LAST-MODIFIED:20251031T111839Z
UID:6985-1762529400-1762533000@piersonlibrary.org
SUMMARY:Sew your own stuffie with designer Caitlin Betsy Bell
DESCRIPTION:Learn the basics of sewing and create your very own stuffie to bring home! Ages 8 and up\, no sewing experience required. Call to register at 802-985-5124.
URL:https://piersonlibrary.org/event/sew-your-own-stuffie-with-designer-caitlin-betsy-bell/
CATEGORIES:Sewing
ATTACH;FMTTYPE=image/jpeg:https://piersonlibrary.org/wp-content/uploads/2025/10/Sew-Your-Own-Stuffie-scaled.jpg
END:VEVENT
BEGIN:VEVENT
DTSTART;TZID=America/New_York:20251107T173000
DTEND;TZID=America/New_York:20251107T193000
DTSTAMP:20260424T192546
CREATED:20251031T153605Z
LAST-MODIFIED:20251031T153605Z
UID:7022-1762536600-1762543800@piersonlibrary.org
SUMMARY:Friends of the Pierson Library Fall Book Sale (Friends Preview Sale for Friends members and their guests)
DESCRIPTION:Join us for the ultimate book lover’s paradise at our Friends of the Pierson Library Fall Book Sale! With thousands of titles to choose from\, you’re sure to find your next favorite read. Plus\, indulge your sweet tooth with delicious homemade pies available for purchase. Don’t miss this opportunity to stock up on books and treats while supporting your local library. \nNot yet a Friends member? Buy a membership at the door!
URL:https://piersonlibrary.org/event/friends-of-the-pierson-library-fall-book-sale-friends-preview-sale-for-friends-members-and-their-guests/
CATEGORIES:Book Sale
ATTACH;FMTTYPE=image/jpeg:https://piersonlibrary.org/wp-content/uploads/2024/10/Fall-Book-Sale-2-scaled.jpg
END:VEVENT
BEGIN:VEVENT
DTSTART;TZID=America/New_York:20251108T090000
DTEND;TZID=America/New_York:20251108T170000
DTSTAMP:20260424T192546
CREATED:20251031T153747Z
LAST-MODIFIED:20251031T153747Z
UID:7023-1762592400-1762621200@piersonlibrary.org
SUMMARY:Friends of the Pierson Library Fall Book Sale
DESCRIPTION:Join us for the ultimate book lover’s paradise at our Friends of the Pierson Library Fall Book Sale! With thousands of titles to choose from\, you’re sure to find your next favorite read. Plus\, indulge your sweet tooth with delicious homemade pies available for purchase. Don’t miss this opportunity to stock up on books and treats while supporting your local library.
URL:https://piersonlibrary.org/event/friends-of-the-pierson-library-fall-book-sale/
CATEGORIES:Book Club
ATTACH;FMTTYPE=image/jpeg:https://piersonlibrary.org/wp-content/uploads/2024/10/Fall-Book-Sale-2-scaled.jpg
END:VEVENT
BEGIN:VEVENT
DTSTART;TZID=America/New_York:20251108T103000
DTEND;TZID=America/New_York:20251108T120000
DTSTAMP:20260424T192546
CREATED:20251031T113712Z
LAST-MODIFIED:20251031T190435Z
UID:6987-1762597800-1762603200@piersonlibrary.org
SUMMARY:Take It Apart with Deb Sigel
DESCRIPTION:Your favorite Taking Things Apart family class is returning to the Pierson Library! Come join in the fun as kids take apart old\, unloved appliances and toys to learn how they work. You bring the kids\, a responsible adult to stay\, and broken stuff to take apart. We provide everything else. \nSome things you might bring: Orbital sander\, belt sander\, toaster\, toaster oven\, fan\,\nblender\, juicer\, mixer\, food processor\, electric can opener\, hair drier\, coffee maker\,\nelectric screw driver\, electric saw\, waffle maker\, VCR\, walkman\, CD/DVD player\,\ndocument scanner\, CD drive\, electric or geared pencil sharpeners\, phones (corded &\ncordless)\, mechanical/noisy baby toys\, toy laptops\, RC cars\, cameras\, radio\, etc….\nThe older the machine\, the better. \nDo not Bring: Vacuum cleaners (asthma risk)\, microwave ovens (zzap)\, combo\nprinter-scanners (very difficult)\, anything Nintendo or iPhone (special tools\nrequired)\, smoke detectors\, mercury thermostats or switches\, government property\,\ne-waste/tower computers/batteries\, stolen hardware\, weapons. \n  \nAges 5 and up (even better for ages 8 and up). Call to register at 802-985-5124.
URL:https://piersonlibrary.org/event/take-it-apart-with-deb-sigel/
CATEGORIES:Take It Apart
ATTACH;FMTTYPE=image/jpeg:https://piersonlibrary.org/wp-content/uploads/2025/10/Take-It-Apart-1-1-scaled.jpg
END:VEVENT
BEGIN:VEVENT
DTSTART;TZID=America/New_York:20251108T140000
DTEND;TZID=America/New_York:20251108T160000
DTSTAMP:20260424T192546
CREATED:20251031T114106Z
LAST-MODIFIED:20251031T114106Z
UID:6991-1762610400-1762617600@piersonlibrary.org
SUMMARY:Board Game Afternoon
DESCRIPTION:Spend an afternoon with family\, friends\, and neighbors trying out a variety of board games from around the world. From simple games of luck and chance to strategic games that exercise your wits\, stop in to share a favorite game or try something entirely new! All ages are welcome at this fun\, free event.
URL:https://piersonlibrary.org/event/board-game-afternoon-3/
CATEGORIES:Board Games
ATTACH;FMTTYPE=image/jpeg:https://piersonlibrary.org/wp-content/uploads/2025/09/Board-Games-scaled.jpg
END:VEVENT
BEGIN:VEVENT
DTSTART;TZID=America/New_York:20251109T100000
DTEND;TZID=America/New_York:20251109T150000
DTSTAMP:20260424T192546
CREATED:20251031T153852Z
LAST-MODIFIED:20251031T153852Z
UID:7024-1762682400-1762700400@piersonlibrary.org
SUMMARY:Friends of the Pierson Library Fall Book Sale
DESCRIPTION:Join us for the ultimate book lover’s paradise at our Friends of the Pierson Library Fall Book Sale! With thousands of titles to choose from\, you’re sure to find your next favorite read. Plus\, indulge your sweet tooth with delicious homemade pies available for purchase. Don’t miss this opportunity to stock up on books and treats while supporting your local library.
URL:https://piersonlibrary.org/event/friends-of-the-pierson-library-fall-book-sale-2/
CATEGORIES:Book Club
ATTACH;FMTTYPE=image/jpeg:https://piersonlibrary.org/wp-content/uploads/2024/10/Fall-Book-Sale-2-scaled.jpg
END:VEVENT
BEGIN:VEVENT
DTSTART;TZID=America/New_York:20251110T090000
DTEND;TZID=America/New_York:20251110T110000
DTSTAMP:20260424T192546
CREATED:20251031T160320Z
LAST-MODIFIED:20251031T160342Z
UID:7026-1762765200-1762772400@piersonlibrary.org
SUMMARY:Veterans’ Coffee Social and Vietnam 50th Commemoration Pinning Ceremony
DESCRIPTION:Join us in commemoration this Monday\, before the library opens\, for a gathering of local veterans and other neighbors. Pay respects\, give thanks\, and meet community members who have served. Additionally\, we’re honored to be joined by Bob Stock\, Veterans Outreach Specialist with South Burlington Vet Center\, who will ceremoniously pin all veterans and/or their survivors who served in the United States Armed Forces between 1955 and 1975. They needn’t have been “boots on the ground” in Vietnam. We’ll honor all who served during this time with a lapel pin authorized by Congress\, established by the secretary of defense\, and launched by President Barack Obama in 2012. If you served during this time and haven’t yet received this commemoration\, we urge you to attend. And if you’d just like a caffeinated visit with the community\, that works too!
URL:https://piersonlibrary.org/event/veterans-coffee-social-and-vietnam-50th-commemoration-pinning-ceremony/
CATEGORIES:Coffee Social,Veterans
ATTACH;FMTTYPE=image/jpeg:https://piersonlibrary.org/wp-content/uploads/2025/10/Veterans-Day-Coffee-Social-scaled.jpg
END:VEVENT
BEGIN:VEVENT
DTSTART;TZID=America/New_York:20251110T120000
DTEND;TZID=America/New_York:20251110T130000
DTSTAMP:20260424T192546
CREATED:20251031T150254Z
LAST-MODIFIED:20251031T150254Z
UID:7014-1762776000-1762779600@piersonlibrary.org
SUMMARY:Fiber Arts Crafting Hour
DESCRIPTION:Have you got a fiber arts project you’re working on and would enjoy the company of other crafters? Join this crafting hour every Monday to knit\, crochet\, weave\, felt\, embroider\, and socialize! This program officially lasts for one hour\, but if the space is available afterward\, crafters are welcome to stay and socialize!
URL:https://piersonlibrary.org/event/fiber-arts-crafting-hour-2/
CATEGORIES:Fiber Arts
ATTACH;FMTTYPE=image/jpeg:https://piersonlibrary.org/wp-content/uploads/2024/10/Fiber-Arts-Crafting-Circle-1-scaled.jpg
END:VEVENT
BEGIN:VEVENT
DTSTART;VALUE=DATE:20251111
DTEND;VALUE=DATE:20251112
DTSTAMP:20260424T192546
CREATED:20251105T201301Z
LAST-MODIFIED:20251105T201314Z
UID:7053-1762819200-1762905599@piersonlibrary.org
SUMMARY:Closed in Observance of Veterans Day
DESCRIPTION:The library will be closed on Tuesday\, November 11 in observance of Veterans Day.
URL:https://piersonlibrary.org/event/closed-in-observance-of-veterans-day-2/
CATEGORIES:Holiday Closure
ATTACH;FMTTYPE=image/jpeg:https://piersonlibrary.org/wp-content/uploads/2025/11/Closed-for-Thanksgiving-4-scaled.jpg
END:VEVENT
BEGIN:VEVENT
DTSTART;TZID=America/New_York:20251112T103000
DTEND;TZID=America/New_York:20251112T113000
DTSTAMP:20260424T192546
CREATED:20251031T104751Z
LAST-MODIFIED:20251031T104751Z
UID:6973-1762943400-1762947000@piersonlibrary.org
SUMMARY:Pierson Playdate
DESCRIPTION:Looking for a place for your little one to play on chilly autumn days? Join us in Town Hall for fun\, frolic\, and friendship for both littles and their parents/caretakers. Appropriate for ages 2 to 4.
URL:https://piersonlibrary.org/event/pierson-playdate-46/
CATEGORIES:Playdate,Toddlers
ATTACH;FMTTYPE=image/jpeg:https://piersonlibrary.org/wp-content/uploads/2024/10/Pierson-Playdate-Event-Calendar-scaled.jpg
END:VEVENT
BEGIN:VEVENT
DTSTART;TZID=America/New_York:20251112T120000
DTEND;TZID=America/New_York:20251112T130000
DTSTAMP:20260424T192546
CREATED:20251103T121817Z
LAST-MODIFIED:20251110T182223Z
UID:7050-1762948800-1762952400@piersonlibrary.org
SUMMARY:Noontime Poetry Reading Society
DESCRIPTION:Get a heaping helping of poetics this poetry month and join the hippest happening in Chittenden County–the Noontime Poetry Reading Society! Every Wednesday during the lunch hour\, the hip cats of the NPRS gather to lend their voices to wonderful poetry collections and anthologies\, cold reading aloud through whole books for the first half hour\, then sharing works in progress\, poetic reflections\, and beloved bits of verse for the second. Always\, we end with a take-home writing prompt. Drop-ins and new members welcome!
URL:https://piersonlibrary.org/event/noontime-poetry-reading-society-49/
CATEGORIES:Poetry
ATTACH;FMTTYPE=image/jpeg:https://piersonlibrary.org/wp-content/uploads/2025/08/Noontime-Poetry-scaled.jpg
END:VEVENT
BEGIN:VEVENT
DTSTART;TZID=America/New_York:20251112T140000
DTEND;TZID=America/New_York:20251112T163000
DTSTAMP:20260424T192546
CREATED:20251031T120824Z
LAST-MODIFIED:20251031T120824Z
UID:6999-1762956000-1762965000@piersonlibrary.org
SUMMARY:After School Hangout
DESCRIPTION:Join us on early release day to game\, snack\, and chill with friends! Appropriate for tweens and teens.
URL:https://piersonlibrary.org/event/after-school-hangout-58/
CATEGORIES:After School,Gaming
ATTACH;FMTTYPE=image/jpeg:https://piersonlibrary.org/wp-content/uploads/2024/10/After-School-Hangout-scaled.jpg
END:VEVENT
BEGIN:VEVENT
DTSTART;TZID=America/New_York:20251112T143000
DTEND;TZID=America/New_York:20251112T153000
DTSTAMP:20260424T192546
CREATED:20251031T121504Z
LAST-MODIFIED:20251031T121504Z
UID:7002-1762957800-1762961400@piersonlibrary.org
SUMMARY:Teen Advisory Group
DESCRIPTION:Love to read? Help us build a library collection that truly reflects the interests and ambitions of our community! Assist Katie in finding exciting new publications and recent releases\, identify gaps in our collection\, create eye-catching displays\, and plan events! Snacks provided. Recommended ages 11–15.
URL:https://piersonlibrary.org/event/teen-advisory-group-7/
CATEGORIES:Teen Advisory Group
ATTACH;FMTTYPE=image/jpeg:https://piersonlibrary.org/wp-content/uploads/2024/10/Youth-Advisory-scaled.jpg
END:VEVENT
BEGIN:VEVENT
DTSTART;TZID=America/New_York:20251113T103000
DTEND;TZID=America/New_York:20251113T110000
DTSTAMP:20260424T192546
CREATED:20251031T105226Z
LAST-MODIFIED:20251031T105226Z
UID:6976-1763029800-1763031600@piersonlibrary.org
SUMMARY:Thursday Musical Story Time
DESCRIPTION:Experience the magic of music and storytelling at our weekly musical story time! Join us for an adventure where stories come to life with the power of music. Musician and storyteller Liz Buchanan transports young minds into the world of rhythm\, melody\, and imagination.
URL:https://piersonlibrary.org/event/thursday-musical-story-time-2/
ATTACH;FMTTYPE=image/jpeg:https://piersonlibrary.org/wp-content/uploads/2024/02/Thursday-Storytime-scaled.jpg
END:VEVENT
BEGIN:VEVENT
DTSTART;TZID=America/New_York:20251113T130000
DTEND;TZID=America/New_York:20251113T150000
DTSTAMP:20260424T192546
CREATED:20251031T151946Z
LAST-MODIFIED:20251031T151946Z
UID:7018-1763038800-1763046000@piersonlibrary.org
SUMMARY:Mahjong Playing Society
DESCRIPTION:Join us for a new way to have fun\, make friends\, and build community! Mahjong is a tile-based game of skill\, luck\, and strategy akin to Gin Rummy. Players draw tiles and form melds. We will be joined by Pauline Nolte\, who can instruct players in both Chinese and American mahjong (following the hands and rules developed by the National Mah Jongg League). Whether you’re brand new to the game or an old pro\, find jubilation and community with the Mahjong Playing Society! Call to register at 802-985-5124.
URL:https://piersonlibrary.org/event/mahjong-playing-society-2/
CATEGORIES:Mahjong
ATTACH;FMTTYPE=image/jpeg:https://piersonlibrary.org/wp-content/uploads/2025/09/Mahjong-Playing-Society-scaled.jpg
END:VEVENT
BEGIN:VEVENT
DTSTART;TZID=America/New_York:20251113T180000
DTEND;TZID=America/New_York:20251113T190000
DTSTAMP:20260424T192546
CREATED:20251031T160720Z
LAST-MODIFIED:20251031T160720Z
UID:7028-1763056800-1763060400@piersonlibrary.org
SUMMARY:AI for Everyone: Understanding the Tools Shaping Our World
DESCRIPTION:Join Brandon Tieso\, CFP®\, a local educator and speaker\, for an accessible look at today’s latest artificial intelligence tools. This program cuts through the hype to show how tools like ChatGPT\, Claude\, and Gemini are already shaping daily life and entire professions. Through practical demonstrations\, Brandon will highlight AI’s opportunities\, limitations\, and common concerns. No prior technical knowledge required—just curiosity about how AI is changing our world.
URL:https://piersonlibrary.org/event/ai-for-everyone-understanding-the-tools-shaping-our-world/
CATEGORIES:Artificial Intelligence,Technology
ATTACH;FMTTYPE=image/jpeg:https://piersonlibrary.org/wp-content/uploads/2025/10/AI-for-Everyone-scaled.jpg
END:VEVENT
BEGIN:VEVENT
DTSTART;TZID=America/New_York:20251114T171500
DTEND;TZID=America/New_York:20251114T191500
DTSTAMP:20260424T192546
CREATED:20251031T114908Z
LAST-MODIFIED:20251031T114908Z
UID:6993-1763140500-1763147700@piersonlibrary.org
SUMMARY:Multicultural Movie Night: Vivo
DESCRIPTION:Join us for our next Multicultural Movie Night with a screening of Vivo! Vivo is a one-of-a-kind kinkajou who spends his days making music with his beloved owner\, Andrés\, in Havana. When tragedy strikes\, Vivo sets out on an unforgettable journey to deliver a song—a love letter that Andrés never had the chance to send to his longtime partner\, the famous Marta Sandoval. Along the way\, Vivo teams up with Gabi\, an energetic tween with a style all her own\, and together they discover the power of music\, friendship\, and love that spans any distance. Popcorn and pizza will be provided. Brought to you in partnership with the Shelburne Equity & Diversity Committee. Rated PG/99 minutes.
URL:https://piersonlibrary.org/event/multicultural-movie-night-vivo/
CATEGORIES:Multicultural Movie Night
ATTACH;FMTTYPE=image/jpeg:https://piersonlibrary.org/wp-content/uploads/2025/10/Multicultural-Movie-Night-Vivo-scaled.jpg
END:VEVENT
BEGIN:VEVENT
DTSTART;TZID=America/New_York:20251115T101500
DTEND;TZID=America/New_York:20251115T121500
DTSTAMP:20260424T192546
CREATED:20251031T160916Z
LAST-MODIFIED:20251031T160916Z
UID:7030-1763201700-1763208900@piersonlibrary.org
SUMMARY:Creative Writing Support Group
DESCRIPTION:Find community and encouragement with other writers in our monthly creative writing meet-up! Each session includes a check-in to see where and how everyone’s at with their practice and/or projects\, followed by a generative writing exercise (led either by library staff or outside expert)\, a supportive workshopping of submitted pages (ideally read ahead of session)\, and quiet time for individual creative work in a group writing environment. Newcomers welcome! Call 802-985-5124 and leave your email to claim a spot and get this month’s pages!
URL:https://piersonlibrary.org/event/creative-writing-support-group-10/
CATEGORIES:Creative Writing
ATTACH;FMTTYPE=image/jpeg:https://piersonlibrary.org/wp-content/uploads/2025/02/Creative-Writing-Support-Group-Event-Calendar-scaled.jpg
END:VEVENT
BEGIN:VEVENT
DTSTART;TZID=America/New_York:20251115T103000
DTEND;TZID=America/New_York:20251115T120000
DTSTAMP:20260424T192546
CREATED:20251031T122000Z
LAST-MODIFIED:20251031T122000Z
UID:7004-1763202600-1763208000@piersonlibrary.org
SUMMARY:The Great Puzzle Race!
DESCRIPTION:Love a good jigsaw puzzle? Put your puzzling skills to the test at the great puzzle race! Teams of 2–4 puzzlers compete to complete a 500-piece puzzle in under two hours. Prizes provided for the fastest team! Call to register your team and get a “piece” of the action at 802-985-5124. Recommended for teens and adults.
URL:https://piersonlibrary.org/event/the-great-puzzle-race-4/
CATEGORIES:Puzzles
ATTACH;FMTTYPE=image/jpeg:https://piersonlibrary.org/wp-content/uploads/2025/04/Great-Puzzle-Race-eNewsletter-1-scaled.jpg
END:VEVENT
BEGIN:VEVENT
DTSTART;TZID=America/New_York:20251115T123000
DTEND;TZID=America/New_York:20251115T140000
DTSTAMP:20260424T192546
CREATED:20251031T161101Z
LAST-MODIFIED:20251031T161119Z
UID:7031-1763209800-1763215200@piersonlibrary.org
SUMMARY:Philosophy Book Club: Plato's Apology
DESCRIPTION:By popular demand\, the next book that our coterie of armchair philosophers is set to read is an oldie and a goodie. It’s Plato’s Apology! And we may forgive him. Copies are available at the front desk.
URL:https://piersonlibrary.org/event/philosophy-book-club-platos-apology/
CATEGORIES:Philosophy Book Club,Philosopy
ATTACH;FMTTYPE=image/jpeg:https://piersonlibrary.org/wp-content/uploads/2025/08/Philosophy-Book-Club-scaled.jpg
END:VEVENT
BEGIN:VEVENT
DTSTART;TZID=America/New_York:20251115T150000
DTEND;TZID=America/New_York:20251115T160000
DTSTAMP:20260424T192546
CREATED:20251031T161739Z
LAST-MODIFIED:20251031T161739Z
UID:7032-1763218800-1763222400@piersonlibrary.org
SUMMARY:Making a Mystery
DESCRIPTION:Step into the thrilling world of whodunits with Making a Mystery\, an interactive library event where you help craft a brand-new mystery story from scratch! Join a panel of authors as they guide you through the creative chaos—drawing character names\, professions\, motives\, weapons\, and settings from bags filled with your own ideas. Watch the plot twist and turn as the audience votes on suspects\, sleuths\, and sinister secrets\, all while learning insider tips on mystery writing. Whether you’re a fan of cozy crimes or hard-boiled detectives\, this lively\, hands-on experience promises suspense\, laughter\, and literary inspiration. Come ready to write\, imagine\, and solve the mystery together!
URL:https://piersonlibrary.org/event/making-a-mystery/
CATEGORIES:Mystery
ATTACH;FMTTYPE=image/jpeg:https://piersonlibrary.org/wp-content/uploads/2025/10/Making-a-Mystery-scaled.jpg
END:VEVENT
BEGIN:VEVENT
DTSTART;TZID=America/New_York:20251117T103000
DTEND;TZID=America/New_York:20251117T113000
DTSTAMP:20260424T192546
CREATED:20251031T162406Z
LAST-MODIFIED:20251031T162406Z
UID:7034-1763375400-1763379000@piersonlibrary.org
SUMMARY:Monday Morning Book Club: The Beekeeper of Aleppo
DESCRIPTION:Join us for a discussion of The Beekeeper of Aleppo by Christy Lefteri. Nuri is a beekeeper and his wife\, Afra\, is an artist. They live a peaceful life in the hills of Aleppo until war tears everything apart. Forced to flee their home\, the couple embarks on a harrowing journey through Turkey and Greece toward a new life in Britain. Along the way\, they face unimaginable challenges\, including Afra’s sudden blindness and the emotional toll of displacement. As they travel through a broken world\, their bond is tested and reshaped by grief\, hope\, and resilience. Copies of the book are available at the front desk and new members are welcome!
URL:https://piersonlibrary.org/event/monday-morning-book-club-the-beekeeper-of-aleppo/
CATEGORIES:Book Club
ATTACH;FMTTYPE=image/jpeg:https://piersonlibrary.org/wp-content/uploads/2025/10/Monday-Morning-Book-Club-The-Beekeeper-of-Aleppo-scaled.jpg
END:VEVENT
BEGIN:VEVENT
DTSTART;TZID=America/New_York:20251117T120000
DTEND;TZID=America/New_York:20251117T130000
DTSTAMP:20260424T192546
CREATED:20251031T150523Z
LAST-MODIFIED:20251031T150523Z
UID:7015-1763380800-1763384400@piersonlibrary.org
SUMMARY:Fiber Arts Crafting Hour
DESCRIPTION:Have you got a fiber arts project you’re working on and would enjoy the company of other crafters? Join this crafting hour every Monday to knit\, crochet\, weave\, felt\, embroider\, and socialize! This program officially lasts for one hour\, but if the space is available afterward\, crafters are welcome to stay and socialize!
URL:https://piersonlibrary.org/event/fiber-arts-crafting-hour-3/
CATEGORIES:Fiber Arts
ATTACH;FMTTYPE=image/jpeg:https://piersonlibrary.org/wp-content/uploads/2024/10/Fiber-Arts-Crafting-Circle-1-scaled.jpg
END:VEVENT
BEGIN:VEVENT
DTSTART;TZID=America/New_York:20251118T103000
DTEND;TZID=America/New_York:20251118T110000
DTSTAMP:20260424T192546
CREATED:20251031T104039Z
LAST-MODIFIED:20251031T105356Z
UID:6968-1763461800-1763463600@piersonlibrary.org
SUMMARY:Music & Movement with G-Raph
DESCRIPTION:Musician extraordinaire G-Raph (a.k.a. Raphael Groten) brings weekly kids concerts to the Pierson Library! Raphael’s exuberant music and radiating kindness bring sunshine to every event\, as he plays a variety of original music and familiar classics on a variety of musical instruments. These fun\, high energy mornings are sure to get you and your crew singing\, dancing\, and shaking your sillies out. Come for the music\, leave with a lifted heart!
URL:https://piersonlibrary.org/event/music-movement-with-g-raph-7/
CATEGORIES:Music & Movement
ATTACH;FMTTYPE=image/jpeg:https://piersonlibrary.org/wp-content/uploads/2025/09/G-Raph-1-scaled.jpg
END:VEVENT
BEGIN:VEVENT
DTSTART;TZID=America/New_York:20251118T140000
DTEND;TZID=America/New_York:20251118T160000
DTSTAMP:20260424T192546
CREATED:20251031T162835Z
LAST-MODIFIED:20251031T163038Z
UID:7036-1763474400-1763481600@piersonlibrary.org
SUMMARY:Tech Help Tuesday
DESCRIPTION:Have a tech problem you just can’t figure out? Have an app that’s giving you trouble? Does your smartphone leave you flummoxed? We can help. Book a 30-minute appointment with one of our tech-savvy librarians who can help you tame that tech problem! Call to register at 802-985-5124.
URL:https://piersonlibrary.org/event/tech-help-tuesday-14/
CATEGORIES:Tech Help,Technology
ATTACH;FMTTYPE=image/jpeg:https://piersonlibrary.org/wp-content/uploads/2024/12/Tech-Help-Tuesday-Events-Calendar-2-scaled.jpg
END:VEVENT
END:VCALENDAR