BEGIN:VCALENDAR
VERSION:2.0
PRODID:-//Pierson Library - ECPv6.15.16//NONSGML v1.0//EN
CALSCALE:GREGORIAN
METHOD:PUBLISH
X-WR-CALNAME:Pierson Library
X-ORIGINAL-URL:https://piersonlibrary.org
X-WR-CALDESC:Events for Pierson Library
REFRESH-INTERVAL;VALUE=DURATION:PT1H
X-Robots-Tag:noindex
X-PUBLISHED-TTL:PT1H
BEGIN:VTIMEZONE
TZID:America/New_York
BEGIN:DAYLIGHT
TZOFFSETFROM:-0500
TZOFFSETTO:-0400
TZNAME:EDT
DTSTART:20230312T070000
END:DAYLIGHT
BEGIN:STANDARD
TZOFFSETFROM:-0400
TZOFFSETTO:-0500
TZNAME:EST
DTSTART:20231105T060000
END:STANDARD
BEGIN:DAYLIGHT
TZOFFSETFROM:-0500
TZOFFSETTO:-0400
TZNAME:EDT
DTSTART:20240310T070000
END:DAYLIGHT
BEGIN:STANDARD
TZOFFSETFROM:-0400
TZOFFSETTO:-0500
TZNAME:EST
DTSTART:20241103T060000
END:STANDARD
BEGIN:DAYLIGHT
TZOFFSETFROM:-0500
TZOFFSETTO:-0400
TZNAME:EDT
DTSTART:20250309T070000
END:DAYLIGHT
BEGIN:STANDARD
TZOFFSETFROM:-0400
TZOFFSETTO:-0500
TZNAME:EST
DTSTART:20251102T060000
END:STANDARD
BEGIN:DAYLIGHT
TZOFFSETFROM:-0500
TZOFFSETTO:-0400
TZNAME:EDT
DTSTART:20260308T070000
END:DAYLIGHT
BEGIN:STANDARD
TZOFFSETFROM:-0400
TZOFFSETTO:-0500
TZNAME:EST
DTSTART:20261101T060000
END:STANDARD
END:VTIMEZONE
BEGIN:VEVENT
DTSTART;TZID=America/New_York:20251106T173000
DTEND;TZID=America/New_York:20251106T183000
DTSTAMP:20260424T175207
CREATED:20251031T110637Z
LAST-MODIFIED:20251031T110637Z
UID:6982-1762450200-1762453800@piersonlibrary.org
SUMMARY:Writing Workshop with author Lindsey Stoddard
DESCRIPTION:Writers and aspiring authors grades 4 and up take note! Join us for pizza and an evening writing workshop with Shelburne’s own Lindsey Stoddard! Ask your questions\, get your creativity flowing\, and hone your art through fun writing prompt and exercises. Call to register at 802-985-5124.
URL:https://piersonlibrary.org/event/writing-workshop-with-author-lindsey-stoddard/
CATEGORIES:Writing
ATTACH;FMTTYPE=image/jpeg:https://piersonlibrary.org/wp-content/uploads/2025/10/Lindsey-Stoddard-Writing-Workshop-1-scaled.jpg
END:VEVENT
BEGIN:VEVENT
DTSTART;TZID=America/New_York:20251004T101500
DTEND;TZID=America/New_York:20251004T121500
DTSTAMP:20260424T175207
CREATED:20250922T022533Z
LAST-MODIFIED:20250922T022533Z
UID:6831-1759572900-1759580100@piersonlibrary.org
SUMMARY:Creative Writing Support Group
DESCRIPTION:Whether you’re just beginning your writing journey\, returning to the page after a long hiatus\, or a seasoned writer seeking a creative community\, our Creative Writing Support Group welcomes you. Each session includes a generative writing exercise\, thoughtful discussion\, a friendly workshop\, and quiet communal writing time. This month\, we’re thrilled to welcome Liz Buchanan\, who will guide us through a unique blend of drawing\, writing\, and meditation to spark creativity and reflection. Please RSVP with your email to receive the workshop materials in advance. For questions or to RSVP\, contact the library at 802-985-5124.
URL:https://piersonlibrary.org/event/creative-writing-support-group-9/
CATEGORIES:Creative Writing,Writing
ATTACH;FMTTYPE=image/jpeg:https://piersonlibrary.org/wp-content/uploads/2025/02/Creative-Writing-Support-Group-Event-Calendar-scaled.jpg
END:VEVENT
BEGIN:VEVENT
DTSTART;TZID=America/New_York:20250906T101500
DTEND;TZID=America/New_York:20250906T121500
DTSTAMP:20260424T175207
CREATED:20250824T003025Z
LAST-MODIFIED:20250824T003025Z
UID:6707-1757153700-1757160900@piersonlibrary.org
SUMMARY:Creative Writing Support Group
DESCRIPTION:Find community and encouragement with other writers in our monthly creative writing meet-up! Each session will include a check-in to see where and how everyone’s at with their practice and/or projects\, followed by an in-session generative writing exercise (lead either by library staff or outside expert)\, a supportive workshopping of submitted pages (ideally read ahead of session) and quiet time for individual creative work in a group writing environment. New members welcome! Please call the library at 802-985-5124 and leave your email to claim a spot and get this month’s pages.
URL:https://piersonlibrary.org/event/creative-writing-support-group-8/
CATEGORIES:Writers Group,Writing
ATTACH;FMTTYPE=image/jpeg:https://piersonlibrary.org/wp-content/uploads/2025/02/Creative-Writing-Support-Group-Event-Calendar-scaled.jpg
END:VEVENT
BEGIN:VEVENT
DTSTART;TZID=America/New_York:20250819T191500
DTEND;TZID=America/New_York:20250819T203000
DTSTAMP:20260424T175207
CREATED:20250801T173227Z
LAST-MODIFIED:20250801T173227Z
UID:6571-1755630900-1755635400@piersonlibrary.org
SUMMARY:Choose Your Own Adventure Interactive Reading Party
DESCRIPTION:You’re a middle-aged grandmother\, library assistant\, recently broken up with\, and estranged from your children. You’re working late one night when WHAM! Three sparrows collide with the library’s windows.  What happens next is up to you. Enjoy an interactive\, PG-rated story that includes bird horror\, goopy monsters\, portal journeys\, and former Math teachers. You the audience choose the adventure\, and the writers of this year’s novella unweave the tapestry of adventure!  \n 
URL:https://piersonlibrary.org/event/choose-your-own-adventure-interactive-reading-party-2/
CATEGORIES:Choose Your Own Adventure,Writers Group,Writing
ATTACH;FMTTYPE=image/jpeg:https://piersonlibrary.org/wp-content/uploads/2025/06/Choose-Your-Own-Adventure-Writing-Group-scaled.jpg
END:VEVENT
BEGIN:VEVENT
DTSTART;TZID=America/New_York:20250809T101500
DTEND;TZID=America/New_York:20250809T121500
DTSTAMP:20260424T175207
CREATED:20250801T115144Z
LAST-MODIFIED:20250801T115144Z
UID:6560-1754734500-1754741700@piersonlibrary.org
SUMMARY:Creative Writing Support Group
DESCRIPTION:Whether you’re a beginning writer or an old hand\, find support at our monthly creative writing group. At every session we check where we’re at in our process\, participate in a generative writing exercise\, workshop fresh pages (call in advance to get the latest pages emailed to you)\, and then work together in quiet community on our individual projects. It takes a village\, Shelburne village specifically in this case. Call 802-985-5124 to get the latest pages. 
URL:https://piersonlibrary.org/event/creative-writing-support-group-7/
CATEGORIES:Writers Group,Writing
ATTACH;FMTTYPE=image/jpeg:https://piersonlibrary.org/wp-content/uploads/2025/02/Creative-Writing-Support-Group-Event-Calendar-scaled.jpg
END:VEVENT
BEGIN:VEVENT
DTSTART;TZID=America/New_York:20250618T183000
DTEND;TZID=America/New_York:20250618T203000
DTSTAMP:20260424T175207
CREATED:20250602T133454Z
LAST-MODIFIED:20250602T133454Z
UID:6315-1750271400-1750278600@piersonlibrary.org
SUMMARY:Choose Your Own Adventure Writing Group
DESCRIPTION:It’s back! For six sessions this summer we will gather to plan\, construct\, write and illustrate together a Choose Your Own Adventure style novella using R.A. Montgomery’s Journey Under the Sea as a story map. For this first meeting we will detail the scope of the project\, write the first chapter\, answer any questions\, and play together. It all culminates in a copy of the book you can take home and an interactive reading where the audience can play along.
URL:https://piersonlibrary.org/event/choose-your-own-adventure-writing-group/
CATEGORIES:Creative Writing,Writers Group,Writing
ATTACH;FMTTYPE=image/jpeg:https://piersonlibrary.org/wp-content/uploads/2025/06/Choose-Your-Own-Adventure-Writing-Group-scaled.jpg
END:VEVENT
BEGIN:VEVENT
DTSTART;TZID=America/New_York:20250614T101500
DTEND;TZID=America/New_York:20250614T121500
DTSTAMP:20260424T175207
CREATED:20250602T121819Z
LAST-MODIFIED:20250602T121819Z
UID:6303-1749896100-1749903300@piersonlibrary.org
SUMMARY:Creative Writing Support Group
DESCRIPTION:Whether you’re a beginning writer or an old hand\, find support at our monthly creative writing group. At every session we check in with where we’re at in our process\, we’re lead in a generative writing exercise\, we workshop fresh pages (call in advance to get the latest pages emailed to you)\, and then we work together in quiet community on our individual projects. It takes a village\, Shelburne village specifically in this case. (802) 985-5124 to get the latest pages.
URL:https://piersonlibrary.org/event/creative-writing-support-group-5/
CATEGORIES:Creative Writing,Writers Group,Writing
ATTACH;FMTTYPE=image/jpeg:https://piersonlibrary.org/wp-content/uploads/2025/02/Creative-Writing-Support-Group-Event-Calendar-scaled.jpg
END:VEVENT
BEGIN:VEVENT
DTSTART;TZID=America/New_York:20250515T153000
DTEND;TZID=America/New_York:20250515T163000
DTSTAMP:20260424T175207
CREATED:20250422T210829Z
LAST-MODIFIED:20250422T210829Z
UID:6163-1747323000-1747326600@piersonlibrary.org
SUMMARY:The Next Generation: Celebrating Shelburne's Amazing Teen Authors
DESCRIPTION:Our hometown is a hot spot for literary talent\, and our youth are no exception! Join us to celebrate three esteemed writers who have published books on our shelves before even graduating SCS. Authors Boyken Ferris\, Joe Lunardini\, and Francesca Zidovsky share insight into their writing process and read excerpts from their published work. Stop by to enjoy celebratory snacks and congratulate the next generation of literary stars!
URL:https://piersonlibrary.org/event/the-next-generation-celebrating-shelburnes-amazing-teen-authors/
CATEGORIES:Author Reading,Author Talks,Teens,Writing
ATTACH;FMTTYPE=image/jpeg:https://piersonlibrary.org/wp-content/uploads/2025/04/The-Next-Generation-Event-Calendar-scaled.jpg
END:VEVENT
BEGIN:VEVENT
DTSTART;TZID=America/New_York:20250405T130000
DTEND;TZID=America/New_York:20250405T150000
DTSTAMP:20260424T175207
CREATED:20250330T184334Z
LAST-MODIFIED:20250330T184334Z
UID:6101-1743858000-1743865200@piersonlibrary.org
SUMMARY:Creative Writing Support Group
DESCRIPTION:Whether you write poems\, comics\, lyric essays\, memoirs\, short fiction\, micro-fiction\, dissertations\, novels\, philosophy\, plays\, screenplays\, YouTube content\, vacuum-cleaner manuals\, or are just looking to get started finding your creative writing voice\, this group is for you! Offering careful consideration of your writing babies\, support\, and space to write. Every session begins with a generative writing exercise and ends with time to write together. In the middle we’ll offer thoughts on each other’s work. To access the new pages\, call the Pierson Library at (802) 985-5124 and leave your email address. New members always welcome.
URL:https://piersonlibrary.org/event/creative-writing-support-group-3/
CATEGORIES:Creative Writing,Writers Group,Writing
ATTACH;FMTTYPE=image/jpeg:https://piersonlibrary.org/wp-content/uploads/2025/02/Creative-Writing-Support-Group-Event-Calendar-scaled.jpg
END:VEVENT
BEGIN:VEVENT
DTSTART;TZID=America/New_York:20250308T101500
DTEND;TZID=America/New_York:20250308T121500
DTSTAMP:20260424T175207
CREATED:20250227T225052Z
LAST-MODIFIED:20250228T191143Z
UID:5954-1741428900-1741436100@piersonlibrary.org
SUMMARY:Creative Writing Support Group
DESCRIPTION:Come join our monthly creative writing group to generate work\, solicit feedback\, and gain and give support! Every session begins with a creative writing exercise\, and then we consider one another’s pages. There’s no right or wrong way to write\, it all depends on what you want out of it! Every encounter with your muse is magical. Please call the library at 802-985-5124 and leave your email if you would like to look at the pages we’re reading for this session. We don’t guarantee time to read them in session. Drop-ins are also welcome.
URL:https://piersonlibrary.org/event/creative-writing-support-group-2/
CATEGORIES:Writers Group,Writing
ATTACH;FMTTYPE=image/jpeg:https://piersonlibrary.org/wp-content/uploads/2025/02/Creative-Writing-Support-Group-Event-Calendar-scaled.jpg
END:VEVENT
BEGIN:VEVENT
DTSTART;TZID=America/New_York:20250208T100000
DTEND;TZID=America/New_York:20250208T120000
DTSTAMP:20260424T175207
CREATED:20250125T134505Z
LAST-MODIFIED:20250125T134505Z
UID:5867-1739008800-1739016000@piersonlibrary.org
SUMMARY:Creative Writing Support Group
DESCRIPTION:Want to generate new writing while finding support\, encouragement and readership for existing creative writing projects? Come join this new monthly group. Each session will begin with a writing exercise lead by a local professional and then we will dive into the respectful consideration of a peer’s pre-read pages. For this session we are lead in creative nonfiction exercise by local humorist\, fly-fisherman\, and cherished memoirist Peter Cammann. Phone ahead to register or just drop-in (802) 985-5124. 
URL:https://piersonlibrary.org/event/creative-writing-support-group/
CATEGORIES:Writers Group,Writing
ATTACH;FMTTYPE=image/jpeg:https://piersonlibrary.org/wp-content/uploads/2024/10/Collaborative-Writing-Event-Calendar-scaled.jpg
END:VEVENT
BEGIN:VEVENT
DTSTART;TZID=America/New_York:20250123T153000
DTEND;TZID=America/New_York:20250123T163000
DTSTAMP:20260424T175207
CREATED:20241228T162139Z
LAST-MODIFIED:20241228T162139Z
UID:5762-1737646200-1737649800@piersonlibrary.org
SUMMARY:Writer's Unite!
DESCRIPTION:Writers ages 11-16 gather to hone your writing skills! writers are welcome (but never obligated) to share their work and enjoy an inspiring afternoon with fellow creators. Snacks provided. 
URL:https://piersonlibrary.org/event/writers-unite-6/
CATEGORIES:Tweens & Teens,Writing
ATTACH;FMTTYPE=image/jpeg:https://piersonlibrary.org/wp-content/uploads/2024/10/Writers-Unite-scaled.jpg
END:VEVENT
BEGIN:VEVENT
DTSTART;TZID=America/New_York:20250116T153000
DTEND;TZID=America/New_York:20250116T163000
DTSTAMP:20260424T175207
CREATED:20241228T161949Z
LAST-MODIFIED:20241228T161949Z
UID:5761-1737041400-1737045000@piersonlibrary.org
SUMMARY:Writer's Unite!
DESCRIPTION:Writers ages 11-16 gather to hone your writing skills! writers are welcome (but never obligated) to share their work and enjoy an inspiring afternoon with fellow creators. Snacks provided. 
URL:https://piersonlibrary.org/event/writers-unite-5/
CATEGORIES:Tweens & Teens,Writing
ATTACH;FMTTYPE=image/jpeg:https://piersonlibrary.org/wp-content/uploads/2024/10/Writers-Unite-scaled.jpg
END:VEVENT
BEGIN:VEVENT
DTSTART;TZID=America/New_York:20250111T100000
DTEND;TZID=America/New_York:20250111T120000
DTSTAMP:20260424T175207
CREATED:20241228T170503Z
LAST-MODIFIED:20241228T170535Z
UID:5785-1736589600-1736596800@piersonlibrary.org
SUMMARY:Resolutions: Creative Writing Support Group
DESCRIPTION:Find support to bolster your resolutions this month at the Pierson Library! Creative writers\, beginning and accomplished alike\, come for encouragement and reception at this new writing group. In this first session we will write together\, discuss our work and craft\, and each share something small. The purpose of this group is not to critique\, but rather to encourage. 
URL:https://piersonlibrary.org/event/resolutions-creative-writing-support-group/
CATEGORIES:Writers Group,Writing
ATTACH;FMTTYPE=image/jpeg:https://piersonlibrary.org/wp-content/uploads/2024/10/National-Novel-Writing-Month-scaled.jpg
END:VEVENT
BEGIN:VEVENT
DTSTART;TZID=America/New_York:20250109T153000
DTEND;TZID=America/New_York:20250109T163000
DTSTAMP:20260424T175207
CREATED:20241228T161728Z
LAST-MODIFIED:20241228T161728Z
UID:5760-1736436600-1736440200@piersonlibrary.org
SUMMARY:Writer's Unite!
DESCRIPTION:Writers ages 11-16 gather to hone your writing skills! writers are welcome (but never obligated) to share their work and enjoy an inspiring afternoon with fellow creators. Snacks provided. 
URL:https://piersonlibrary.org/event/writers-unite-4/
CATEGORIES:Tweens & Teens,Writing
ATTACH;FMTTYPE=image/jpeg:https://piersonlibrary.org/wp-content/uploads/2024/10/Writers-Unite-scaled.jpg
END:VEVENT
BEGIN:VEVENT
DTSTART;TZID=America/New_York:20241219T153000
DTEND;TZID=America/New_York:20241219T163000
DTSTAMP:20260424T175207
CREATED:20241111T152624Z
LAST-MODIFIED:20241111T152624Z
UID:5620-1734622200-1734625800@piersonlibrary.org
SUMMARY:Writers Unite!
DESCRIPTION:Writers ages 11-16 gather to hone your writing skills! Writers are welcome (but never obligated) to share their work and enjoy an inspiring afternoon with fellow creators. Snacks provided. No advanced registration is necessary. 
URL:https://piersonlibrary.org/event/writers-unite-3/
CATEGORIES:Teens,Tweens & Teens,Writing
ATTACH;FMTTYPE=image/jpeg:https://piersonlibrary.org/wp-content/uploads/2024/10/Writers-Unite-scaled.jpg
END:VEVENT
BEGIN:VEVENT
DTSTART;TZID=America/New_York:20241205T153000
DTEND;TZID=America/New_York:20241205T163000
DTSTAMP:20260424T175207
CREATED:20241111T152338Z
LAST-MODIFIED:20241111T152338Z
UID:5618-1733412600-1733416200@piersonlibrary.org
SUMMARY:Writers Unite!
DESCRIPTION:Writers ages 11-16 gather to hone your writing skills! Writers are welcome (but never obligated) to share their work and enjoy an inspiring afternoon with fellow creators. Snacks provided. No advanced registration is necessary.
URL:https://piersonlibrary.org/event/writers-unite/
CATEGORIES:Teens,Tweens & Teens,Writing
ATTACH;FMTTYPE=image/jpeg:https://piersonlibrary.org/wp-content/uploads/2024/10/Writers-Unite-scaled.jpg
END:VEVENT
BEGIN:VEVENT
DTSTART;TZID=America/New_York:20241125T140000
DTEND;TZID=America/New_York:20241125T160000
DTSTAMP:20260424T175207
CREATED:20241030T190034Z
LAST-MODIFIED:20241030T190034Z
UID:5585-1732543200-1732550400@piersonlibrary.org
SUMMARY:Write Together for National Novel Writing Month
DESCRIPTION:November is National Novel Writing Month (NaNoWriMo for short). Since 1999\, non-profit NaNoWriMo has been encouraging fledgling and seasoned writers with the challenge of producing a 50\,000-word manuscript in the month of November. Whether you’re officially or privately participating in the challenge or just desire quiet community while crafting\, we’ll be providing space\, tea and coffee for writers throughout the month to sit down\, and share quiet\, writing space together. 
URL:https://piersonlibrary.org/event/write-together-for-national-novel-writing-month-5/
CATEGORIES:Novel Writing Month,Writing
ATTACH;FMTTYPE=image/jpeg:https://piersonlibrary.org/wp-content/uploads/2024/10/National-Novel-Writing-Month-scaled.jpg
END:VEVENT
BEGIN:VEVENT
DTSTART;TZID=America/New_York:20241122T150000
DTEND;TZID=America/New_York:20241122T170000
DTSTAMP:20260424T175207
CREATED:20241030T120639Z
LAST-MODIFIED:20241030T120639Z
UID:5577-1732287600-1732294800@piersonlibrary.org
SUMMARY:Write Together for National Novel Writing Month
DESCRIPTION:November is National Novel Writing Month (NaNoWriMo for short). Since 1999\, non-profit NaNoWriMo has been encouraging fledgling and seasoned writers with the challenge of producing a 50\,000-word manuscript in the month of November. Whether you’re officially or privately participating in the challenge or just desire quiet community while crafting\, we’ll be providing space\, tea and coffee for writers throughout the month to sit down\, and share quiet\, writing space together. 
URL:https://piersonlibrary.org/event/write-together-for-national-novel-writing-month-4/
CATEGORIES:Novel Writing Month,Writing
ATTACH;FMTTYPE=image/jpeg:https://piersonlibrary.org/wp-content/uploads/2024/10/National-Novel-Writing-Month-scaled.jpg
END:VEVENT
BEGIN:VEVENT
DTSTART;TZID=America/New_York:20241118T080000
DTEND;TZID=America/New_York:20241118T100000
DTSTAMP:20260424T175207
CREATED:20241030T120547Z
LAST-MODIFIED:20241030T120547Z
UID:5576-1731916800-1731924000@piersonlibrary.org
SUMMARY:Write Together for National Novel Writing Month
DESCRIPTION:November is National Novel Writing Month (NaNoWriMo for short). Since 1999\, non-profit NaNoWriMo has been encouraging fledgling and seasoned writers with the challenge of producing a 50\,000-word manuscript in the month of November. Whether you’re officially or privately participating in the challenge or just desire quiet community while crafting\, we’ll be providing space\, tea and coffee for writers throughout the month to sit down\, and share quiet\, writing space together. 
URL:https://piersonlibrary.org/event/write-together-for-national-novel-writing-month-3/
CATEGORIES:Novel Writing Month,Writing
ATTACH;FMTTYPE=image/jpeg:https://piersonlibrary.org/wp-content/uploads/2024/10/National-Novel-Writing-Month-scaled.jpg
END:VEVENT
BEGIN:VEVENT
DTSTART;TZID=America/New_York:20241116T080000
DTEND;TZID=America/New_York:20241116T100000
DTSTAMP:20260424T175207
CREATED:20241030T120432Z
LAST-MODIFIED:20241102T192426Z
UID:5575-1731744000-1731751200@piersonlibrary.org
SUMMARY:Write Together for National Novel Writing Month
DESCRIPTION:November is National Novel Writing Month (NaNoWriMo for short). Since 1999\, non-profit NaNoWriMo has been encouraging fledgling and seasoned writers with the challenge of producing a 50\,000-word manuscript in the month of November. Whether you’re officially or privately participating in the challenge or just desire quiet community while crafting\, we’ll be providing space\, tea and coffee for writers throughout the month to sit down\, and share quiet\, writing space together. 
URL:https://piersonlibrary.org/event/write-together-for-national-novel-writing-month-2/
CATEGORIES:Novel Writing Month,Writing
ATTACH;FMTTYPE=image/jpeg:https://piersonlibrary.org/wp-content/uploads/2024/10/National-Novel-Writing-Month-scaled.jpg
END:VEVENT
BEGIN:VEVENT
DTSTART;TZID=America/New_York:20241108T090000
DTEND;TZID=America/New_York:20241108T110000
DTSTAMP:20260424T175207
CREATED:20241030T120303Z
LAST-MODIFIED:20241030T120303Z
UID:5573-1731056400-1731063600@piersonlibrary.org
SUMMARY:Write Together for National Novel Writing Month
DESCRIPTION:November is National Novel Writing Month (NaNoWriMo for short). Since 1999\, non-profit NaNoWriMo has been encouraging fledgling and seasoned writers with the challenge of producing a 50\,000-word manuscript in the month of November. Whether you’re officially or privately participating in the challenge or just desire quiet community while crafting\, we’ll be providing space\, tea and coffee for writers throughout the month to sit down\, and share quiet\, writing space together. 
URL:https://piersonlibrary.org/event/write-together-for-national-novel-writing-month/
CATEGORIES:Novel Writing Month,Writing
ATTACH;FMTTYPE=image/jpeg:https://piersonlibrary.org/wp-content/uploads/2024/10/National-Novel-Writing-Month-scaled.jpg
END:VEVENT
BEGIN:VEVENT
DTSTART;TZID=America/New_York:20241104T180000
DTEND;TZID=America/New_York:20241104T193000
DTSTAMP:20260424T175207
CREATED:20241030T113856Z
LAST-MODIFIED:20241030T113856Z
UID:5566-1730743200-1730748600@piersonlibrary.org
SUMMARY:Creative Collaborations Writing Workshop
DESCRIPTION:To supplement\, encourage and inspire all the November writing going on\, we’re hosting a fun evening of creative writing collaborations\, party writing games\, and pass arounds! While creative writing can be precious (at times necessarily so!) feel free to cut loose and give into the pure duendes\, muses\, accidents and happenstances of inspiration. Get those creative juices flowing in a fun\, safe\, non-judgmental community space. 
URL:https://piersonlibrary.org/event/creative-collaborations-writing-workshop-2/
CATEGORIES:Writing
ATTACH;FMTTYPE=image/jpeg:https://piersonlibrary.org/wp-content/uploads/2024/10/Collaborative-Writing-Event-Calendar-scaled.jpg
END:VEVENT
BEGIN:VEVENT
DTSTART;TZID=America/New_York:20240626T183000
DTEND;TZID=America/New_York:20240626T200000
DTSTAMP:20260424T175207
CREATED:20240604T152847Z
LAST-MODIFIED:20240604T152847Z
UID:5158-1719426600-1719432000@piersonlibrary.org
SUMMARY:Choose Your Own Adventure Writing Group (Summer Reading Program)
DESCRIPTION:This group is for writers fresh and seasoned alike\, to gather for the creative collaboration of a Choose Your Own Adventure style book to be distributed by the end of this year’s Summer Reading Program (8/17). We will borrow the story map of Edward Packer’s Cave of Time for our structure. In this first meeting\, we’ll do some ice breakers\, writing warm-ups\, decide on a premise\, and assign pages.
URL:https://piersonlibrary.org/event/choose-your-own-adventure-writing-group-summer-reading-program/
LOCATION:Pierson Library\, 5376 Shelburne Rd.\, Shelburne\, VT\, 05482\, United States
CATEGORIES:Writers Group,Writing
ATTACH;FMTTYPE=image/jpeg:https://piersonlibrary.org/wp-content/uploads/2024/06/dariusz-sankowski-3OiYMgDKJ6k-unsplash-scaled.jpg
END:VEVENT
BEGIN:VEVENT
DTSTART;TZID=America/New_York:20240403T183000
DTEND;TZID=America/New_York:20240403T200000
DTSTAMP:20260424T175207
CREATED:20240401T043246Z
LAST-MODIFIED:20240403T214654Z
UID:4909-1712169000-1712174400@piersonlibrary.org
SUMMARY:Creative Collaborations Writing Workshop 
DESCRIPTION:Whether you’re a beginning writer working on your practice or a seasoned wordsmith\, something magical happens when we collaborate. Lacunas of possibility open before us and we’re shocked into our writing’s present! This new writer’s workshop promises to be a fun\, engaging\, and generative evening of prompts\, experiments\, and communal play. No registration required.   \n  
URL:https://piersonlibrary.org/event/creative-collaborations-writing-workshop/
LOCATION:Pierson Library\, 5376 Shelburne Rd.\, Shelburne\, VT\, 05482\, United States
CATEGORIES:Writing
ATTACH;FMTTYPE=image/jpeg:https://piersonlibrary.org/wp-content/uploads/2024/04/Writing-Workshop-scaled.jpg
END:VEVENT
BEGIN:VEVENT
DTSTART;TZID=America/New_York:20240312T183000
DTEND;TZID=America/New_York:20240312T193000
DTSTAMP:20260424T175207
CREATED:20240227T050609Z
LAST-MODIFIED:20240227T051409Z
UID:4744-1710268200-1710271800@piersonlibrary.org
SUMMARY:Writers Studio: A Partnership with the Charlotte\, Pierson\, & Carpenter-Carse Libraries
DESCRIPTION:Exercise your writing skills in a supportive writing session with award-winning writer and editor Geoffrey Gevalt of Hinesburg. The third session of the series will take place at the Pierson Library.
URL:https://piersonlibrary.org/event/writers-studio-a-partnership-with-the-charlotte-pierson-carpenter-carse-libraries/
LOCATION:Pierson Library\, 5376 Shelburne Rd.\, Shelburne\, VT\, 05482\, United States
CATEGORIES:Writing
ATTACH;FMTTYPE=image/jpeg:https://piersonlibrary.org/wp-content/uploads/2024/02/Writers-Studio-scaled.jpg
END:VEVENT
BEGIN:VEVENT
DTSTART;TZID=America/New_York:20240220T063000
DTEND;TZID=America/New_York:20240220T193000
DTSTAMP:20260424T175207
CREATED:20240201T192803Z
LAST-MODIFIED:20240201T193449Z
UID:4417-1708410600-1708457400@piersonlibrary.org
SUMMARY:Writers Studio: A Partnership with the Charlotte\, Pierson\, & Carpenter-Carse Libraries (offsite)
DESCRIPTION:Exercise your writing skills in a supportive writing session with award-winning writer and editor Geoffrey Gevalt of Hinesburg. The second session of the series will take place at the Carpenter Carse Library\, located at 69 Ballards Corner Road Hinesburg\, VT 05461.
URL:https://piersonlibrary.org/event/writers-studio-a-partnership-with-the-charlotte-pierson-carpenter-carse-libraries-offsite/
CATEGORIES:Writing
ATTACH;FMTTYPE=image/jpeg:https://piersonlibrary.org/wp-content/uploads/2024/02/Writers-Circle.jpg
END:VEVENT
END:VCALENDAR