BEGIN:VCALENDAR
VERSION:2.0
PRODID:-//Pierson Library - ECPv6.15.16//NONSGML v1.0//EN
CALSCALE:GREGORIAN
METHOD:PUBLISH
X-ORIGINAL-URL:https://piersonlibrary.org
X-WR-CALDESC:Events for Pierson Library
REFRESH-INTERVAL;VALUE=DURATION:PT1H
X-Robots-Tag:noindex
X-PUBLISHED-TTL:PT1H
BEGIN:VTIMEZONE
TZID:America/New_York
BEGIN:DAYLIGHT
TZOFFSETFROM:-0500
TZOFFSETTO:-0400
TZNAME:EDT
DTSTART:20240310T070000
END:DAYLIGHT
BEGIN:STANDARD
TZOFFSETFROM:-0400
TZOFFSETTO:-0500
TZNAME:EST
DTSTART:20241103T060000
END:STANDARD
BEGIN:DAYLIGHT
TZOFFSETFROM:-0500
TZOFFSETTO:-0400
TZNAME:EDT
DTSTART:20250309T070000
END:DAYLIGHT
BEGIN:STANDARD
TZOFFSETFROM:-0400
TZOFFSETTO:-0500
TZNAME:EST
DTSTART:20251102T060000
END:STANDARD
BEGIN:DAYLIGHT
TZOFFSETFROM:-0500
TZOFFSETTO:-0400
TZNAME:EDT
DTSTART:20260308T070000
END:DAYLIGHT
BEGIN:STANDARD
TZOFFSETFROM:-0400
TZOFFSETTO:-0500
TZNAME:EST
DTSTART:20261101T060000
END:STANDARD
END:VTIMEZONE
BEGIN:VEVENT
DTSTART;TZID=America/New_York:20251004T101500
DTEND;TZID=America/New_York:20251004T121500
DTSTAMP:20260424T195807
CREATED:20250922T022533Z
LAST-MODIFIED:20250922T022533Z
UID:6831-1759572900-1759580100@piersonlibrary.org
SUMMARY:Creative Writing Support Group
DESCRIPTION:Whether you’re just beginning your writing journey\, returning to the page after a long hiatus\, or a seasoned writer seeking a creative community\, our Creative Writing Support Group welcomes you. Each session includes a generative writing exercise\, thoughtful discussion\, a friendly workshop\, and quiet communal writing time. This month\, we’re thrilled to welcome Liz Buchanan\, who will guide us through a unique blend of drawing\, writing\, and meditation to spark creativity and reflection. Please RSVP with your email to receive the workshop materials in advance. For questions or to RSVP\, contact the library at 802-985-5124.
URL:https://piersonlibrary.org/event/creative-writing-support-group-9/
CATEGORIES:Creative Writing,Writing
ATTACH;FMTTYPE=image/jpeg:https://piersonlibrary.org/wp-content/uploads/2025/02/Creative-Writing-Support-Group-Event-Calendar-scaled.jpg
END:VEVENT
END:VCALENDAR