BEGIN:VCALENDAR
VERSION:2.0
PRODID:-//Pierson Library - ECPv6.15.16//NONSGML v1.0//EN
CALSCALE:GREGORIAN
METHOD:PUBLISH
X-WR-CALNAME:Pierson Library
X-ORIGINAL-URL:https://piersonlibrary.org
X-WR-CALDESC:Events for Pierson Library
REFRESH-INTERVAL;VALUE=DURATION:PT1H
X-Robots-Tag:noindex
X-PUBLISHED-TTL:PT1H
BEGIN:VTIMEZONE
TZID:America/New_York
BEGIN:DAYLIGHT
TZOFFSETFROM:-0500
TZOFFSETTO:-0400
TZNAME:EDT
DTSTART:20250309T070000
END:DAYLIGHT
BEGIN:STANDARD
TZOFFSETFROM:-0400
TZOFFSETTO:-0500
TZNAME:EST
DTSTART:20251102T060000
END:STANDARD
BEGIN:DAYLIGHT
TZOFFSETFROM:-0500
TZOFFSETTO:-0400
TZNAME:EDT
DTSTART:20260308T070000
END:DAYLIGHT
BEGIN:STANDARD
TZOFFSETFROM:-0400
TZOFFSETTO:-0500
TZNAME:EST
DTSTART:20261101T060000
END:STANDARD
BEGIN:DAYLIGHT
TZOFFSETFROM:-0500
TZOFFSETTO:-0400
TZNAME:EDT
DTSTART:20270314T070000
END:DAYLIGHT
BEGIN:STANDARD
TZOFFSETFROM:-0400
TZOFFSETTO:-0500
TZNAME:EST
DTSTART:20271107T060000
END:STANDARD
END:VTIMEZONE
BEGIN:VEVENT
DTSTART;TZID=America/New_York:20260207T130000
DTEND;TZID=America/New_York:20260207T150000
DTSTAMP:20260424T061911
CREATED:20260130T035235Z
LAST-MODIFIED:20260206T222837Z
UID:7322-1770469200-1770476400@piersonlibrary.org
SUMMARY:The Secret Life of Tracks (Offsite at Shelburne Pond)
DESCRIPTION:Due to dangerous predicted wind chills\, this event has been postponed until Saturday\, February 21.
URL:https://piersonlibrary.org/event/the-secret-life-of-tracks-offsite-at-shelburne-pond/
CATEGORIES:Wildlife
ATTACH;FMTTYPE=image/jpeg:https://piersonlibrary.org/wp-content/uploads/2026/01/MLK-Closure-1-scaled.jpg
END:VEVENT
BEGIN:VEVENT
DTSTART;TZID=America/New_York:20260221T130000
DTEND;TZID=America/New_York:20260221T150000
DTSTAMP:20260424T061911
CREATED:20260206T223010Z
LAST-MODIFIED:20260206T223814Z
UID:7388-1771678800-1771686000@piersonlibrary.org
SUMMARY:The Secret Life of Tracks (Offsite at Shelburne Pond)
DESCRIPTION:Ever wonder who’s been wandering through Shelburne’s woods? Join us and the Conservation Task Force on a winter walk with local wildlife tracker Rex Meader and follow the clues animals leave behind! Learn to identify tracks and other signs of the forest’s hidden residents. We’ll meet offsite the walking trails at the H. Laurence Achilles Natural Area at Shelburne Pond (parking is available on Pond Access Road).  If the weather turns too cold or snowy\, we’ll bring the adventure indoors at the library. 
URL:https://piersonlibrary.org/event/the-secret-life-of-tracks-offsite-at-shelburne-pond-2/
CATEGORIES:Nature,Wildlife
ATTACH;FMTTYPE=image/jpeg:https://piersonlibrary.org/wp-content/uploads/2026/01/Wildlife-Tracks-scaled.jpg
END:VEVENT
END:VCALENDAR