BEGIN:VCALENDAR
VERSION:2.0
PRODID:-//Pierson Library - ECPv6.15.16//NONSGML v1.0//EN
CALSCALE:GREGORIAN
METHOD:PUBLISH
X-ORIGINAL-URL:https://piersonlibrary.org
X-WR-CALDESC:Events for Pierson Library
REFRESH-INTERVAL;VALUE=DURATION:PT1H
X-Robots-Tag:noindex
X-PUBLISHED-TTL:PT1H
BEGIN:VTIMEZONE
TZID:America/New_York
BEGIN:DAYLIGHT
TZOFFSETFROM:-0500
TZOFFSETTO:-0400
TZNAME:EDT
DTSTART:20230312T070000
END:DAYLIGHT
BEGIN:STANDARD
TZOFFSETFROM:-0400
TZOFFSETTO:-0500
TZNAME:EST
DTSTART:20231105T060000
END:STANDARD
BEGIN:DAYLIGHT
TZOFFSETFROM:-0500
TZOFFSETTO:-0400
TZNAME:EDT
DTSTART:20240310T070000
END:DAYLIGHT
BEGIN:STANDARD
TZOFFSETFROM:-0400
TZOFFSETTO:-0500
TZNAME:EST
DTSTART:20241103T060000
END:STANDARD
BEGIN:DAYLIGHT
TZOFFSETFROM:-0500
TZOFFSETTO:-0400
TZNAME:EDT
DTSTART:20250309T070000
END:DAYLIGHT
BEGIN:STANDARD
TZOFFSETFROM:-0400
TZOFFSETTO:-0500
TZNAME:EST
DTSTART:20251102T060000
END:STANDARD
END:VTIMEZONE
BEGIN:VEVENT
DTSTART;TZID=America/New_York:20241219T153000
DTEND;TZID=America/New_York:20241219T163000
DTSTAMP:20260419T195620
CREATED:20241111T152624Z
LAST-MODIFIED:20241111T152624Z
UID:5620-1734622200-1734625800@piersonlibrary.org
SUMMARY:Writers Unite!
DESCRIPTION:Writers ages 11-16 gather to hone your writing skills! Writers are welcome (but never obligated) to share their work and enjoy an inspiring afternoon with fellow creators. Snacks provided. No advanced registration is necessary. 
URL:https://piersonlibrary.org/event/writers-unite-3/
CATEGORIES:Teens,Tweens & Teens,Writing
ATTACH;FMTTYPE=image/jpeg:https://piersonlibrary.org/wp-content/uploads/2024/10/Writers-Unite-scaled.jpg
END:VEVENT
BEGIN:VEVENT
DTSTART;TZID=America/New_York:20241218T143000
DTEND;TZID=America/New_York:20241218T153000
DTSTAMP:20260419T195620
CREATED:20241111T153800Z
LAST-MODIFIED:20241111T153800Z
UID:5623-1734532200-1734535800@piersonlibrary.org
SUMMARY:Youth Advisory
DESCRIPTION:Love to read? Help us build a library collection that truly reflects the interests and ambitions of our community! Assist Katie in finding exciting new publications and recent releases\, identify gaps in our collection\, create eye-catching displays\, and plan events! Snacks provided. Recommended for ages 11-15. 
URL:https://piersonlibrary.org/event/youth-advisory-6/
CATEGORIES:Teens,Tweens & Teens,Youth Advisory
ATTACH;FMTTYPE=image/jpeg:https://piersonlibrary.org/wp-content/uploads/2024/10/Youth-Advisory-scaled.jpg
END:VEVENT
BEGIN:VEVENT
DTSTART;TZID=America/New_York:20241218T140000
DTEND;TZID=America/New_York:20241218T163000
DTSTAMP:20260419T195620
CREATED:20241111T152159Z
LAST-MODIFIED:20241111T152159Z
UID:5617-1734530400-1734539400@piersonlibrary.org
SUMMARY:After School Hangout
DESCRIPTION:Join us on early release day to game\, snack\, and chill with friends! Appropriate for tweens and teens. No advanced registration is necessary. \n 
URL:https://piersonlibrary.org/event/after-school-hangout-26/
CATEGORIES:Teens,Tweens & Teens
ATTACH;FMTTYPE=image/jpeg:https://piersonlibrary.org/wp-content/uploads/2024/10/After-School-Hangout-scaled.jpg
END:VEVENT
BEGIN:VEVENT
DTSTART;TZID=America/New_York:20241212T153000
DTEND;TZID=America/New_York:20241212T163000
DTSTAMP:20260419T195620
CREATED:20241111T152507Z
LAST-MODIFIED:20241111T152507Z
UID:5619-1734017400-1734021000@piersonlibrary.org
SUMMARY:Writers Unite!
DESCRIPTION:Writers ages 11-16 gather to hone your writing skills! Writers are welcome (but never obligated) to share their work and enjoy an inspiring afternoon with fellow creators. Snacks provided. No advanced registration is necessary.
URL:https://piersonlibrary.org/event/writers-unite-2/
CATEGORIES:Teens,Tweens & Teens
ATTACH;FMTTYPE=image/jpeg:https://piersonlibrary.org/wp-content/uploads/2024/10/Writers-Unite-scaled.jpg
END:VEVENT
BEGIN:VEVENT
DTSTART;TZID=America/New_York:20241211T143000
DTEND;TZID=America/New_York:20241211T153000
DTSTAMP:20260419T195620
CREATED:20241111T153604Z
LAST-MODIFIED:20241111T153604Z
UID:5622-1733927400-1733931000@piersonlibrary.org
SUMMARY:Youth Advisory
DESCRIPTION:Love to read? Help us build a library collection that truly reflects the interests and ambitions of our community! Assist Katie in finding exciting new publications and recent releases\, identify gaps in our collection\, create eye-catching displays\, and plan events! Snacks provided. Recommended for ages 11-15. 
URL:https://piersonlibrary.org/event/youth-advisory-5/
CATEGORIES:Teens,Tweens & Teens,Youth Advisory
ATTACH;FMTTYPE=image/jpeg:https://piersonlibrary.org/wp-content/uploads/2024/10/Youth-Advisory-scaled.jpg
END:VEVENT
BEGIN:VEVENT
DTSTART;TZID=America/New_York:20241211T140000
DTEND;TZID=America/New_York:20241211T160000
DTSTAMP:20260419T195620
CREATED:20241111T152048Z
LAST-MODIFIED:20241111T152048Z
UID:5616-1733925600-1733932800@piersonlibrary.org
SUMMARY:After School Hangout
DESCRIPTION:Join us on early release day to game\, snack\, and chill with friends! Appropriate for tweens and teens. No advanced registration is necessary. \n 
URL:https://piersonlibrary.org/event/after-school-hangout-25/
CATEGORIES:Teens,Tweens & Teens
ATTACH;FMTTYPE=image/jpeg:https://piersonlibrary.org/wp-content/uploads/2024/10/After-School-Hangout-scaled.jpg
END:VEVENT
BEGIN:VEVENT
DTSTART;TZID=America/New_York:20241205T153000
DTEND;TZID=America/New_York:20241205T163000
DTSTAMP:20260419T195620
CREATED:20241111T152338Z
LAST-MODIFIED:20241111T152338Z
UID:5618-1733412600-1733416200@piersonlibrary.org
SUMMARY:Writers Unite!
DESCRIPTION:Writers ages 11-16 gather to hone your writing skills! Writers are welcome (but never obligated) to share their work and enjoy an inspiring afternoon with fellow creators. Snacks provided. No advanced registration is necessary.
URL:https://piersonlibrary.org/event/writers-unite/
CATEGORIES:Teens,Tweens & Teens,Writing
ATTACH;FMTTYPE=image/jpeg:https://piersonlibrary.org/wp-content/uploads/2024/10/Writers-Unite-scaled.jpg
END:VEVENT
BEGIN:VEVENT
DTSTART;TZID=America/New_York:20241204T143000
DTEND;TZID=America/New_York:20241204T153000
DTSTAMP:20260419T195620
CREATED:20241111T153037Z
LAST-MODIFIED:20241111T153037Z
UID:5621-1733322600-1733326200@piersonlibrary.org
SUMMARY:Youth Advisory
DESCRIPTION:Love to read? Help us build a library collection that truly reflects the interests and ambitions of our community! Assist Katie in finding exciting new publications and recent releases\, identify gaps in our collection\, create eye-catching displays\, and plan events! Snacks provided. Recommended for ages 11-15. 
URL:https://piersonlibrary.org/event/youth-advisory-3/
CATEGORIES:Teens,Tweens & Teens,Youth Advisory
ATTACH;FMTTYPE=image/jpeg:https://piersonlibrary.org/wp-content/uploads/2024/10/Youth-Advisory-scaled.jpg
END:VEVENT
BEGIN:VEVENT
DTSTART;TZID=America/New_York:20241204T140000
DTEND;TZID=America/New_York:20241204T163000
DTSTAMP:20260419T195620
CREATED:20241111T151747Z
LAST-MODIFIED:20241111T151747Z
UID:5613-1733320800-1733329800@piersonlibrary.org
SUMMARY:After School Hangout
DESCRIPTION:Join us on early release day to game\, snack\, and chill with friends! Appropriate for tweens and teens. No advanced registration is necessary.  \n 
URL:https://piersonlibrary.org/event/after-school-hangout-24/
CATEGORIES:Teens,Tweens & Teens
ATTACH;FMTTYPE=image/jpeg:https://piersonlibrary.org/wp-content/uploads/2024/10/After-School-Hangout-scaled.jpg
END:VEVENT
BEGIN:VEVENT
DTSTART;TZID=America/New_York:20241120T143000
DTEND;TZID=America/New_York:20241120T153000
DTSTAMP:20260419T195620
CREATED:20241030T034621Z
LAST-MODIFIED:20241030T034621Z
UID:5533-1732113000-1732116600@piersonlibrary.org
SUMMARY:Youth Advisory
DESCRIPTION:Love to read? Help us build a library collection that truly reflects the interests and ambitions of our community! Assist Katie in finding exciting new publications and recent releases\, identify gaps in our collection\, create eye-catching displays\, and plan events! Snacks provided. Recommended ages 11-15 
URL:https://piersonlibrary.org/event/youth-advisory-4/
CATEGORIES:Tweens & Teens
ATTACH;FMTTYPE=image/jpeg:https://piersonlibrary.org/wp-content/uploads/2024/10/Youth-Advisory-scaled.jpg
END:VEVENT
BEGIN:VEVENT
DTSTART;TZID=America/New_York:20241120T140000
DTEND;TZID=America/New_York:20241120T163000
DTSTAMP:20260419T195620
CREATED:20241030T033909Z
LAST-MODIFIED:20241030T033909Z
UID:5530-1732111200-1732120200@piersonlibrary.org
SUMMARY:After School Hangout
DESCRIPTION:Join us on early release day to game\, snack\, and chill with friends! Appropriate for tweens and teens. No advanced registration is necessary. 
URL:https://piersonlibrary.org/event/after-school-hangout-23/
CATEGORIES:Tweens & Teens
ATTACH;FMTTYPE=image/jpeg:https://piersonlibrary.org/wp-content/uploads/2024/10/After-School-Hangout-scaled.jpg
END:VEVENT
BEGIN:VEVENT
DTSTART;TZID=America/New_York:20241113T140000
DTEND;TZID=America/New_York:20241113T163000
DTSTAMP:20260419T195620
CREATED:20241030T033655Z
LAST-MODIFIED:20241030T033655Z
UID:5529-1731506400-1731515400@piersonlibrary.org
SUMMARY:After School Hangout
DESCRIPTION:Join us on early release day to game\, snack\, and chill with friends! Appropriate for tweens and teens. No advanced registration is necessary. 
URL:https://piersonlibrary.org/event/after-school-hangout-22/
CATEGORIES:Tweens & Teens
ATTACH;FMTTYPE=image/jpeg:https://piersonlibrary.org/wp-content/uploads/2024/10/After-School-Hangout-scaled.jpg
END:VEVENT
BEGIN:VEVENT
DTSTART;TZID=America/New_York:20241107T153000
DTEND;TZID=America/New_York:20241107T163000
DTSTAMP:20260419T195620
CREATED:20241030T035949Z
LAST-MODIFIED:20241030T035949Z
UID:5534-1730993400-1730997000@piersonlibrary.org
SUMMARY:Writers Unite! Creative Writing for Teens (ages 11-15)
DESCRIPTION:Writers ages 11-16 gather to hone your writing skills! writers are welcome (but never obligated) to share their work and enjoy an inspiring afternoon with fellow creators. Snacks provided. 
URL:https://piersonlibrary.org/event/writers-unite-creative-writing-for-teens-ages-11-15/
CATEGORIES:Tweens & Teens
ATTACH;FMTTYPE=image/jpeg:https://piersonlibrary.org/wp-content/uploads/2024/10/Writers-Unite-scaled.jpg
END:VEVENT
BEGIN:VEVENT
DTSTART;TZID=America/New_York:20241106T143000
DTEND;TZID=America/New_York:20241106T153000
DTSTAMP:20260419T195620
CREATED:20241030T034246Z
LAST-MODIFIED:20241030T034246Z
UID:5531-1730903400-1730907000@piersonlibrary.org
SUMMARY:Youth Advisory
DESCRIPTION:Love to read? Help us build a library collection that truly reflects the interests and ambitions of our community! Assist Katie in finding exciting new publications and recent releases\, identify gaps in our collection\, create eye-catching displays\, and plan events! Snacks provided. Recommended ages 11-15 
URL:https://piersonlibrary.org/event/youth-advisory-2/
CATEGORIES:Tweens & Teens
ATTACH;FMTTYPE=image/jpeg:https://piersonlibrary.org/wp-content/uploads/2024/10/Youth-Advisory-scaled.jpg
END:VEVENT
BEGIN:VEVENT
DTSTART;TZID=America/New_York:20241106T140000
DTEND;TZID=America/New_York:20241106T163000
DTSTAMP:20260419T195620
CREATED:20241030T033603Z
LAST-MODIFIED:20241030T033603Z
UID:5528-1730901600-1730910600@piersonlibrary.org
SUMMARY:After School Hangout
DESCRIPTION:Join us on early release day to game\, snack\, and chill with friends! Appropriate for tweens and teens. No advanced registration is necessary. 
URL:https://piersonlibrary.org/event/after-school-hangout-21/
CATEGORIES:Tweens & Teens
ATTACH;FMTTYPE=image/jpeg:https://piersonlibrary.org/wp-content/uploads/2024/10/After-School-Hangout-scaled.jpg
END:VEVENT
BEGIN:VEVENT
DTSTART;TZID=America/New_York:20241016T143000
DTEND;TZID=America/New_York:20241016T153000
DTSTAMP:20260419T195620
CREATED:20241004T154844Z
LAST-MODIFIED:20241004T155337Z
UID:5403-1729089000-1729092600@piersonlibrary.org
SUMMARY:Youth Advisory
DESCRIPTION:Love to read? Help us build a library collection that truly reflects the interests and ambitions of our community! Assist Katie in finding exciting new publications and recent releases\, identify gaps in our collection\, create eye-catching displays\, and plan events! Snacks provided. Recommended for ages 11 to 15. 
URL:https://piersonlibrary.org/event/youth-advisory/
CATEGORIES:Teens,Tweens & Teens
ATTACH;FMTTYPE=image/jpeg:https://piersonlibrary.org/wp-content/uploads/2024/10/Youth-Advisory-scaled.jpg
END:VEVENT
BEGIN:VEVENT
DTSTART;TZID=America/New_York:20240626T140000
DTEND;TZID=America/New_York:20240626T160000
DTSTAMP:20260419T195620
CREATED:20240604T030547Z
LAST-MODIFIED:20240604T030547Z
UID:5087-1719410400-1719417600@piersonlibrary.org
SUMMARY:Summer Gamers
DESCRIPTION:School may be over\, but gaming is on at the library! Join us at 2:00pm on Wednesdays for gaming on the PS5 and snacks.
URL:https://piersonlibrary.org/event/summer-gamers-2/
LOCATION:Pierson Library\, 5376 Shelburne Rd.\, Shelburne\, VT\, 05482\, United States
CATEGORIES:Gaming,Tweens & Teens
ATTACH;FMTTYPE=image/jpeg:https://piersonlibrary.org/wp-content/uploads/2024/06/cash-macanaya-k4c5V15zf-4-unsplash-scaled.jpg
END:VEVENT
BEGIN:VEVENT
DTSTART;TZID=America/New_York:20240612T140000
DTEND;TZID=America/New_York:20240612T163000
DTSTAMP:20260419T195620
CREATED:20240604T025739Z
LAST-MODIFIED:20240604T025739Z
UID:5083-1718200800-1718209800@piersonlibrary.org
SUMMARY:After School Hangout
DESCRIPTION:Join us on early release day to game\, snack\, and chill with friends!
URL:https://piersonlibrary.org/event/after-school-hangout-16/
LOCATION:Pierson Library\, 5376 Shelburne Rd.\, Shelburne\, VT\, 05482\, United States
CATEGORIES:Gaming,Tweens & Teens
ATTACH;FMTTYPE=image/jpeg:https://piersonlibrary.org/wp-content/uploads/2024/02/hannah-rodrigo-mf_3yZnC6ug-unsplash-1-scaled.jpg
END:VEVENT
BEGIN:VEVENT
DTSTART;TZID=America/New_York:20240605T140000
DTEND;TZID=America/New_York:20240605T163000
DTSTAMP:20260419T195620
CREATED:20240604T025445Z
LAST-MODIFIED:20240604T025445Z
UID:5081-1717596000-1717605000@piersonlibrary.org
SUMMARY:After School Hangout
DESCRIPTION:Join us on early release day to game\, snack\, and chill with friends!
URL:https://piersonlibrary.org/event/after-school-hangout-15/
LOCATION:Pierson Library\, 5376 Shelburne Rd.\, Shelburne\, VT\, 05482\, United States
CATEGORIES:Gaming,Tweens & Teens
ATTACH;FMTTYPE=image/jpeg:https://piersonlibrary.org/wp-content/uploads/2024/02/hannah-rodrigo-mf_3yZnC6ug-unsplash-1-scaled.jpg
END:VEVENT
BEGIN:VEVENT
DTSTART;TZID=America/New_York:20240529T140000
DTEND;TZID=America/New_York:20240529T163000
DTSTAMP:20260419T195620
CREATED:20240428T162620Z
LAST-MODIFIED:20240428T162620Z
UID:5047-1716991200-1717000200@piersonlibrary.org
SUMMARY:After School Hangout 
DESCRIPTION:Join us on early release day to game\, snack\, and chill with friends! Appropriate for tweens and teens. No advanced registration is necessary.
URL:https://piersonlibrary.org/event/after-school-hangout-14/
LOCATION:Pierson Library\, 5376 Shelburne Rd.\, Shelburne\, VT\, 05482\, United States
CATEGORIES:Gaming,Tweens & Teens
ATTACH;FMTTYPE=image/jpeg:https://piersonlibrary.org/wp-content/uploads/2024/02/hannah-rodrigo-mf_3yZnC6ug-unsplash-1-scaled.jpg
END:VEVENT
BEGIN:VEVENT
DTSTART;TZID=America/New_York:20240522T140000
DTEND;TZID=America/New_York:20240522T163000
DTSTAMP:20260419T195620
CREATED:20240428T162438Z
LAST-MODIFIED:20240428T162438Z
UID:5046-1716386400-1716395400@piersonlibrary.org
SUMMARY:After School Hangout 
DESCRIPTION:Join us on early release day to game\, snack\, and chill with friends! Appropriate for tweens and teens. No advanced registration is necessary.
URL:https://piersonlibrary.org/event/after-school-hangout-13/
LOCATION:Pierson Library\, 5376 Shelburne Rd.\, Shelburne\, VT\, 05482\, United States
CATEGORIES:Gaming,Tweens & Teens
ATTACH;FMTTYPE=image/jpeg:https://piersonlibrary.org/wp-content/uploads/2024/02/hannah-rodrigo-mf_3yZnC6ug-unsplash-1-scaled.jpg
END:VEVENT
BEGIN:VEVENT
DTSTART;TZID=America/New_York:20240515T143000
DTEND;TZID=America/New_York:20240515T163000
DTSTAMP:20260419T195620
CREATED:20240428T163128Z
LAST-MODIFIED:20240428T163128Z
UID:5049-1715783400-1715790600@piersonlibrary.org
SUMMARY:Youth Book Advisory 
DESCRIPTION:Love to read? Help us build a library collection that truly reflects the interests and ambitions of our community! Assist Katie in finding exciting new publications and recent releases\, identify gaps in our collection\, and create eye-catching displays of recommended reads. Snacks provided. Recommended for ages 11-15. Interested? Email Kate Bosley @ kbosley@shelburnevt.org.
URL:https://piersonlibrary.org/event/youth-book-advisory-8/
LOCATION:Pierson Library\, 5376 Shelburne Rd.\, Shelburne\, VT\, 05482\, United States
CATEGORIES:Tweens & Teens
ATTACH;FMTTYPE=image/jpeg:https://piersonlibrary.org/wp-content/uploads/2024/02/seven-shooter-hPKTYwJ4FUo-unsplash-1-scaled.jpg
END:VEVENT
BEGIN:VEVENT
DTSTART;TZID=America/New_York:20240515T140000
DTEND;TZID=America/New_York:20240515T163000
DTSTAMP:20260419T195620
CREATED:20240428T162135Z
LAST-MODIFIED:20240428T162135Z
UID:5045-1715781600-1715790600@piersonlibrary.org
SUMMARY:After School Hangout 
DESCRIPTION:Join us on early release day to game\, snack\, and chill with friends! Appropriate for tweens and teens. No advanced registration is necessary.
URL:https://piersonlibrary.org/event/after-school-hangout-12/
LOCATION:Pierson Library\, 5376 Shelburne Rd.\, Shelburne\, VT\, 05482\, United States
CATEGORIES:Gaming,Tweens & Teens
ATTACH;FMTTYPE=image/jpeg:https://piersonlibrary.org/wp-content/uploads/2024/02/hannah-rodrigo-mf_3yZnC6ug-unsplash-1-scaled.jpg
END:VEVENT
BEGIN:VEVENT
DTSTART;TZID=America/New_York:20240508T140000
DTEND;TZID=America/New_York:20240508T163000
DTSTAMP:20260419T195620
CREATED:20240428T161817Z
LAST-MODIFIED:20240428T161817Z
UID:5044-1715176800-1715185800@piersonlibrary.org
SUMMARY:After School Hangout 
DESCRIPTION:Join us on early release day to game\, snack\, and chill with friends! Appropriate for tweens and teens. No advanced registration is necessary.
URL:https://piersonlibrary.org/event/after-school-hangout-11/
LOCATION:Pierson Library\, 5376 Shelburne Rd.\, Shelburne\, VT\, 05482\, United States
CATEGORIES:Gaming,Tweens & Teens
ATTACH;FMTTYPE=image/jpeg:https://piersonlibrary.org/wp-content/uploads/2024/02/hannah-rodrigo-mf_3yZnC6ug-unsplash-1-scaled.jpg
END:VEVENT
BEGIN:VEVENT
DTSTART;TZID=America/New_York:20240501T143000
DTEND;TZID=America/New_York:20240501T153000
DTSTAMP:20260419T195620
CREATED:20240428T162913Z
LAST-MODIFIED:20240428T162913Z
UID:5048-1714573800-1714577400@piersonlibrary.org
SUMMARY:Youth Book Advisory 
DESCRIPTION:Love to read? Help us build a library collection that truly reflects the interests and ambitions of our community! Assist Katie in finding exciting new publications and recent releases\, identify gaps in our collection\, and create eye-catching displays of recommended reads. Snacks provided. Recommended for ages 11-15. Interested? Email Kate Bosley @ kbosley@shelburnevt.org.
URL:https://piersonlibrary.org/event/youth-book-advisory-7/
LOCATION:Pierson Library\, 5376 Shelburne Rd.\, Shelburne\, VT\, 05482\, United States
CATEGORIES:Tweens & Teens
ATTACH;FMTTYPE=image/jpeg:https://piersonlibrary.org/wp-content/uploads/2024/02/seven-shooter-hPKTYwJ4FUo-unsplash-1-scaled.jpg
END:VEVENT
BEGIN:VEVENT
DTSTART;TZID=America/New_York:20240501T140000
DTEND;TZID=America/New_York:20240501T163000
DTSTAMP:20260419T195620
CREATED:20240428T161559Z
LAST-MODIFIED:20240428T161559Z
UID:5043-1714572000-1714581000@piersonlibrary.org
SUMMARY:After School Hangout 
DESCRIPTION:Join us on early release day to game\, snack\, and chill with friends! Appropriate for tweens and teens. No advanced registration is necessary.  
URL:https://piersonlibrary.org/event/after-school-hangout-10/
LOCATION:Pierson Library\, 5376 Shelburne Rd.\, Shelburne\, VT\, 05482\, United States
CATEGORIES:Tweens & Teens
ATTACH;FMTTYPE=image/jpeg:https://piersonlibrary.org/wp-content/uploads/2024/02/hannah-rodrigo-mf_3yZnC6ug-unsplash-1-scaled.jpg
END:VEVENT
END:VCALENDAR