BEGIN:VCALENDAR
VERSION:2.0
PRODID:-//Pierson Library - ECPv6.15.16//NONSGML v1.0//EN
CALSCALE:GREGORIAN
METHOD:PUBLISH
X-ORIGINAL-URL:https://piersonlibrary.org
X-WR-CALDESC:Events for Pierson Library
REFRESH-INTERVAL;VALUE=DURATION:PT1H
X-Robots-Tag:noindex
X-PUBLISHED-TTL:PT1H
BEGIN:VTIMEZONE
TZID:America/New_York
BEGIN:DAYLIGHT
TZOFFSETFROM:-0500
TZOFFSETTO:-0400
TZNAME:EDT
DTSTART:20240310T070000
END:DAYLIGHT
BEGIN:STANDARD
TZOFFSETFROM:-0400
TZOFFSETTO:-0500
TZNAME:EST
DTSTART:20241103T060000
END:STANDARD
BEGIN:DAYLIGHT
TZOFFSETFROM:-0500
TZOFFSETTO:-0400
TZNAME:EDT
DTSTART:20250309T070000
END:DAYLIGHT
BEGIN:STANDARD
TZOFFSETFROM:-0400
TZOFFSETTO:-0500
TZNAME:EST
DTSTART:20251102T060000
END:STANDARD
BEGIN:DAYLIGHT
TZOFFSETFROM:-0500
TZOFFSETTO:-0400
TZNAME:EDT
DTSTART:20260308T070000
END:DAYLIGHT
BEGIN:STANDARD
TZOFFSETFROM:-0400
TZOFFSETTO:-0500
TZNAME:EST
DTSTART:20261101T060000
END:STANDARD
END:VTIMEZONE
BEGIN:VEVENT
DTSTART;TZID=America/New_York:20250521T143000
DTEND;TZID=America/New_York:20250521T153000
DTSTAMP:20260421T084932
CREATED:20250423T183932Z
LAST-MODIFIED:20250423T183932Z
UID:6173-1747837800-1747841400@piersonlibrary.org
SUMMARY:Youth Advisory
DESCRIPTION:Love to read? Help us build a library collection that truly reflects the interests and ambitions of our community! Assist Katie in finding exciting new publications and recent releases\, identify gaps in our collection\, create eye-catching displays\, and plan events! Snacks provided. Recommended for ages 11-15.
URL:https://piersonlibrary.org/event/youth-advisory-22/
CATEGORIES:Tweens & Teens,Youth Advisory
ATTACH;FMTTYPE=image/jpeg:https://piersonlibrary.org/wp-content/uploads/2024/10/After-School-Hangout-scaled.jpg
END:VEVENT
BEGIN:VEVENT
DTSTART;TZID=America/New_York:20250514T143000
DTEND;TZID=America/New_York:20250514T153000
DTSTAMP:20260421T084932
CREATED:20250423T183706Z
LAST-MODIFIED:20250423T183706Z
UID:6172-1747233000-1747236600@piersonlibrary.org
SUMMARY:Youth Advisory
DESCRIPTION:Love to read? Help us build a library collection that truly reflects the interests and ambitions of our community! Assist Katie in finding exciting new publications and recent releases\, identify gaps in our collection\, create eye-catching displays\, and plan events! Snacks provided. Recommended for ages 11-15.
URL:https://piersonlibrary.org/event/youth-advisory-21/
CATEGORIES:Tweens & Teens,Youth Advisory
ATTACH;FMTTYPE=image/jpeg:https://piersonlibrary.org/wp-content/uploads/2024/10/Youth-Advisory-scaled.jpg
END:VEVENT
BEGIN:VEVENT
DTSTART;TZID=America/New_York:20250514T140000
DTEND;TZID=America/New_York:20250514T163000
DTSTAMP:20260421T084932
CREATED:20250423T174458Z
LAST-MODIFIED:20250423T174458Z
UID:6168-1747231200-1747240200@piersonlibrary.org
SUMMARY:After School Hangout
DESCRIPTION:Join us on early release day to game\, snack\, and chill with friends! Appropriate for tweens and teens. No advance registration is necessary.
URL:https://piersonlibrary.org/event/after-school-hangout-42/
CATEGORIES:Gaming,Tweens & Teens
ATTACH;FMTTYPE=image/jpeg:https://piersonlibrary.org/wp-content/uploads/2024/10/After-School-Hangout-scaled.jpg
END:VEVENT
BEGIN:VEVENT
DTSTART;TZID=America/New_York:20250507T143000
DTEND;TZID=America/New_York:20250507T153000
DTSTAMP:20260421T084933
CREATED:20250423T183407Z
LAST-MODIFIED:20250423T183407Z
UID:6171-1746628200-1746631800@piersonlibrary.org
SUMMARY:Youth Advisory
DESCRIPTION:Love to read? Help us build a library collection that truly reflects the interests and ambitions of our community! Assist Katie in finding exciting new publications and recent releases\, identify gaps in our collection\, create eye-catching displays\, and plan events! Snacks provided. Recommended ages 11-15
URL:https://piersonlibrary.org/event/youth-advisory-20/
CATEGORIES:Tweens & Teens,Youth Advisory
ATTACH;FMTTYPE=image/jpeg:https://piersonlibrary.org/wp-content/uploads/2024/10/Youth-Advisory-scaled.jpg
END:VEVENT
BEGIN:VEVENT
DTSTART;TZID=America/New_York:20250507T140000
DTEND;TZID=America/New_York:20250507T163000
DTSTAMP:20260421T084933
CREATED:20250423T174338Z
LAST-MODIFIED:20250423T174338Z
UID:6167-1746626400-1746635400@piersonlibrary.org
SUMMARY:After School Hangout
DESCRIPTION:Join us on early release day to game\, snack\, and chill with friends! Appropriate for tweens and teens. No advance registration is necessary.
URL:https://piersonlibrary.org/event/after-school-hangout-39/
CATEGORIES:Gaming,Tweens & Teens
ATTACH;FMTTYPE=image/jpeg:https://piersonlibrary.org/wp-content/uploads/2024/10/After-School-Hangout-scaled.jpg
END:VEVENT
BEGIN:VEVENT
DTSTART;TZID=America/New_York:20250430T143000
DTEND;TZID=America/New_York:20250430T153000
DTSTAMP:20260421T084933
CREATED:20250330T160013Z
LAST-MODIFIED:20250422T175009Z
UID:6065-1746023400-1746027000@piersonlibrary.org
SUMMARY:Youth Advisory
DESCRIPTION:Love to read? Help us build a library collection that truly reflects the interests and ambitions of our community! Assist Katie in finding exciting new publications and recent releases\, identify gaps in our collection\, create eye-catching displays\, and plan events! Snacks provided. Recommended for ages 11-15.
URL:https://piersonlibrary.org/event/youth-advisory-19/
CATEGORIES:Tweens & Teens,Youth Advisory
ATTACH;FMTTYPE=image/jpeg:https://piersonlibrary.org/wp-content/uploads/2024/10/Youth-Advisory-scaled.jpg
END:VEVENT
BEGIN:VEVENT
DTSTART;TZID=America/New_York:20250430T140000
DTEND;TZID=America/New_York:20250430T163000
DTSTAMP:20260421T084933
CREATED:20250330T155514Z
LAST-MODIFIED:20250330T155514Z
UID:6062-1746021600-1746030600@piersonlibrary.org
SUMMARY:After School Hangout
DESCRIPTION:Join us on early release day to game\, snack\, and chill with friends! Appropriate for tweens and teens. No advance registration necessary.
URL:https://piersonlibrary.org/event/after-school-hangout-41/
CATEGORIES:Early Release Day,Gaming,Tweens & Teens
ATTACH;FMTTYPE=image/jpeg:https://piersonlibrary.org/wp-content/uploads/2024/10/After-School-Hangout-scaled.jpg
END:VEVENT
BEGIN:VEVENT
DTSTART;TZID=America/New_York:20250416T140000
DTEND;TZID=America/New_York:20250416T163000
DTSTAMP:20260421T084933
CREATED:20250330T155319Z
LAST-MODIFIED:20250330T155319Z
UID:6061-1744812000-1744821000@piersonlibrary.org
SUMMARY:After School Hangout
DESCRIPTION:Join us on early release day to game\, snack\, and chill with friends! Appropriate for tweens and teens. No advance registration necessary.
URL:https://piersonlibrary.org/event/after-school-hangout-40/
CATEGORIES:Early Release Day,Gaming,Tweens & Teens
ATTACH;FMTTYPE=image/jpeg:https://piersonlibrary.org/wp-content/uploads/2024/10/After-School-Hangout-scaled.jpg
END:VEVENT
BEGIN:VEVENT
DTSTART;TZID=America/New_York:20250409T143000
DTEND;TZID=America/New_York:20250409T153000
DTSTAMP:20260421T084933
CREATED:20250330T155833Z
LAST-MODIFIED:20250330T155833Z
UID:6064-1744209000-1744212600@piersonlibrary.org
SUMMARY:Youth Advisory
DESCRIPTION:Love to read? Help us build a library collection that truly reflects the interests and ambitions of our community! Assist Katie in finding exciting new publications and recent releases\, identify gaps in our collection\, create eye-catching displays\, and plan events! Snacks provided. Recommended for ages 11-15.
URL:https://piersonlibrary.org/event/youth-advisory-18/
CATEGORIES:Tweens & Teens,Youth Advisory
ATTACH;FMTTYPE=image/jpeg:https://piersonlibrary.org/wp-content/uploads/2024/10/After-School-Hangout-scaled.jpg
END:VEVENT
BEGIN:VEVENT
DTSTART;TZID=America/New_York:20250402T143000
DTEND;TZID=America/New_York:20250402T153000
DTSTAMP:20260421T084933
CREATED:20250330T155710Z
LAST-MODIFIED:20250330T155710Z
UID:6063-1743604200-1743607800@piersonlibrary.org
SUMMARY:Youth Advisory
DESCRIPTION:Love to read? Help us build a library collection that truly reflects the interests and ambitions of our community! Assist Katie in finding exciting new publications and recent releases\, identify gaps in our collection\, create eye-catching displays\, and plan events! Snacks provided. Recommended for ages 11-15.
URL:https://piersonlibrary.org/event/youth-advisory-17/
CATEGORIES:Tweens & Teens,Youth Advisory
ATTACH;FMTTYPE=image/jpeg:https://piersonlibrary.org/wp-content/uploads/2024/10/Youth-Advisory-scaled.jpg
END:VEVENT
BEGIN:VEVENT
DTSTART;TZID=America/New_York:20250402T140000
DTEND;TZID=America/New_York:20250402T163000
DTSTAMP:20260421T084933
CREATED:20250330T155009Z
LAST-MODIFIED:20250330T155009Z
UID:6059-1743602400-1743611400@piersonlibrary.org
SUMMARY:After School Hangout
DESCRIPTION:Join us on early release day to game\, snack\, and chill with friends! Appropriate for tweens and teens. No advance registration necessary.
URL:https://piersonlibrary.org/event/after-school-hangout-38/
CATEGORIES:Early Release Day,Gaming,Tweens & Teens
ATTACH;FMTTYPE=image/jpeg:https://piersonlibrary.org/wp-content/uploads/2024/10/After-School-Hangout-scaled.jpg
END:VEVENT
BEGIN:VEVENT
DTSTART;TZID=America/New_York:20250326T143000
DTEND;TZID=America/New_York:20250326T153000
DTSTAMP:20260421T084933
CREATED:20250228T134312Z
LAST-MODIFIED:20250228T134347Z
UID:5989-1742999400-1743003000@piersonlibrary.org
SUMMARY:Youth Advisory
DESCRIPTION:Love to read? Help us build a library collection that truly reflects the interests and ambitions of our community! Assist Katie in finding exciting new publications and recent releases\, identify gaps in our collection\, create eye-catching displays\, and plan events! Snacks provided. Recommended ages 11-15.
URL:https://piersonlibrary.org/event/youth-advisory-16/
CATEGORIES:Tweens & Teens,Youth and Family
ATTACH;FMTTYPE=image/jpeg:https://piersonlibrary.org/wp-content/uploads/2024/10/Youth-Advisory-scaled.jpg
END:VEVENT
BEGIN:VEVENT
DTSTART;TZID=America/New_York:20250326T140000
DTEND;TZID=America/New_York:20250326T163000
DTSTAMP:20260421T084933
CREATED:20250228T133749Z
LAST-MODIFIED:20250228T133749Z
UID:5985-1742997600-1743006600@piersonlibrary.org
SUMMARY:After School Hangout
DESCRIPTION:Join us on early release day to game\, snack\, and chill with friends! Appropriate for tweens and teens.
URL:https://piersonlibrary.org/event/after-school-hangout-37/
CATEGORIES:Games,Tweens & Teens
ATTACH;FMTTYPE=image/jpeg:https://piersonlibrary.org/wp-content/uploads/2024/10/After-School-Hangout-scaled.jpg
END:VEVENT
BEGIN:VEVENT
DTSTART;TZID=America/New_York:20250319T143000
DTEND;TZID=America/New_York:20250319T153000
DTSTAMP:20260421T084933
CREATED:20250228T134157Z
LAST-MODIFIED:20250228T134157Z
UID:5988-1742394600-1742398200@piersonlibrary.org
SUMMARY:Youth Advisory
DESCRIPTION:Love to read? Help us build a library collection that truly reflects the interests and ambitions of our community! Assist Katie in finding exciting new publications and recent releases\, identify gaps in our collection\, create eye-catching displays\, and plan events! Snacks provided. Recommended ages 11-15.
URL:https://piersonlibrary.org/event/youth-advisory-15/
CATEGORIES:Tweens & Teens,Youth Advisory
ATTACH;FMTTYPE=image/jpeg:https://piersonlibrary.org/wp-content/uploads/2024/10/Youth-Advisory-scaled.jpg
END:VEVENT
BEGIN:VEVENT
DTSTART;TZID=America/New_York:20250319T140000
DTEND;TZID=America/New_York:20250319T163000
DTSTAMP:20260421T084933
CREATED:20250228T133640Z
LAST-MODIFIED:20250228T133640Z
UID:5984-1742392800-1742401800@piersonlibrary.org
SUMMARY:After School Hangout
DESCRIPTION:Join us on early release day to game\, snack\, and chill with friends! Appropriate for tweens and teens.
URL:https://piersonlibrary.org/event/after-school-hangout-36/
CATEGORIES:Gaming,Tweens & Teens
ATTACH;FMTTYPE=image/jpeg:https://piersonlibrary.org/wp-content/uploads/2024/10/After-School-Hangout-scaled.jpg
END:VEVENT
BEGIN:VEVENT
DTSTART;TZID=America/New_York:20250312T143000
DTEND;TZID=America/New_York:20250312T153000
DTSTAMP:20260421T084933
CREATED:20250228T134030Z
LAST-MODIFIED:20250228T134030Z
UID:5987-1741789800-1741793400@piersonlibrary.org
SUMMARY:Youth Advisory
DESCRIPTION:Love to read? Help us build a library collection that truly reflects the interests and ambitions of our community! Assist Katie in finding exciting new publications and recent releases\, identify gaps in our collection\, create eye-catching displays\, and plan events! Snacks provided. Recommended ages 11-15.
URL:https://piersonlibrary.org/event/youth-advisory-14/
CATEGORIES:Tweens & Teens,Youth Advisory
ATTACH;FMTTYPE=image/jpeg:https://piersonlibrary.org/wp-content/uploads/2024/10/Youth-Advisory-scaled.jpg
END:VEVENT
BEGIN:VEVENT
DTSTART;TZID=America/New_York:20250312T140000
DTEND;TZID=America/New_York:20250312T163000
DTSTAMP:20260421T084933
CREATED:20250228T133541Z
LAST-MODIFIED:20250228T133541Z
UID:5983-1741788000-1741797000@piersonlibrary.org
SUMMARY:After School Hangout
DESCRIPTION:Join us on early release day to game\, snack\, and chill with friends! Appropriate for tweens and teens.
URL:https://piersonlibrary.org/event/after-school-hangout-35/
CATEGORIES:Gaming,Tweens & Teens
ATTACH;FMTTYPE=image/jpeg:https://piersonlibrary.org/wp-content/uploads/2024/10/After-School-Hangout-scaled.jpg
END:VEVENT
BEGIN:VEVENT
DTSTART;TZID=America/New_York:20250308T130000
DTEND;TZID=America/New_York:20250308T170000
DTSTAMP:20260421T084933
CREATED:20250227T161438Z
LAST-MODIFIED:20250227T161438Z
UID:5916-1741438800-1741453200@piersonlibrary.org
SUMMARY:Self Defense Workshop with Kidpower Vermont
DESCRIPTION:Teens and their adults learn a variety of self-defense techniques from Kidpower Vermont Director Laura Slesar. This program is designed to support teens who identify as female\, but open to all who are interested. To register\, call the library at 802-985-5124\, or send an email to kbosley@shelburnevt.org.
URL:https://piersonlibrary.org/event/self-defense-workshop-with-kidpower-vermont/
CATEGORIES:Teens,Tweens & Teens
ATTACH;FMTTYPE=image/jpeg:https://piersonlibrary.org/wp-content/uploads/2025/02/Self-Defense-Event-Calendar-scaled.jpg
END:VEVENT
BEGIN:VEVENT
DTSTART;TZID=America/New_York:20250305T143000
DTEND;TZID=America/New_York:20250305T153000
DTSTAMP:20260421T084933
CREATED:20250228T133901Z
LAST-MODIFIED:20250228T134407Z
UID:5986-1741185000-1741188600@piersonlibrary.org
SUMMARY:Youth Advisory
DESCRIPTION:Love to read? Help us build a library collection that truly reflects the interests and ambitions of our community! Assist Katie in finding exciting new publications and recent releases\, identify gaps in our collection\, create eye-catching displays\, and plan events! Snacks provided. Recommended ages 11-15.
URL:https://piersonlibrary.org/event/youth-advisory-13/
CATEGORIES:Tweens & Teens,Youth and Family
ATTACH;FMTTYPE=image/jpeg:https://piersonlibrary.org/wp-content/uploads/2024/10/Youth-Advisory-scaled.jpg
END:VEVENT
BEGIN:VEVENT
DTSTART;TZID=America/New_York:20250305T140000
DTEND;TZID=America/New_York:20250305T163000
DTSTAMP:20260421T084933
CREATED:20250228T133334Z
LAST-MODIFIED:20250228T133334Z
UID:5982-1741183200-1741192200@piersonlibrary.org
SUMMARY:After School Hangout
DESCRIPTION:Join us on early release day to game\, snack\, and chill with friends! Appropriate for tweens and teens.
URL:https://piersonlibrary.org/event/after-school-hangout-34/
CATEGORIES:Gaming,Tweens & Teens
ATTACH;FMTTYPE=image/jpeg:https://piersonlibrary.org/wp-content/uploads/2024/10/After-School-Hangout-scaled.jpg
END:VEVENT
BEGIN:VEVENT
DTSTART;TZID=America/New_York:20250221T190000
DTEND;TZID=America/New_York:20250221T210000
DTSTAMP:20260421T084933
CREATED:20250125T004752Z
LAST-MODIFIED:20250125T004752Z
UID:5856-1740164400-1740171600@piersonlibrary.org
SUMMARY:Masquerade Ball
DESCRIPTION:Pierson Youth Advisory presents: A Masquerade Ball\, featuring the musical stylings of Shelburne’s own Poutine! Students ages 11-15 are cordially invited to this formal winter event. Fancy dress is encouraged\, and masks will be available to create and wear as part of the evening’s revelry.  \n 
URL:https://piersonlibrary.org/event/masquerade-ball/
CATEGORIES:Dance,Tweens & Teens
ATTACH;FMTTYPE=image/jpeg:https://piersonlibrary.org/wp-content/uploads/2025/01/Masquerade-Ball-Event-Calendar-scaled.jpg
END:VEVENT
BEGIN:VEVENT
DTSTART;TZID=America/New_York:20250219T143000
DTEND;TZID=America/New_York:20250219T153000
DTSTAMP:20260421T084933
CREATED:20250125T003643Z
LAST-MODIFIED:20250125T003643Z
UID:5855-1739975400-1739979000@piersonlibrary.org
SUMMARY:Youth Advisory
DESCRIPTION:Love to read? Help us build a library collection that truly reflects the interests and ambitions of our community! Assist Katie in finding exciting new publications and recent releases\, identify gaps in our collection\, create eye-catching displays\, and plan events! Snacks provided. Recommended ages 11-15. 
URL:https://piersonlibrary.org/event/youth-advisory-12/
CATEGORIES:Tweens & Teens,Youth Advisory
ATTACH;FMTTYPE=image/jpeg:https://piersonlibrary.org/wp-content/uploads/2024/10/Youth-Advisory-scaled.jpg
END:VEVENT
BEGIN:VEVENT
DTSTART;TZID=America/New_York:20250219T140000
DTEND;TZID=America/New_York:20250219T163000
DTSTAMP:20260421T084933
CREATED:20250125T002726Z
LAST-MODIFIED:20250125T002726Z
UID:5850-1739973600-1739982600@piersonlibrary.org
SUMMARY:After School Hangout
DESCRIPTION:Join us on early release day to game\, snack\, and chill with friends! Appropriate for tweens and teens. No advanced registration is necessary.  \n 
URL:https://piersonlibrary.org/event/after-school-hangout-33/
CATEGORIES:Gaming,Tweens & Teens
ATTACH;FMTTYPE=image/jpeg:https://piersonlibrary.org/wp-content/uploads/2024/10/After-School-Hangout-scaled.jpg
END:VEVENT
BEGIN:VEVENT
DTSTART;TZID=America/New_York:20250212T143000
DTEND;TZID=America/New_York:20250212T153000
DTSTAMP:20260421T084933
CREATED:20250125T003457Z
LAST-MODIFIED:20250125T003457Z
UID:5854-1739370600-1739374200@piersonlibrary.org
SUMMARY:Youth Advisory
DESCRIPTION:Love to read? Help us build a library collection that truly reflects the interests and ambitions of our community! Assist Katie in finding exciting new publications and recent releases\, identify gaps in our collection\, create eye-catching displays\, and plan events! Snacks provided. Recommended ages 11-15. 
URL:https://piersonlibrary.org/event/youth-advisory-11/
CATEGORIES:Tweens & Teens,Youth Advisory
ATTACH;FMTTYPE=image/jpeg:https://piersonlibrary.org/wp-content/uploads/2024/10/Youth-Advisory-scaled.jpg
END:VEVENT
BEGIN:VEVENT
DTSTART;TZID=America/New_York:20250212T140000
DTEND;TZID=America/New_York:20250212T163000
DTSTAMP:20260421T084933
CREATED:20250125T002541Z
LAST-MODIFIED:20250125T002541Z
UID:5849-1739368800-1739377800@piersonlibrary.org
SUMMARY:After School Hangout
DESCRIPTION:Join us on early release day to game\, snack\, and chill with friends! Appropriate for tweens and teens. No advanced registration is necessary.  \n 
URL:https://piersonlibrary.org/event/after-school-hangout-32/
CATEGORIES:Gaming,Tweens & Teens
ATTACH;FMTTYPE=image/jpeg:https://piersonlibrary.org/wp-content/uploads/2024/10/After-School-Hangout-scaled.jpg
END:VEVENT
BEGIN:VEVENT
DTSTART;TZID=America/New_York:20250205T143000
DTEND;TZID=America/New_York:20250205T153000
DTSTAMP:20260421T084933
CREATED:20250125T003350Z
LAST-MODIFIED:20250125T003350Z
UID:5851-1738765800-1738769400@piersonlibrary.org
SUMMARY:Youth Advisory
DESCRIPTION:Love to read? Help us build a library collection that truly reflects the interests and ambitions of our community! Assist Katie in finding exciting new publications and recent releases\, identify gaps in our collection\, create eye-catching displays\, and plan events! Snacks provided. Recommended ages 11-15. 
URL:https://piersonlibrary.org/event/youth-advisory-9/
CATEGORIES:Tweens & Teens,Youth Advisory
ATTACH;FMTTYPE=image/jpeg:https://piersonlibrary.org/wp-content/uploads/2024/10/Youth-Advisory-scaled.jpg
END:VEVENT
BEGIN:VEVENT
DTSTART;TZID=America/New_York:20250205T140000
DTEND;TZID=America/New_York:20250205T163000
DTSTAMP:20260421T084933
CREATED:20250125T002308Z
LAST-MODIFIED:20250125T002308Z
UID:5848-1738764000-1738773000@piersonlibrary.org
SUMMARY:After School Hangout
DESCRIPTION:Join us on early release day to game\, snack\, and chill with friends! Appropriate for tweens and teens. No advanced registration is necessary.  \n 
URL:https://piersonlibrary.org/event/after-school-hangout-31/
CATEGORIES:Gaming,Tweens & Teens
ATTACH;FMTTYPE=image/jpeg:https://piersonlibrary.org/wp-content/uploads/2024/10/After-School-Hangout-scaled.jpg
END:VEVENT
BEGIN:VEVENT
DTSTART;TZID=America/New_York:20250130T153000
DTEND;TZID=America/New_York:20250130T163000
DTSTAMP:20260421T084933
CREATED:20241228T162344Z
LAST-MODIFIED:20241228T162344Z
UID:5763-1738251000-1738254600@piersonlibrary.org
SUMMARY:Writer's Unite!
DESCRIPTION:Writers ages 11-16 gather to hone your writing skills! writers are welcome (but never obligated) to share their work and enjoy an inspiring afternoon with fellow creators. Snacks provided. 
URL:https://piersonlibrary.org/event/writers-unite-7/
CATEGORIES:Tweens & Teens,Writers Group
ATTACH;FMTTYPE=image/jpeg:https://piersonlibrary.org/wp-content/uploads/2024/10/Writers-Unite-scaled.jpg
END:VEVENT
BEGIN:VEVENT
DTSTART;TZID=America/New_York:20250129T143000
DTEND;TZID=America/New_York:20250129T153000
DTSTAMP:20260421T084933
CREATED:20241228T161525Z
LAST-MODIFIED:20241228T161525Z
UID:5759-1738161000-1738164600@piersonlibrary.org
SUMMARY:Youth Advisory
DESCRIPTION:Love to read? Help us build a library collection that truly reflects the interests and ambitions of our community! Assist Katie in finding exciting new publications and recent releases\, identify gaps in our collection\, create eye-catching displays\, and plan events! Snacks provided. Recommended ages 11-15.
URL:https://piersonlibrary.org/event/youth-advisory-10/
CATEGORIES:Tweens & Teens,Youth Advisory
ATTACH;FMTTYPE=image/jpeg:https://piersonlibrary.org/wp-content/uploads/2024/10/Youth-Advisory-scaled.jpg
END:VEVENT
BEGIN:VEVENT
DTSTART;TZID=America/New_York:20250129T140000
DTEND;TZID=America/New_York:20250129T163000
DTSTAMP:20260421T084933
CREATED:20241228T160436Z
LAST-MODIFIED:20241228T160436Z
UID:5753-1738159200-1738168200@piersonlibrary.org
SUMMARY:After School Hangout
DESCRIPTION:Join us on early release day to game\, snack\, and chill with friends! Appropriate for tweens and teens. No advanced registration is necessary. 
URL:https://piersonlibrary.org/event/after-school-hangout-30/
CATEGORIES:Gaming,Tweens & Teens
ATTACH;FMTTYPE=image/jpeg:https://piersonlibrary.org/wp-content/uploads/2024/10/After-School-Hangout-scaled.jpg
END:VEVENT
END:VCALENDAR