BEGIN:VCALENDAR
VERSION:2.0
PRODID:-//Pierson Library - ECPv6.15.16//NONSGML v1.0//EN
CALSCALE:GREGORIAN
METHOD:PUBLISH
X-WR-CALNAME:Pierson Library
X-ORIGINAL-URL:https://piersonlibrary.org
X-WR-CALDESC:Events for Pierson Library
REFRESH-INTERVAL;VALUE=DURATION:PT1H
X-Robots-Tag:noindex
X-PUBLISHED-TTL:PT1H
BEGIN:VTIMEZONE
TZID:America/New_York
BEGIN:DAYLIGHT
TZOFFSETFROM:-0500
TZOFFSETTO:-0400
TZNAME:EDT
DTSTART:20250309T070000
END:DAYLIGHT
BEGIN:STANDARD
TZOFFSETFROM:-0400
TZOFFSETTO:-0500
TZNAME:EST
DTSTART:20251102T060000
END:STANDARD
BEGIN:DAYLIGHT
TZOFFSETFROM:-0500
TZOFFSETTO:-0400
TZNAME:EDT
DTSTART:20260308T070000
END:DAYLIGHT
BEGIN:STANDARD
TZOFFSETFROM:-0400
TZOFFSETTO:-0500
TZNAME:EST
DTSTART:20261101T060000
END:STANDARD
BEGIN:DAYLIGHT
TZOFFSETFROM:-0500
TZOFFSETTO:-0400
TZNAME:EDT
DTSTART:20270314T070000
END:DAYLIGHT
BEGIN:STANDARD
TZOFFSETFROM:-0400
TZOFFSETTO:-0500
TZNAME:EST
DTSTART:20271107T060000
END:STANDARD
END:VTIMEZONE
BEGIN:VEVENT
DTSTART;TZID=America/New_York:20260424T140000
DTEND;TZID=America/New_York:20260424T160000
DTSTAMP:20260419T140906
CREATED:20260328T211647Z
LAST-MODIFIED:20260328T211647Z
UID:7645-1777039200-1777046400@piersonlibrary.org
SUMMARY:Community Puzzle Fridays
DESCRIPTION:Drop in and unwind with our Community Puzzle Corner! Each Friday\, a puzzle will be set up on the second floor for anyone to stop by and work on at their own pace. Whether you have five minutes or an hour\, you’re welcome to add a few pieces and help bring the puzzle to life. There’s no registration required\, and you can participate whenever it fits your schedule. Some days you may find others puzzling alongside you\, while other times it may be a quiet solo moment. All ages and skill levels are welcome. Come relax\, focus\, and be part of a shared community creation!
URL:https://piersonlibrary.org/event/community-puzzle-fridays-4/
CATEGORIES:Puzzles
ATTACH;FMTTYPE=image/jpeg:https://piersonlibrary.org/wp-content/uploads/2025/04/Great-Puzzle-Race-eNewsletter-1-scaled.jpg
END:VEVENT
END:VCALENDAR