BEGIN:VCALENDAR
VERSION:2.0
PRODID:-//Pierson Library - ECPv6.15.16//NONSGML v1.0//EN
CALSCALE:GREGORIAN
METHOD:PUBLISH
X-ORIGINAL-URL:https://piersonlibrary.org
X-WR-CALDESC:Events for Pierson Library
REFRESH-INTERVAL;VALUE=DURATION:PT1H
X-Robots-Tag:noindex
X-PUBLISHED-TTL:PT1H
BEGIN:VTIMEZONE
TZID:America/New_York
BEGIN:DAYLIGHT
TZOFFSETFROM:-0500
TZOFFSETTO:-0400
TZNAME:EDT
DTSTART:20250309T070000
END:DAYLIGHT
BEGIN:STANDARD
TZOFFSETFROM:-0400
TZOFFSETTO:-0500
TZNAME:EST
DTSTART:20251102T060000
END:STANDARD
BEGIN:DAYLIGHT
TZOFFSETFROM:-0500
TZOFFSETTO:-0400
TZNAME:EDT
DTSTART:20260308T070000
END:DAYLIGHT
BEGIN:STANDARD
TZOFFSETFROM:-0400
TZOFFSETTO:-0500
TZNAME:EST
DTSTART:20261101T060000
END:STANDARD
BEGIN:DAYLIGHT
TZOFFSETFROM:-0500
TZOFFSETTO:-0400
TZNAME:EDT
DTSTART:20270314T070000
END:DAYLIGHT
BEGIN:STANDARD
TZOFFSETFROM:-0400
TZOFFSETTO:-0500
TZNAME:EST
DTSTART:20271107T060000
END:STANDARD
END:VTIMEZONE
BEGIN:VEVENT
DTSTART;TZID=America/New_York:20260424T130000
DTEND;TZID=America/New_York:20260424T140000
DTSTAMP:20260421T192920
CREATED:20260328T225503Z
LAST-MODIFIED:20260328T225503Z
UID:7680-1777035600-1777039200@piersonlibrary.org
SUMMARY:Gardeners’ Gathering: Seeds\, Tips\, and Summer 2026 Plans
DESCRIPTION:Are you getting ready for planting season? Join us at the library for a conversation about all things gardening! Whether you’re a seasoned grower or just starting your first garden\, this meet-up is a chance to connect with fellow community members who love to dig in the dirt. We will share our gardening experiences\, exchange tips and tricks\, and talk about what we’re planning to grow in summer 2026. Bring your ideas\, questions\, and favorite gardening advice for a fun discussion where everyone can learn from one another. As a special bonus\, everyone will have the opportunity to choose free seeds from dozens of seed packets generously donated to the library.
URL:https://piersonlibrary.org/event/gardeners-gathering-seeds-tips-and-summer-2026-plans/
CATEGORIES:Gardening
ATTACH;FMTTYPE=image/jpeg:https://piersonlibrary.org/wp-content/uploads/2026/03/Gardeners-Gathering-Seeds-Tips-and-Summer-2026-Plans-scaled.jpg
END:VEVENT
END:VCALENDAR