BEGIN:VCALENDAR
VERSION:2.0
PRODID:-//Pierson Library - ECPv6.15.16//NONSGML v1.0//EN
CALSCALE:GREGORIAN
METHOD:PUBLISH
X-ORIGINAL-URL:https://piersonlibrary.org
X-WR-CALDESC:Events for Pierson Library
REFRESH-INTERVAL;VALUE=DURATION:PT1H
X-Robots-Tag:noindex
X-PUBLISHED-TTL:PT1H
BEGIN:VTIMEZONE
TZID:America/New_York
BEGIN:DAYLIGHT
TZOFFSETFROM:-0500
TZOFFSETTO:-0400
TZNAME:EDT
DTSTART:20250309T070000
END:DAYLIGHT
BEGIN:STANDARD
TZOFFSETFROM:-0400
TZOFFSETTO:-0500
TZNAME:EST
DTSTART:20251102T060000
END:STANDARD
BEGIN:DAYLIGHT
TZOFFSETFROM:-0500
TZOFFSETTO:-0400
TZNAME:EDT
DTSTART:20260308T070000
END:DAYLIGHT
BEGIN:STANDARD
TZOFFSETFROM:-0400
TZOFFSETTO:-0500
TZNAME:EST
DTSTART:20261101T060000
END:STANDARD
BEGIN:DAYLIGHT
TZOFFSETFROM:-0500
TZOFFSETTO:-0400
TZNAME:EDT
DTSTART:20270314T070000
END:DAYLIGHT
BEGIN:STANDARD
TZOFFSETFROM:-0400
TZOFFSETTO:-0500
TZNAME:EST
DTSTART:20271107T060000
END:STANDARD
END:VTIMEZONE
BEGIN:VEVENT
DTSTART;TZID=America/New_York:20260304T190000
DTEND;TZID=America/New_York:20260304T203000
DTSTAMP:20260421T185750
CREATED:20260227T025408Z
LAST-MODIFIED:20260227T025408Z
UID:7476-1772650800-1772656200@piersonlibrary.org
SUMMARY:Sustainable Salting Practices and Local Water Quality
DESCRIPTION:While road salting keeps us safe on roads\, sidewalks\, and parking lots during winter\, it also contaminates waterways and groundwater\, kills roadside vegetation\, compacts soils\, and allows heavy metals to move through the soil\, potentially affecting drinking water wells. The good news is that municipal crews\, private contractors\, and individuals can all use sustainable practices that reduce the use of salt and still maintain our safety. In this presentation hosted by Lewis Creek Association and Shelburne NRCC\, Kris Stepenuck (Extension Associate Professor at UVM) will share the basics of a variety of sustainable salting practices that communities\, businesses\, and individuals can adopt to reduce salt use. Kris will also share results of recent interviews with Chittenden County road foremen about their salting practices\, and what motivations and barriers they face in reducing salt use during winter snow and ice management. Lewis Creek Association’s Kate Kelly will share results from recent water quality sampling for chloride in local streams.
URL:https://piersonlibrary.org/event/sustainable-salting-practices-and-local-water-quality/
CATEGORIES:Environment
ATTACH;FMTTYPE=image/jpeg:https://piersonlibrary.org/wp-content/uploads/2026/02/Road-Salt-scaled.jpg
END:VEVENT
BEGIN:VEVENT
DTSTART;TZID=America/New_York:20260311T183000
DTEND;TZID=America/New_York:20260311T200000
DTSTAMP:20260421T185750
CREATED:20260227T032703Z
LAST-MODIFIED:20260227T032703Z
UID:7485-1773253800-1773259200@piersonlibrary.org
SUMMARY:From Earth to Earth: The Lost Art of Dying in America Screening
DESCRIPTION:This award-winning short documentary (20 minutes) explores the practice of natural burial and its many benefits\, told through the voices of advocates who helped legalize it in Vermont. The film also shares personal reflections from individuals whose experiences with natural burial have offered comfort in grieving\, encouraged conversations about mortality\, and chronicled the opening of Vermont Forest Cemetery and its first burial.
URL:https://piersonlibrary.org/event/from-earth-to-earth-the-lost-art-of-dying-in-america-screening/
CATEGORIES:Death & Dying,Environment
ATTACH;FMTTYPE=image/jpeg:https://piersonlibrary.org/wp-content/uploads/2026/02/From-Earth-to-Earth-scaled.jpg
END:VEVENT
END:VCALENDAR