BEGIN:VCALENDAR
VERSION:2.0
PRODID:-//Pierson Library - ECPv6.15.16//NONSGML v1.0//EN
CALSCALE:GREGORIAN
METHOD:PUBLISH
X-WR-CALNAME:Pierson Library
X-ORIGINAL-URL:https://piersonlibrary.org
X-WR-CALDESC:Events for Pierson Library
REFRESH-INTERVAL;VALUE=DURATION:PT1H
X-Robots-Tag:noindex
X-PUBLISHED-TTL:PT1H
BEGIN:VTIMEZONE
TZID:America/New_York
BEGIN:DAYLIGHT
TZOFFSETFROM:-0500
TZOFFSETTO:-0400
TZNAME:EDT
DTSTART:20240310T070000
END:DAYLIGHT
BEGIN:STANDARD
TZOFFSETFROM:-0400
TZOFFSETTO:-0500
TZNAME:EST
DTSTART:20241103T060000
END:STANDARD
BEGIN:DAYLIGHT
TZOFFSETFROM:-0500
TZOFFSETTO:-0400
TZNAME:EDT
DTSTART:20250309T070000
END:DAYLIGHT
BEGIN:STANDARD
TZOFFSETFROM:-0400
TZOFFSETTO:-0500
TZNAME:EST
DTSTART:20251102T060000
END:STANDARD
BEGIN:DAYLIGHT
TZOFFSETFROM:-0500
TZOFFSETTO:-0400
TZNAME:EDT
DTSTART:20260308T070000
END:DAYLIGHT
BEGIN:STANDARD
TZOFFSETFROM:-0400
TZOFFSETTO:-0500
TZNAME:EST
DTSTART:20261101T060000
END:STANDARD
END:VTIMEZONE
BEGIN:VEVENT
DTSTART;TZID=America/New_York:20250605T190000
DTEND;TZID=America/New_York:20250605T200000
DTSTAMP:20260421T072732
CREATED:20250601T200153Z
LAST-MODIFIED:20250601T200153Z
UID:6296-1749150000-1749153600@piersonlibrary.org
SUMMARY:Energy Healing\, Reindeer Herding & the Preservation of Nomadic Culture with Sas Carey
DESCRIPTION:Since 1994\, Middlebury author\, filmmaker\, holistic nurse and spiritual healer\, Sas Carey has been traveling to Mongolia to work with and learn from the nomadic reindeer and camel herders of the Gobi Desert & taiga. She has written two books\, directed six documentary films and founded both the Life Energy Healing School and Nomadicare (a non-profit dedicated to cultural preservation). Come hear about her journey\, life’s work\, and discoveries this Thursday! Copies of the books will be available for sale\, courtesy of the author.
URL:https://piersonlibrary.org/event/energy-healing-reindeer-herding-the-preservation-of-nomadic-culture-with-sas-carey/
CATEGORIES:Energy Healing
ATTACH;FMTTYPE=image/jpeg:https://piersonlibrary.org/wp-content/uploads/2025/06/Energy-Healing-scaled.jpg
END:VEVENT
END:VCALENDAR