BEGIN:VCALENDAR
VERSION:2.0
PRODID:-//Pierson Library - ECPv6.15.16//NONSGML v1.0//EN
CALSCALE:GREGORIAN
METHOD:PUBLISH
X-WR-CALNAME:Pierson Library
X-ORIGINAL-URL:https://piersonlibrary.org
X-WR-CALDESC:Events for Pierson Library
REFRESH-INTERVAL;VALUE=DURATION:PT1H
X-Robots-Tag:noindex
X-PUBLISHED-TTL:PT1H
BEGIN:VTIMEZONE
TZID:America/New_York
BEGIN:DAYLIGHT
TZOFFSETFROM:-0500
TZOFFSETTO:-0400
TZNAME:EDT
DTSTART:20250309T070000
END:DAYLIGHT
BEGIN:STANDARD
TZOFFSETFROM:-0400
TZOFFSETTO:-0500
TZNAME:EST
DTSTART:20251102T060000
END:STANDARD
BEGIN:DAYLIGHT
TZOFFSETFROM:-0500
TZOFFSETTO:-0400
TZNAME:EDT
DTSTART:20260308T070000
END:DAYLIGHT
BEGIN:STANDARD
TZOFFSETFROM:-0400
TZOFFSETTO:-0500
TZNAME:EST
DTSTART:20261101T060000
END:STANDARD
BEGIN:DAYLIGHT
TZOFFSETFROM:-0500
TZOFFSETTO:-0400
TZNAME:EDT
DTSTART:20270314T070000
END:DAYLIGHT
BEGIN:STANDARD
TZOFFSETFROM:-0400
TZOFFSETTO:-0500
TZNAME:EST
DTSTART:20271107T060000
END:STANDARD
END:VTIMEZONE
BEGIN:VEVENT
DTSTART;TZID=America/New_York:20260501T151500
DTEND;TZID=America/New_York:20260501T161500
DTSTAMP:20260424T141102
CREATED:20260422T012617Z
LAST-MODIFIED:20260422T012617Z
UID:7778-1777648500-1777652100@piersonlibrary.org
SUMMARY:Celebrating May Day: Create May Baskets for Friends and Family
DESCRIPTION:Children will greet the spring season by creating mini May Day baskets to fill with treats and surprise your friends and family. Make someone feel extra appreciated and celebrate the season of flowers! To register\, please call the library at 802-985-5124. \n 
URL:https://piersonlibrary.org/event/celebrating-may-day-create-may-baskets-for-friends-and-family/
CATEGORIES:Crafts for kids
ATTACH;FMTTYPE=image/jpeg:https://piersonlibrary.org/wp-content/uploads/2026/04/May-Day-Craft-scaled.jpg
END:VEVENT
BEGIN:VEVENT
DTSTART;TZID=America/New_York:20260521T151500
DTEND;TZID=America/New_York:20260521T161500
DTSTAMP:20260424T141103
CREATED:20260422T021855Z
LAST-MODIFIED:20260422T021855Z
UID:7804-1779376500-1779380100@piersonlibrary.org
SUMMARY:Create Your Summer Book Bag
DESCRIPTION:Hey kids! Read more books than you can carry? Use fabric markers and other fun materials to create a personalized cotton tote bag to carry home all of those great summer reads! To register\, please call the library at 802-985-5124.
URL:https://piersonlibrary.org/event/create-your-summer-book-bag/
CATEGORIES:Crafts for kids
ATTACH;FMTTYPE=image/jpeg:https://piersonlibrary.org/wp-content/uploads/2026/04/Summer-Bag-scaled.jpg
END:VEVENT
END:VCALENDAR