BEGIN:VCALENDAR
VERSION:2.0
PRODID:-//Pierson Library - ECPv6.15.16//NONSGML v1.0//EN
CALSCALE:GREGORIAN
METHOD:PUBLISH
X-WR-CALNAME:Pierson Library
X-ORIGINAL-URL:https://piersonlibrary.org
X-WR-CALDESC:Events for Pierson Library
REFRESH-INTERVAL;VALUE=DURATION:PT1H
X-Robots-Tag:noindex
X-PUBLISHED-TTL:PT1H
BEGIN:VTIMEZONE
TZID:America/New_York
BEGIN:DAYLIGHT
TZOFFSETFROM:-0500
TZOFFSETTO:-0400
TZNAME:EDT
DTSTART:20250309T070000
END:DAYLIGHT
BEGIN:STANDARD
TZOFFSETFROM:-0400
TZOFFSETTO:-0500
TZNAME:EST
DTSTART:20251102T060000
END:STANDARD
BEGIN:DAYLIGHT
TZOFFSETFROM:-0500
TZOFFSETTO:-0400
TZNAME:EDT
DTSTART:20260308T070000
END:DAYLIGHT
BEGIN:STANDARD
TZOFFSETFROM:-0400
TZOFFSETTO:-0500
TZNAME:EST
DTSTART:20261101T060000
END:STANDARD
BEGIN:DAYLIGHT
TZOFFSETFROM:-0500
TZOFFSETTO:-0400
TZNAME:EDT
DTSTART:20270314T070000
END:DAYLIGHT
BEGIN:STANDARD
TZOFFSETFROM:-0400
TZOFFSETTO:-0500
TZNAME:EST
DTSTART:20271107T060000
END:STANDARD
END:VTIMEZONE
BEGIN:VEVENT
DTSTART;TZID=America/New_York:20260106T103000
DTEND;TZID=America/New_York:20260106T113000
DTSTAMP:20260423T132331
CREATED:20260101T142716Z
LAST-MODIFIED:20260101T142716Z
UID:7216-1767695400-1767699000@piersonlibrary.org
SUMMARY:Coffee and Conversation: AI
DESCRIPTION:Join us for delicious coffee and community conversations in our monthly Coffee and Conversation group. This month we’ll be talking about artificial intelligence (AI). What are AI’s benefits and risks? How will it impact the workforce? What are the environmental impacts of AI? What are the benefits and possible dangers of this technology\, and how do you feel it will impact our future? Don’t miss this timely discussion!
URL:https://piersonlibrary.org/event/coffee-and-conversation-ai/
CATEGORIES:Artificial Intelligence,Coffee & Conversation
ATTACH;FMTTYPE=image/jpeg:https://piersonlibrary.org/wp-content/uploads/2025/03/Coffee-Conversation-Event-Calendar-scaled.jpg
END:VEVENT
END:VCALENDAR