BEGIN:VCALENDAR
VERSION:2.0
PRODID:-//Pierson Library - ECPv6.15.16//NONSGML v1.0//EN
CALSCALE:GREGORIAN
METHOD:PUBLISH
X-WR-CALNAME:Pierson Library
X-ORIGINAL-URL:https://piersonlibrary.org
X-WR-CALDESC:Events for Pierson Library
REFRESH-INTERVAL;VALUE=DURATION:PT1H
X-Robots-Tag:noindex
X-PUBLISHED-TTL:PT1H
BEGIN:VTIMEZONE
TZID:America/New_York
BEGIN:DAYLIGHT
TZOFFSETFROM:-0500
TZOFFSETTO:-0400
TZNAME:EDT
DTSTART:20240310T070000
END:DAYLIGHT
BEGIN:STANDARD
TZOFFSETFROM:-0400
TZOFFSETTO:-0500
TZNAME:EST
DTSTART:20241103T060000
END:STANDARD
BEGIN:DAYLIGHT
TZOFFSETFROM:-0500
TZOFFSETTO:-0400
TZNAME:EDT
DTSTART:20250309T070000
END:DAYLIGHT
BEGIN:STANDARD
TZOFFSETFROM:-0400
TZOFFSETTO:-0500
TZNAME:EST
DTSTART:20251102T060000
END:STANDARD
BEGIN:DAYLIGHT
TZOFFSETFROM:-0500
TZOFFSETTO:-0400
TZNAME:EDT
DTSTART:20260308T070000
END:DAYLIGHT
BEGIN:STANDARD
TZOFFSETFROM:-0400
TZOFFSETTO:-0500
TZNAME:EST
DTSTART:20261101T060000
END:STANDARD
END:VTIMEZONE
BEGIN:VEVENT
DTSTART;TZID=America/New_York:20250819T180000
DTEND;TZID=America/New_York:20250819T190000
DTSTAMP:20260425T062459
CREATED:20250801T173924Z
LAST-MODIFIED:20250801T173924Z
UID:6572-1755626400-1755630000@piersonlibrary.org
SUMMARY:Tuesday Night Book Club: A Woman of No Importance
DESCRIPTION:Join us for a discussion of A Woman of No Importance by Sonia Purnell\, a true story of heroism\, espionage\, and resistance. In 1942 the Gestapo called her “the most dangerous of all Allied spies.” They were referring to Virginia Hall\, a determined American woman with a prosthetic leg who defied expectations and transformed the fight against Nazi occupation in France. As the first Allied woman deployed behind enemy lines\, Hall built covert networks\, organized sabotage missions\, and became a key force in the French Resistance. Copies of the book are available at the front desk\, and new members are welcome! 
URL:https://piersonlibrary.org/event/tuesday-night-book-club-a-woman-of-no-importance/
CATEGORIES:Book Club,Book Discussion
ATTACH;FMTTYPE=image/jpeg:https://piersonlibrary.org/wp-content/uploads/2025/08/Tuesday-Night-Book-Club-A-Woman-of-No-Importance-scaled.jpg
END:VEVENT
END:VCALENDAR