BEGIN:VCALENDAR
VERSION:2.0
PRODID:-//Pierson Library - ECPv6.15.16//NONSGML v1.0//EN
CALSCALE:GREGORIAN
METHOD:PUBLISH
X-WR-CALNAME:Pierson Library
X-ORIGINAL-URL:https://piersonlibrary.org
X-WR-CALDESC:Events for Pierson Library
REFRESH-INTERVAL;VALUE=DURATION:PT1H
X-Robots-Tag:noindex
X-PUBLISHED-TTL:PT1H
BEGIN:VTIMEZONE
TZID:America/New_York
BEGIN:DAYLIGHT
TZOFFSETFROM:-0500
TZOFFSETTO:-0400
TZNAME:EDT
DTSTART:20250309T070000
END:DAYLIGHT
BEGIN:STANDARD
TZOFFSETFROM:-0400
TZOFFSETTO:-0500
TZNAME:EST
DTSTART:20251102T060000
END:STANDARD
BEGIN:DAYLIGHT
TZOFFSETFROM:-0500
TZOFFSETTO:-0400
TZNAME:EDT
DTSTART:20260308T070000
END:DAYLIGHT
BEGIN:STANDARD
TZOFFSETFROM:-0400
TZOFFSETTO:-0500
TZNAME:EST
DTSTART:20261101T060000
END:STANDARD
BEGIN:DAYLIGHT
TZOFFSETFROM:-0500
TZOFFSETTO:-0400
TZNAME:EDT
DTSTART:20270314T070000
END:DAYLIGHT
BEGIN:STANDARD
TZOFFSETFROM:-0400
TZOFFSETTO:-0500
TZNAME:EST
DTSTART:20271107T060000
END:STANDARD
END:VTIMEZONE
BEGIN:VEVENT
DTSTART;TZID=America/New_York:20260509T100000
DTEND;TZID=America/New_York:20260509T110000
DTSTAMP:20260424T175833
CREATED:20260422T015426Z
LAST-MODIFIED:20260422T015513Z
UID:7794-1778320800-1778324400@piersonlibrary.org
SUMMARY:The Flying Pig Bookstore and Pierson Library present Author and Illustrator Rosemary Wells
DESCRIPTION:Enjoy a special opportunity to meet beloved children’s author Rosemary Wells in person! Please join us in welcoming Rosemary Wells\, best known for her Max & Ruby series\, Voyage to the Bunny Planet\, Moving Up\, and her newest book\, The Little Chefs. This special event will feature a delightful storytime\, a fun activity for young readers\, and an opportunity to meet the author during a book signing. Books will be available for purchase from our friends at The Flying Pig Bookstore.
URL:https://piersonlibrary.org/event/the-flying-pig-bookstore-and-pierson-library-present-author-and-illustrator-rosemary-wells/
LOCATION:VT
CATEGORIES:Author Reading,Author Talks,Book Launch
ATTACH;FMTTYPE=image/jpeg:https://piersonlibrary.org/wp-content/uploads/2026/04/Meet-Rosemary-Wells-scaled.jpg
END:VEVENT
END:VCALENDAR