BEGIN:VCALENDAR
VERSION:2.0
PRODID:-//Pierson Library - ECPv6.15.16//NONSGML v1.0//EN
CALSCALE:GREGORIAN
METHOD:PUBLISH
X-WR-CALNAME:Pierson Library
X-ORIGINAL-URL:https://piersonlibrary.org
X-WR-CALDESC:Events for Pierson Library
REFRESH-INTERVAL;VALUE=DURATION:PT1H
X-Robots-Tag:noindex
X-PUBLISHED-TTL:PT1H
BEGIN:VTIMEZONE
TZID:America/New_York
BEGIN:DAYLIGHT
TZOFFSETFROM:-0500
TZOFFSETTO:-0400
TZNAME:EDT
DTSTART:20240310T070000
END:DAYLIGHT
BEGIN:STANDARD
TZOFFSETFROM:-0400
TZOFFSETTO:-0500
TZNAME:EST
DTSTART:20241103T060000
END:STANDARD
BEGIN:DAYLIGHT
TZOFFSETFROM:-0500
TZOFFSETTO:-0400
TZNAME:EDT
DTSTART:20250309T070000
END:DAYLIGHT
BEGIN:STANDARD
TZOFFSETFROM:-0400
TZOFFSETTO:-0500
TZNAME:EST
DTSTART:20251102T060000
END:STANDARD
BEGIN:DAYLIGHT
TZOFFSETFROM:-0500
TZOFFSETTO:-0400
TZNAME:EDT
DTSTART:20260308T070000
END:DAYLIGHT
BEGIN:STANDARD
TZOFFSETFROM:-0400
TZOFFSETTO:-0500
TZNAME:EST
DTSTART:20261101T060000
END:STANDARD
END:VTIMEZONE
BEGIN:VEVENT
DTSTART;TZID=America/New_York:20251220T103000
DTEND;TZID=America/New_York:20251220T113000
DTSTAMP:20260421T173333
CREATED:20251124T030909Z
LAST-MODIFIED:20251124T030909Z
UID:7096-1766226600-1766230200@piersonlibrary.org
SUMMARY:Nutcracker Author Event and Celebration
DESCRIPTION:Author Annmarie Anderson reads aloud her beloved adaptation of a classic tale! Join us for an enchanted morning with a magical storyteller\, and create a nutcracker costume and keepsake ornament to bring home.
URL:https://piersonlibrary.org/event/nutcracker-author-event-and-celebration/
LOCATION:VT
CATEGORIES:Author Celebrations,Author Reading,Crafts for kids
ATTACH;FMTTYPE=image/jpeg:https://piersonlibrary.org/wp-content/uploads/2024/11/Nutcracker-Storytime-eNewsletter-3-scaled.jpg
END:VEVENT
END:VCALENDAR