BEGIN:VCALENDAR
VERSION:2.0
PRODID:-//Pierson Library - ECPv6.15.16//NONSGML v1.0//EN
CALSCALE:GREGORIAN
METHOD:PUBLISH
X-ORIGINAL-URL:https://piersonlibrary.org
X-WR-CALDESC:Events for Pierson Library
REFRESH-INTERVAL;VALUE=DURATION:PT1H
X-Robots-Tag:noindex
X-PUBLISHED-TTL:PT1H
BEGIN:VTIMEZONE
TZID:America/New_York
BEGIN:DAYLIGHT
TZOFFSETFROM:-0500
TZOFFSETTO:-0400
TZNAME:EDT
DTSTART:20240310T070000
END:DAYLIGHT
BEGIN:STANDARD
TZOFFSETFROM:-0400
TZOFFSETTO:-0500
TZNAME:EST
DTSTART:20241103T060000
END:STANDARD
BEGIN:DAYLIGHT
TZOFFSETFROM:-0500
TZOFFSETTO:-0400
TZNAME:EDT
DTSTART:20250309T070000
END:DAYLIGHT
BEGIN:STANDARD
TZOFFSETFROM:-0400
TZOFFSETTO:-0500
TZNAME:EST
DTSTART:20251102T060000
END:STANDARD
BEGIN:DAYLIGHT
TZOFFSETFROM:-0500
TZOFFSETTO:-0400
TZNAME:EDT
DTSTART:20260308T070000
END:DAYLIGHT
BEGIN:STANDARD
TZOFFSETFROM:-0400
TZOFFSETTO:-0500
TZNAME:EST
DTSTART:20261101T060000
END:STANDARD
END:VTIMEZONE
BEGIN:VEVENT
DTSTART;TZID=America/New_York:20251018T110000
DTEND;TZID=America/New_York:20251018T120000
DTSTAMP:20260421T161758
CREATED:20250922T030534Z
LAST-MODIFIED:20250926T211824Z
UID:6857-1760785200-1760788800@piersonlibrary.org
SUMMARY:Cozy News Live
DESCRIPTION:These days\, following the news can feel overwhelming\, like it’s less about informing and more about stirring up stress and outrage. So how can we stay informed without getting burned out? Community member Greg Garius has a refreshingly different approach. Join us for a unique\, relaxing\, and slightly offbeat experience as Greg reads the news aloud in his smooth\, silky baritone\, paired with pastries\, fresh-brewed coffee\, and the comfort of community. It’s part ASMR\, part performance art\, and part social gathering. We’ll start with that day’s New York Times\, but feel free to bring your own articles. Greg is happy to read them too. Come curious\, come caffeinated\, and come ready for something delightfully different. \n 
URL:https://piersonlibrary.org/event/cozy-news-live/
CATEGORIES:ASMR,News
ATTACH;FMTTYPE=image/jpeg:https://piersonlibrary.org/wp-content/uploads/2025/09/Cozy-News-Live-scaled.jpg
END:VEVENT
END:VCALENDAR