BEGIN:VCALENDAR
VERSION:2.0
PRODID:-//Pierson Library - ECPv6.15.16//NONSGML v1.0//EN
CALSCALE:GREGORIAN
METHOD:PUBLISH
X-ORIGINAL-URL:https://piersonlibrary.org
X-WR-CALDESC:Events for Pierson Library
REFRESH-INTERVAL;VALUE=DURATION:PT1H
X-Robots-Tag:noindex
X-PUBLISHED-TTL:PT1H
BEGIN:VTIMEZONE
TZID:America/New_York
BEGIN:DAYLIGHT
TZOFFSETFROM:-0500
TZOFFSETTO:-0400
TZNAME:EDT
DTSTART:20230312T070000
END:DAYLIGHT
BEGIN:STANDARD
TZOFFSETFROM:-0400
TZOFFSETTO:-0500
TZNAME:EST
DTSTART:20231105T060000
END:STANDARD
BEGIN:DAYLIGHT
TZOFFSETFROM:-0500
TZOFFSETTO:-0400
TZNAME:EDT
DTSTART:20240310T070000
END:DAYLIGHT
BEGIN:STANDARD
TZOFFSETFROM:-0400
TZOFFSETTO:-0500
TZNAME:EST
DTSTART:20241103T060000
END:STANDARD
BEGIN:DAYLIGHT
TZOFFSETFROM:-0500
TZOFFSETTO:-0400
TZNAME:EDT
DTSTART:20250309T070000
END:DAYLIGHT
BEGIN:STANDARD
TZOFFSETFROM:-0400
TZOFFSETTO:-0500
TZNAME:EST
DTSTART:20251102T060000
END:STANDARD
BEGIN:DAYLIGHT
TZOFFSETFROM:-0500
TZOFFSETTO:-0400
TZNAME:EDT
DTSTART:20260308T070000
END:DAYLIGHT
BEGIN:STANDARD
TZOFFSETFROM:-0400
TZOFFSETTO:-0500
TZNAME:EST
DTSTART:20261101T060000
END:STANDARD
END:VTIMEZONE
BEGIN:VEVENT
DTSTART;TZID=America/New_York:20250804T170000
DTEND;TZID=America/New_York:20250804T190000
DTSTAMP:20260423T062213
CREATED:20250801T114648Z
LAST-MODIFIED:20250801T114648Z
UID:6557-1754326800-1754334000@piersonlibrary.org
SUMMARY:Life Drawing Practice
DESCRIPTION:We’re closing out our summer season with one more Life Drawing Practice session\, this one in the early evening. No instructor but enjoy a series of short and long poses by our in-house model! 
URL:https://piersonlibrary.org/event/life-drawing-practice-4/
CATEGORIES:Art,Drawing
ATTACH;FMTTYPE=image/jpeg:https://piersonlibrary.org/wp-content/uploads/2025/03/Live-Drawing-Event-Calendar-scaled.jpg
END:VEVENT
BEGIN:VEVENT
DTSTART;TZID=America/New_York:20250730T150000
DTEND;TZID=America/New_York:20250730T160000
DTSTAMP:20260423T062213
CREATED:20250627T154346Z
LAST-MODIFIED:20250627T154346Z
UID:6437-1753887600-1753891200@piersonlibrary.org
SUMMARY:String Pull Paintings: Oddly Satisfying Art
DESCRIPTION:Ready to make something weirdly satisfying and seriously cool? Come try your hand at string pull painting\, an artsy mix of paint\, string\, and a little chaos. Create bold\, colorful designs with mesmerizing results (and zero pressure to be “good” at art). It’s fun\, it’s messy in the best way\, and your final piece will look like something straight off your feed.
URL:https://piersonlibrary.org/event/string-pull-paintings-oddly-satisfying-art/
CATEGORIES:Art,Color Our World,Tweens & Teens
ATTACH;FMTTYPE=image/jpeg:https://piersonlibrary.org/wp-content/uploads/2025/06/Pulled-String-Paintings-scaled.jpg
END:VEVENT
BEGIN:VEVENT
DTSTART;TZID=America/New_York:20250729T150000
DTEND;TZID=America/New_York:20250729T163000
DTSTAMP:20260423T062213
CREATED:20250627T193431Z
LAST-MODIFIED:20250710T193500Z
UID:6484-1753801200-1753806600@piersonlibrary.org
SUMMARY:Exquisite Corpse & Other Creative Collaborations
DESCRIPTION:As part of the influx of creativity overtaking us this summer reading program\, we’re inviting you to join us in the co-creation of “exquisite corpse” style collaborative art projects and other fun\, immersive collaborative art games!
URL:https://piersonlibrary.org/event/exquisite-corpse-other-creative-collaborations/
CATEGORIES:Art,Craft,Creativity
ATTACH;FMTTYPE=image/jpeg:https://piersonlibrary.org/wp-content/uploads/2025/06/Green-Up-1.jpg
END:VEVENT
BEGIN:VEVENT
DTSTART;TZID=America/New_York:20250723T150000
DTEND;TZID=America/New_York:20250723T160000
DTSTAMP:20260423T062213
CREATED:20250627T153544Z
LAST-MODIFIED:20250627T153544Z
UID:6435-1753282800-1753286400@piersonlibrary.org
SUMMARY:Who Do You Think You Art? Masked Tape Name Paintings
DESCRIPTION:Think your name belongs in a museum? Come stake your claim to fame with this fun and ridiculously satisfying art project. Using painter’s tape\, a canvas\, and your creative genius\, you’ll block out your name (or nickname\, or secret superhero alias)\, paint over it in whatever wild colors your soul demands\, then peel back the tape to reveal your masterpiece. Instant art. Minimal effort. Maximum vibes. Join us!
URL:https://piersonlibrary.org/event/who-do-you-think-you-art-masked-tape-name-paintings/
CATEGORIES:Art,Tweens & Teens
ATTACH;FMTTYPE=image/jpeg:https://piersonlibrary.org/wp-content/uploads/2025/06/Name-Art-Paintings-scaled.jpg
END:VEVENT
BEGIN:VEVENT
DTSTART;TZID=America/New_York:20250722T150000
DTEND;TZID=America/New_York:20250722T163000
DTSTAMP:20260423T062213
CREATED:20250627T172617Z
LAST-MODIFIED:20250627T172617Z
UID:6474-1753196400-1753201800@piersonlibrary.org
SUMMARY:Collage Party
DESCRIPTION:Join us for a relaxed and inspiring afternoon of community artmaking at our collage party\, part of this year’s Summer Reading Program. Bring your own collage materials or use the supplies we provide as we create together in a peaceful\, music-filled setting. Whether you’re a seasoned artist or just curious to try something new\, this is a welcoming space for all. At the end of the session\, there will be time for sharing your work and reflecting with others. Join us to connect\, create\, and be part of an artistic community experience.
URL:https://piersonlibrary.org/event/collage-party-2/
CATEGORIES:Art,Craft
ATTACH;FMTTYPE=image/jpeg:https://piersonlibrary.org/wp-content/uploads/2025/06/Collage-Party-scaled.jpg
END:VEVENT
BEGIN:VEVENT
DTSTART;TZID=America/New_York:20250719T103000
DTEND;TZID=America/New_York:20250719T120000
DTSTAMP:20260423T062213
CREATED:20250627T140905Z
LAST-MODIFIED:20250710T193612Z
UID:6416-1752921000-1752926400@piersonlibrary.org
SUMMARY:Waldorf Window Star Workshop
DESCRIPTION:Fill your windows with brightly colored Waldorf window stars! Learn to fold these oh so geometrically satisfying transparent window decorations and bring whimsy\, wonder and joy to your home. Recommended for ages 8 and up. Please call 802-985-5124 to register.
URL:https://piersonlibrary.org/event/waldorf-window-star-workshop/
CATEGORIES:Art,Crafts for kids
ATTACH;FMTTYPE=image/jpeg:https://piersonlibrary.org/wp-content/uploads/2025/06/Waldorf-1.jpg
END:VEVENT
BEGIN:VEVENT
DTSTART;TZID=America/New_York:20250716T150000
DTEND;TZID=America/New_York:20250716T160000
DTSTAMP:20260423T062213
CREATED:20250627T145349Z
LAST-MODIFIED:20250627T145349Z
UID:6431-1752678000-1752681600@piersonlibrary.org
SUMMARY:Cosmic Cool Nebula Jars
DESCRIPTION:Bring the galaxy down to Earth\, one jar at a time. In this craft session\, you’ll create your own nebula jar: a swirling\, starry scene in a bottle that’s part science\, part art\, and totally awesome. Layer colors\, glitter\, and cotton to build a mini universe you can take home.
URL:https://piersonlibrary.org/event/cosmic-cool-nebula-jars/
CATEGORIES:Art,Craft,Tweens & Teens
ATTACH;FMTTYPE=image/jpeg:https://piersonlibrary.org/wp-content/uploads/2025/06/Nebula-Jars-scaled.jpg
END:VEVENT
BEGIN:VEVENT
DTSTART;TZID=America/New_York:20250712T130000
DTEND;TZID=America/New_York:20250712T150000
DTSTAMP:20260423T062213
CREATED:20250627T163715Z
LAST-MODIFIED:20250627T163715Z
UID:6464-1752325200-1752332400@piersonlibrary.org
SUMMARY:Life Drawing Practice
DESCRIPTION:Come practice life drawing skills with live models as part of Color Our World summer! Please bring your own easels and drawing materials.
URL:https://piersonlibrary.org/event/life-drawing-practice-3/
CATEGORIES:Art,Drawing
ATTACH;FMTTYPE=image/jpeg:https://piersonlibrary.org/wp-content/uploads/2025/03/Live-Drawing-Event-Calendar-scaled.jpg
END:VEVENT
BEGIN:VEVENT
DTSTART;TZID=America/New_York:20250709T150000
DTEND;TZID=America/New_York:20250709T160000
DTSTAMP:20260423T062213
CREATED:20250627T144220Z
LAST-MODIFIED:20250627T144303Z
UID:6426-1752073200-1752076800@piersonlibrary.org
SUMMARY:Pour Decisions
DESCRIPTION:Get messy\, get creative\, and make some pour decisions! In this colorful workshop\, you’ll learn the art of pour painting\, no brushes required. Mix\, swirl\, and tilt your way to one-of-a-kind abstract masterpieces. All supplies provided. Just bring your imagination (and maybe an old shirt)! To register\, call the library at 802-985-5124.
URL:https://piersonlibrary.org/event/pour-decisions/
CATEGORIES:Art,Tweens & Teens
ATTACH;FMTTYPE=image/jpeg:https://piersonlibrary.org/wp-content/uploads/2025/06/Pour-Paintings-scaled.jpg
END:VEVENT
BEGIN:VEVENT
DTSTART;TZID=America/New_York:20250708T150000
DTEND;TZID=America/New_York:20250708T161500
DTSTAMP:20260423T062213
CREATED:20250627T161326Z
LAST-MODIFIED:20250627T161326Z
UID:6450-1751986800-1751991300@piersonlibrary.org
SUMMARY:Expressive Beads Necklace Crafting
DESCRIPTION:Another hands-on craft for the summer reading enthusiast! Express yourself with colorful beads in a necklace making circle. Peaceful tunes and community await you as you join other necklace crafters and walk home with the beads that best reflect you.
URL:https://piersonlibrary.org/event/expressive-beads-necklace-crafting/
CATEGORIES:Art,Craft,Jewelry
ATTACH;FMTTYPE=image/jpeg:https://piersonlibrary.org/wp-content/uploads/2025/06/Expressive-Bead-Necklace-scaled.jpg
END:VEVENT
BEGIN:VEVENT
DTSTART;TZID=America/New_York:20250708T130000
DTEND;TZID=America/New_York:20250708T150000
DTSTAMP:20260423T062213
CREATED:20250627T121845Z
LAST-MODIFIED:20250627T121845Z
UID:6394-1751979600-1751986800@piersonlibrary.org
SUMMARY:Thinking Outside the Box: Cardboard Creations with Pete Boardman
DESCRIPTION:These art workshops explore the endless possibilities of cardboard as an artistic medium. From sculptural forms and architectural models to wearable creations. Kids will learn how to transform everyday cardboard into striking works of art. Perfect for those who love to create with their hands and think outside the box—literally! To register\, please call the library at 802-985-5124.
URL:https://piersonlibrary.org/event/thinking-outside-the-box-cardboard-creations-with-pete-boardman-3/
CATEGORIES:Art,Crafts for kids
ATTACH;FMTTYPE=image/jpeg:https://piersonlibrary.org/wp-content/uploads/2025/06/Carboard-Art-1-scaled.jpg
END:VEVENT
BEGIN:VEVENT
DTSTART;TZID=America/New_York:20250708T103000
DTEND;TZID=America/New_York:20250708T110000
DTSTAMP:20260423T062213
CREATED:20250627T121700Z
LAST-MODIFIED:20250627T121700Z
UID:6393-1751970600-1751972400@piersonlibrary.org
SUMMARY:Little Artists
DESCRIPTION:Join us for a fun series where toddlers show their creativity with fun and simple art projects.
URL:https://piersonlibrary.org/event/little-artists-9/
CATEGORIES:Art,Toddlers
ATTACH;FMTTYPE=image/jpeg:https://piersonlibrary.org/wp-content/uploads/2025/02/Little-Artists-Event-Calendar-2-scaled.jpg
END:VEVENT
BEGIN:VEVENT
DTSTART;TZID=America/New_York:20250628T160000
DTEND;TZID=America/New_York:20250628T173000
DTSTAMP:20260423T062213
CREATED:20250602T191510Z
LAST-MODIFIED:20250602T191510Z
UID:6332-1751126400-1751131800@piersonlibrary.org
SUMMARY:Collage Party
DESCRIPTION:Join us for a relaxed and inspiring afternoon of community artmaking at our collage party\, part of this year’s Summer Reading Program. Bring your own collage materials or use the supplies we provide as we create together in a peaceful\, music-filled setting. Whether you’re a seasoned artist or just curious to try something new\, this is a welcoming space for all. At the end of the session\, there will be time for sharing your work and reflecting with others. Join us to connect\, create\, and be part of an artistic community experience.
URL:https://piersonlibrary.org/event/collage-party/
CATEGORIES:Art,Color Our World,Summer Reading Program
ATTACH;FMTTYPE=image/jpeg:https://piersonlibrary.org/wp-content/uploads/2025/06/Collage-Art-scaled.jpg
END:VEVENT
BEGIN:VEVENT
DTSTART;TZID=America/New_York:20250628T130000
DTEND;TZID=America/New_York:20250628T150000
DTSTAMP:20260423T062213
CREATED:20250602T191659Z
LAST-MODIFIED:20250602T191659Z
UID:6334-1751115600-1751122800@piersonlibrary.org
SUMMARY:Life Drawing Practice
DESCRIPTION:Come practice life drawing skills with live models. Please bring your own easels and drawing materials.
URL:https://piersonlibrary.org/event/life-drawing-practice-2/
CATEGORIES:Art,Color Our World,Summer Reading Program
ATTACH;FMTTYPE=image/jpeg:https://piersonlibrary.org/wp-content/uploads/2025/03/Live-Drawing-Event-Calendar-scaled.jpg
END:VEVENT
BEGIN:VEVENT
DTSTART;TZID=America/New_York:20250627T140000
DTEND;TZID=America/New_York:20250627T150000
DTSTAMP:20260423T062213
CREATED:20250601T150818Z
LAST-MODIFIED:20250601T150818Z
UID:6270-1751032800-1751036400@piersonlibrary.org
SUMMARY:Color Your World: Tissue Paper Paintings
DESCRIPTION:Join us for a colorful\, hands-on art experience where kids will create beautiful works of art using bleeding craft tissue paper! Young artists will place pieces of this special tissue paper onto a canvas\, spray them with water\, and watch the magic happen as the colors blend and bleed to form beautiful patterns. Once the tissue paper dries and is removed\, it leaves behind a one-of-a-kind masterpiece! To register\, please call the library at 802-985-5124.
URL:https://piersonlibrary.org/event/color-your-world-tissue-paper-paintings/
CATEGORIES:Art,Color Our World,Summer Reading Program
ATTACH;FMTTYPE=image/jpeg:https://piersonlibrary.org/wp-content/uploads/2025/06/Tissue-Paper-Paintings-scaled.jpg
END:VEVENT
BEGIN:VEVENT
DTSTART;TZID=America/New_York:20250623T183000
DTEND;TZID=America/New_York:20250623T193000
DTSTAMP:20260423T062213
CREATED:20250602T185827Z
LAST-MODIFIED:20250602T185827Z
UID:6325-1750703400-1750707000@piersonlibrary.org
SUMMARY:Paint & Sip Party
DESCRIPTION:Unwind and get creative at the library’s Paint & Sip night\, an evening just for adults to relax\, socialize\, and enjoy some artistic fun. Choose from a selection of paint-by-number canvases and bring your artwork to life. Sip on refreshing mocktails while you paint\, listen to music\, and take a break from the everyday. All materials provided. To register\, please call the library at 802-985-5124.
URL:https://piersonlibrary.org/event/paint-sip-party/
CATEGORIES:Art,Color Our World,Summer Reading Program
ATTACH;FMTTYPE=image/jpeg:https://piersonlibrary.org/wp-content/uploads/2025/06/Paint-By-Numbers-scaled.jpg
END:VEVENT
BEGIN:VEVENT
DTSTART;TZID=America/New_York:20250622T140000
DTEND;TZID=America/New_York:20250622T160000
DTSTAMP:20260423T062213
CREATED:20250602T171902Z
LAST-MODIFIED:20250602T171902Z
UID:6324-1750600800-1750608000@piersonlibrary.org
SUMMARY:Summer Art Opening
DESCRIPTION:Celebrate the creativity of our community at the opening of the Summer Art Exhibit\, a showcase of local talent presented in collaboration with the Shelburne Craft School. This special event features works from artists across mediums including woodworking\, stained glass\, painting\, pottery\, and highlights the incredible range of artistic expression in Shelburne. Also on display will be youth artwork from Davis Studio. Enjoy light refreshments\, enter raffles for prizes\, and bring the kids for a fun\, family-friendly scavenger hunt through the exhibit.
URL:https://piersonlibrary.org/event/summer-art-opening-2/
CATEGORIES:Art,Art Opening
ATTACH;FMTTYPE=image/jpeg:https://piersonlibrary.org/wp-content/uploads/2024/12/WINTER-ART-OPENING-Event-Calendar-scaled.jpg
END:VEVENT
BEGIN:VEVENT
DTSTART;TZID=America/New_York:20250617T130000
DTEND;TZID=America/New_York:20250617T150000
DTSTAMP:20260423T062213
CREATED:20250601T141154Z
LAST-MODIFIED:20250601T141340Z
UID:6256-1750165200-1750172400@piersonlibrary.org
SUMMARY:Thinking Outside the Box: Cardboard Creations with Pete Boardman
DESCRIPTION:Join SCS art teacher Peter Board and explore the endless possibilities of cardboard as an artistic medium. From sculptural forms and architectural models to wearable creations\, kids will learn how to transform everyday cardboard into striking works of art. Perfect for those who love to create with their hands and think outside the box (literally)! To register\, please call the library at 802-985-5124.
URL:https://piersonlibrary.org/event/thinking-outside-the-box-cardboard-creations-with-pete-boardman/
CATEGORIES:Art,Color Our World
ATTACH;FMTTYPE=image/jpeg:https://piersonlibrary.org/wp-content/uploads/2025/06/Carboard-Art-scaled.jpg
END:VEVENT
BEGIN:VEVENT
DTSTART;TZID=America/New_York:20250513T103000
DTEND;TZID=America/New_York:20250513T110000
DTSTAMP:20260423T062213
CREATED:20250422T210353Z
LAST-MODIFIED:20250422T210353Z
UID:6162-1747132200-1747134000@piersonlibrary.org
SUMMARY:Little Artists
DESCRIPTION:Join us for a fun series where toddlers show their creativity with fun and simple art projects.
URL:https://piersonlibrary.org/event/little-artists-8/
CATEGORIES:Art,Crafts for kids,Toddlers
ATTACH;FMTTYPE=image/jpeg:https://piersonlibrary.org/wp-content/uploads/2025/02/Little-Artists-Event-Calendar-2-scaled.jpg
END:VEVENT
BEGIN:VEVENT
DTSTART;TZID=America/New_York:20250419T123000
DTEND;TZID=America/New_York:20250419T143000
DTSTAMP:20260423T062213
CREATED:20250330T173007Z
LAST-MODIFIED:20250330T173007Z
UID:6083-1745065800-1745073000@piersonlibrary.org
SUMMARY:Life Drawing Practice
DESCRIPTION:This program is an opportunity for artists and the artistically curious to gather with a clothed\, live model and practice drawing from life. There will be no instructors for this session\, but it is a good opportunity to hone and practice skills. There will be a variety of short and long holds. Feel free to call ahead to register\, or just drop in. Please bring your own drawing equipment\, including board and easel if you have them.
URL:https://piersonlibrary.org/event/life-drawing-practice/
CATEGORIES:Art,Drawing,Life Drawing
ATTACH;FMTTYPE=image/jpeg:https://piersonlibrary.org/wp-content/uploads/2025/03/Live-Drawing-Event-Calendar-scaled.jpg
END:VEVENT
BEGIN:VEVENT
DTSTART;TZID=America/New_York:20250408T103000
DTEND;TZID=America/New_York:20250408T110000
DTSTAMP:20260423T062213
CREATED:20250330T140648Z
LAST-MODIFIED:20250330T140648Z
UID:6048-1744108200-1744110000@piersonlibrary.org
SUMMARY:Little Artists
DESCRIPTION:Join us for a fun series where toddlers show their creativity with art!
URL:https://piersonlibrary.org/event/little-artists-7/
CATEGORIES:Art,Crafts for kids,Toddlers
ATTACH;FMTTYPE=image/jpeg:https://piersonlibrary.org/wp-content/uploads/2025/02/Little-Artists-Event-Calendar-2-scaled.jpg
END:VEVENT
BEGIN:VEVENT
DTSTART;TZID=America/New_York:20250406T140000
DTEND;TZID=America/New_York:20250406T160000
DTSTAMP:20260423T062213
CREATED:20250315T034205Z
LAST-MODIFIED:20250401T193907Z
UID:6015-1743948000-1743955200@piersonlibrary.org
SUMMARY:Spring Art Opening
DESCRIPTION:Join us at the Pierson Library for the second instalment of our Art Exchange Program with Ephemeral Meditations. With the glories of spring soon upon us\, the library is excited to welcome hugely talented nature-inspired artists\, Kurt Budliger\, Bruce Hathaway\, and Allen Aardsma. \nBruce Hathaway  \nAn award-winning Vermont-based sculpture artist\, Hathaway’s stunning metal creations glimmer under the changing light of day. With over 45 years of experience\, Bruce’s work can be found in galleries\, public spaces\, and sculpture parks across Vermont\, New Hampshire\, Maine\, Ohio and Michigan. www.sculpturedmetals.com \nKurt Budliger  \nA dedicated conservationist and extraordinarily talented photographer\, Kurt Budliger’s high impact imagery has appeared in well-known publications like Outdoor Photographer\, Popular Photography\, National Geographic Adventure\, Outside Magazine\, Vermont Life Magazine\, Eastern Fly Fishing\, Patagonia\, The Nature Conservancy\, and many more. www.kurtbudliger.com \nAllen Aardsma \nFinding his passion for wood carving at the age of 10 with only a small jackknife\, Allen Aardsma is a true Adirondack treasure. With more than 200 species of birds and animals in his repertoire and over 3\,000 individual carvings completed\, Mr. Aardsma brings a profound sensitivity and tender appreciation to his subjects. The library is delighted to showcase a collection of Aardsma’s wooden treasures as they are quick to sell off the shelves of his studio. www.pondsidestudio.net \nOur opening celebration on April 6 will be accompanied by refreshments\, a nature-themed treasure hunt for kids\, and free tickets for raffle prizes. \n 
URL:https://piersonlibrary.org/event/spring-art-opening-2/
CATEGORIES:Art,Art Opening
ATTACH;FMTTYPE=image/jpeg:https://piersonlibrary.org/wp-content/uploads/2025/03/Spring-Art-Opening-eNewsletter-scaled.jpg
END:VEVENT
BEGIN:VEVENT
DTSTART;TZID=America/New_York:20250325T183000
DTEND;TZID=America/New_York:20250325T200000
DTSTAMP:20260423T062213
CREATED:20250227T165718Z
LAST-MODIFIED:20250227T165718Z
UID:5931-1742927400-1742932800@piersonlibrary.org
SUMMARY:Zentangle Workshop
DESCRIPTION:Julia Davenport is back at the Pierson library to share the relaxing and forgiving art form that is Zentangle. With a few tools and a small scale\, she will guide us in a 90-minute tangle to find creativity and calm our neural networks! To register\, please call the library at 802-985-5124.
URL:https://piersonlibrary.org/event/zentangle-workshop-2/
CATEGORIES:Art,Zentangle
ATTACH;FMTTYPE=image/jpeg:https://piersonlibrary.org/wp-content/uploads/2025/02/Zentangle-Event-Calendar-scaled.jpg
END:VEVENT
BEGIN:VEVENT
DTSTART;TZID=America/New_York:20250222T100000
DTEND;TZID=America/New_York:20250222T120000
DTSTAMP:20260423T062213
CREATED:20250125T144514Z
LAST-MODIFIED:20250125T144514Z
UID:5877-1740218400-1740225600@piersonlibrary.org
SUMMARY:Life Drawing Practice with Live Models
DESCRIPTION:This Saturday morning illustration opportunity is for artists and the artistically curious to gather with a clothed live model and practice drawing from life. There will be no instructors for this session but it is a good opportunity to hone and practice skills. Feel free to call ahead to register or just drop-in. Please bring your own drawing equipmet including board and easel if you’ve got it. 
URL:https://piersonlibrary.org/event/life-drawing-practice-with-live-models/
CATEGORIES:Art
ATTACH;FMTTYPE=image/jpeg:https://piersonlibrary.org/wp-content/uploads/2025/01/Live-Drawing-Event-Calendar-scaled.jpg
END:VEVENT
BEGIN:VEVENT
DTSTART;TZID=America/New_York:20250221T160000
DTEND;TZID=America/New_York:20250221T170000
DTSTAMP:20260423T062213
CREATED:20250125T000517Z
LAST-MODIFIED:20250125T000517Z
UID:5842-1740153600-1740157200@piersonlibrary.org
SUMMARY:Dr. Martin Luther King\, Jr. Sculpture Dedication Ceremony
DESCRIPTION:We invite you to join us for the unveiling of a sculpture honoring Dr. Martin Luther King\, Jr. at the Pierson Library. The statue was created by artist Chris Sharp\, renowned for his art including the pencil sculpture in front of the library and fire hydrant sculptures visible on Shelburne Road. This striking representation of Dr. King’s “I Have a Dream” speech has been displayed in prominent locations\, including the White House\, the Smithsonian\, and various National Parks. A reception will follow the dedication from 4:0pm to 5:00pm\, featuring light refreshments and a brief program celebrating the life and legacy of Dr. Martin Luther King Jr. We look forward to celebrating this important moment with you. 
URL:https://piersonlibrary.org/event/dr-martin-luther-king-jr-sculpture-dedication-ceremony/
CATEGORIES:Art
ATTACH;FMTTYPE=image/jpeg:https://piersonlibrary.org/wp-content/uploads/2025/01/MLK-Statue-Unveiling-Event-Calendar-scaled.jpg
END:VEVENT
BEGIN:VEVENT
DTSTART;TZID=America/New_York:20250114T103000
DTEND;TZID=America/New_York:20250114T110000
DTSTAMP:20260423T062213
CREATED:20241228T152309Z
LAST-MODIFIED:20241228T152309Z
UID:5738-1736850600-1736852400@piersonlibrary.org
SUMMARY:Little Artists
DESCRIPTION:Join us for a fun series where toddlers show their creativity with art!  \n 
URL:https://piersonlibrary.org/event/little-artists-4/
CATEGORIES:Art,Toddlers
ATTACH;FMTTYPE=image/jpeg:https://piersonlibrary.org/wp-content/uploads/2024/12/Little-Artists-Event-Calendar-1-scaled.jpg
END:VEVENT
BEGIN:VEVENT
DTSTART;TZID=America/New_York:20250112T140000
DTEND;TZID=America/New_York:20250112T160000
DTSTAMP:20260423T062213
CREATED:20241228T152115Z
LAST-MODIFIED:20241228T152115Z
UID:5736-1736690400-1736697600@piersonlibrary.org
SUMMARY:Winter Art Opening
DESCRIPTION:Bring the whole family to the Pierson Library on Sunday\, January 12th from 2-4 p.m. to celebrate the launch of the library’s new Art Exchange Program\, which brings creative works from outside Shelburne to our community. This first exhibition\, in collaboration with Keen Arts from New York\, features painter Mike Kaz and sculptor Matt Horner in Twists and Turns. The show is inspired by Alpinist Mark Newcomb’s reflection: “It’s the little decisions in your life that connect one by one\, as points in time. The sum total of these points becomes a line and that line is your life.” Download Spotify and bring your earbuds—the exhibition will feature a custom soundtrack! Meet the artists\, enjoy refreshments\, and enter raffles for a chance to win beautiful artwork donated by the Shelburne Craft School. Kids can search the library for famous Playmobil artists and earn a prize. 
URL:https://piersonlibrary.org/event/winter-art-opening/
CATEGORIES:Art,Art Opening
ATTACH;FMTTYPE=image/jpeg:https://piersonlibrary.org/wp-content/uploads/2024/12/WINTER-ART-OPENING-Event-Calendar-scaled.jpg
END:VEVENT
BEGIN:VEVENT
DTSTART;TZID=America/New_York:20241210T103000
DTEND;TZID=America/New_York:20241210T110000
DTSTAMP:20260423T062213
CREATED:20241111T150127Z
LAST-MODIFIED:20241111T150127Z
UID:5609-1733826600-1733828400@piersonlibrary.org
SUMMARY:Little Artists
DESCRIPTION:Join us for a fun series where toddlers show their creativity with art! For our December session\, we’ll create a winter art project. 
URL:https://piersonlibrary.org/event/little-artists-3/
CATEGORIES:Art,Crafts for kids,Toddlers
ATTACH;FMTTYPE=image/png:https://piersonlibrary.org/wp-content/uploads/2024/10/Little-Artists-Event-Calendar.png
END:VEVENT
BEGIN:VEVENT
DTSTART;TZID=America/New_York:20241112T103000
DTEND;TZID=America/New_York:20241112T110000
DTSTAMP:20260423T062213
CREATED:20241030T022901Z
LAST-MODIFIED:20241030T022901Z
UID:5510-1731407400-1731409200@piersonlibrary.org
SUMMARY:Little Artists
DESCRIPTION:Join us for a fun series where toddlers embrace their creativity with art! For our November session\, we’ll create a cute fall art project. 
URL:https://piersonlibrary.org/event/little-artists-2/
CATEGORIES:Art,Toddlers
ATTACH;FMTTYPE=image/png:https://piersonlibrary.org/wp-content/uploads/2024/10/Little-Artists-Event-Calendar.png
END:VEVENT
BEGIN:VEVENT
DTSTART;TZID=America/New_York:20241004T190000
DTEND;TZID=America/New_York:20241004T210000
DTSTAMP:20260423T062213
CREATED:20241002T160231Z
LAST-MODIFIED:20241002T160231Z
UID:5323-1728068400-1728075600@piersonlibrary.org
SUMMARY:Fall Art Opening
DESCRIPTION:Take in a world of art at our Fall Art Opening. Our fall exhibit includes works by award-winning author and illustrator Jason Chin\, Erica Sloan\, the artist Druppas\, and fiber artists from across Shelburne. Explore a diverse array of artistry while enjoying music and snacks in the ambiance of the Pierson after hours.
URL:https://piersonlibrary.org/event/fall-art-opening/
CATEGORIES:Art,Art Opening
ATTACH;FMTTYPE=image/jpeg:https://piersonlibrary.org/wp-content/uploads/2024/10/FALL-ART-OPENING-2-scaled.jpg
END:VEVENT
END:VCALENDAR