BEGIN:VCALENDAR
VERSION:2.0
PRODID:-//Pierson Library - ECPv6.15.16//NONSGML v1.0//EN
CALSCALE:GREGORIAN
METHOD:PUBLISH
X-ORIGINAL-URL:https://piersonlibrary.org
X-WR-CALDESC:Events for Pierson Library
REFRESH-INTERVAL;VALUE=DURATION:PT1H
X-Robots-Tag:noindex
X-PUBLISHED-TTL:PT1H
BEGIN:VTIMEZONE
TZID:America/New_York
BEGIN:DAYLIGHT
TZOFFSETFROM:-0500
TZOFFSETTO:-0400
TZNAME:EDT
DTSTART:20240310T070000
END:DAYLIGHT
BEGIN:STANDARD
TZOFFSETFROM:-0400
TZOFFSETTO:-0500
TZNAME:EST
DTSTART:20241103T060000
END:STANDARD
BEGIN:DAYLIGHT
TZOFFSETFROM:-0500
TZOFFSETTO:-0400
TZNAME:EDT
DTSTART:20250309T070000
END:DAYLIGHT
BEGIN:STANDARD
TZOFFSETFROM:-0400
TZOFFSETTO:-0500
TZNAME:EST
DTSTART:20251102T060000
END:STANDARD
BEGIN:DAYLIGHT
TZOFFSETFROM:-0500
TZOFFSETTO:-0400
TZNAME:EDT
DTSTART:20260308T070000
END:DAYLIGHT
BEGIN:STANDARD
TZOFFSETFROM:-0400
TZOFFSETTO:-0500
TZNAME:EST
DTSTART:20261101T060000
END:STANDARD
BEGIN:DAYLIGHT
TZOFFSETFROM:-0500
TZOFFSETTO:-0400
TZNAME:EDT
DTSTART:20270314T070000
END:DAYLIGHT
BEGIN:STANDARD
TZOFFSETFROM:-0400
TZOFFSETTO:-0500
TZNAME:EST
DTSTART:20271107T060000
END:STANDARD
END:VTIMEZONE
BEGIN:VEVENT
DTSTART;TZID=America/New_York:20251112T140000
DTEND;TZID=America/New_York:20251112T163000
DTSTAMP:20260423T184536
CREATED:20251031T120824Z
LAST-MODIFIED:20251031T120824Z
UID:6999-1762956000-1762965000@piersonlibrary.org
SUMMARY:After School Hangout
DESCRIPTION:Join us on early release day to game\, snack\, and chill with friends! Appropriate for tweens and teens.
URL:https://piersonlibrary.org/event/after-school-hangout-58/
CATEGORIES:After School,Gaming
ATTACH;FMTTYPE=image/jpeg:https://piersonlibrary.org/wp-content/uploads/2024/10/After-School-Hangout-scaled.jpg
END:VEVENT
BEGIN:VEVENT
DTSTART;TZID=America/New_York:20251119T140000
DTEND;TZID=America/New_York:20251119T163000
DTSTAMP:20260423T184536
CREATED:20251031T121005Z
LAST-MODIFIED:20251031T121005Z
UID:7000-1763560800-1763569800@piersonlibrary.org
SUMMARY:After School Hangout
DESCRIPTION:Join us on early release day to game\, snack\, and chill with friends! Appropriate for tweens and teens.
URL:https://piersonlibrary.org/event/after-school-hangout-59/
CATEGORIES:After School,Gaming
ATTACH;FMTTYPE=image/jpeg:https://piersonlibrary.org/wp-content/uploads/2024/10/After-School-Hangout-scaled.jpg
END:VEVENT
BEGIN:VEVENT
DTSTART;TZID=America/New_York:20251121T151500
DTEND;TZID=America/New_York:20251121T161500
DTSTAMP:20260423T184536
CREATED:20251031T130003Z
LAST-MODIFIED:20251031T130003Z
UID:7007-1763738100-1763741700@piersonlibrary.org
SUMMARY:K-Pop Demon Hunter Party
DESCRIPTION:Learn a dance\, sing along to your favorite songs\, win prizes\, and celebrate good music and great times together with fellow K-Pop Demon Hunter fans!
URL:https://piersonlibrary.org/event/k-pop-demon-hunter-party/
CATEGORIES:After School
ATTACH;FMTTYPE=image/jpeg:https://piersonlibrary.org/wp-content/uploads/2025/10/K-Pop-Demon-Hunters-scaled.jpg
END:VEVENT
BEGIN:VEVENT
DTSTART;TZID=America/New_York:20251203T140000
DTEND;TZID=America/New_York:20251203T163000
DTSTAMP:20260423T184536
CREATED:20251124T032012Z
LAST-MODIFIED:20251124T032012Z
UID:7099-1764770400-1764779400@piersonlibrary.org
SUMMARY:After School Hangout
DESCRIPTION: Join us on early release day to game\, snack\, and chill with friends! Appropriate for tweens and teens.
URL:https://piersonlibrary.org/event/after-school-hangout-60/
CATEGORIES:After School,Early Release Day,Gaming
ATTACH;FMTTYPE=image/jpeg:https://piersonlibrary.org/wp-content/uploads/2024/10/After-School-Hangout-scaled.jpg
END:VEVENT
BEGIN:VEVENT
DTSTART;TZID=America/New_York:20251203T143000
DTEND;TZID=America/New_York:20251203T153000
DTSTAMP:20260423T184536
CREATED:20251124T032607Z
LAST-MODIFIED:20251124T032607Z
UID:7102-1764772200-1764775800@piersonlibrary.org
SUMMARY:Teen Advisory Group
DESCRIPTION:Love to read? Help us build a library collection that truly reflects the interests and ambitions of our community! Assist Katie in finding exciting new publications and recent releases\, identify gaps in our collection\, create eye-catching displays\, and plan events! Snacks provided. Recommended ages 11-15.
URL:https://piersonlibrary.org/event/teen-advisory-group-8/
CATEGORIES:After School,Early Release Day,Teen Advisory Group
ATTACH;FMTTYPE=image/jpeg:https://piersonlibrary.org/wp-content/uploads/2024/10/Youth-Advisory-scaled.jpg
END:VEVENT
BEGIN:VEVENT
DTSTART;TZID=America/New_York:20251210T140000
DTEND;TZID=America/New_York:20251210T163000
DTSTAMP:20260423T184536
CREATED:20251124T032220Z
LAST-MODIFIED:20251124T032220Z
UID:7100-1765375200-1765384200@piersonlibrary.org
SUMMARY:After School Hangout
DESCRIPTION:Join us on early release day to game\, snack\, and chill with friends! Appropriate for tweens and teens.
URL:https://piersonlibrary.org/event/after-school-hangout-61/
CATEGORIES:After School,Early Release Day,Gaming
ATTACH;FMTTYPE=image/jpeg:https://piersonlibrary.org/wp-content/uploads/2024/10/After-School-Hangout-scaled.jpg
END:VEVENT
BEGIN:VEVENT
DTSTART;TZID=America/New_York:20251217T143000
DTEND;TZID=America/New_York:20251217T153000
DTSTAMP:20260423T184536
CREATED:20251124T032843Z
LAST-MODIFIED:20251124T032843Z
UID:7104-1765981800-1765985400@piersonlibrary.org
SUMMARY:Teen Advisory Group
DESCRIPTION:Love to read? Help us build a library collection that truly reflects the interests and ambitions of our community! Assist Katie in finding exciting new publications and recent releases\, identify gaps in our collection\, create eye-catching displays\, and plan events! Snacks provided. Recommended ages 11-15.
URL:https://piersonlibrary.org/event/teen-advisory-group-10/
CATEGORIES:After School,Early Release Day,Teen Advisory Group
ATTACH;FMTTYPE=image/jpeg:https://piersonlibrary.org/wp-content/uploads/2024/10/Youth-Advisory-scaled.jpg
END:VEVENT
BEGIN:VEVENT
DTSTART;TZID=America/New_York:20260107T140000
DTEND;TZID=America/New_York:20260107T163000
DTSTAMP:20260423T184536
CREATED:20260101T135211Z
LAST-MODIFIED:20260101T135211Z
UID:7203-1767794400-1767803400@piersonlibrary.org
SUMMARY:After-school Hangout
DESCRIPTION:Join us on early release day to game\, snack\, and chill with friends! Appropriate for tweens and teens. 
URL:https://piersonlibrary.org/event/after-school-hangout-64/
CATEGORIES:After School,Gaming,Tweens & Teens
ATTACH;FMTTYPE=image/jpeg:https://piersonlibrary.org/wp-content/uploads/2024/10/After-School-Hangout-scaled.jpg
END:VEVENT
BEGIN:VEVENT
DTSTART;TZID=America/New_York:20260107T143000
DTEND;TZID=America/New_York:20260107T153000
DTSTAMP:20260423T184536
CREATED:20260101T140202Z
LAST-MODIFIED:20260101T140611Z
UID:7207-1767796200-1767799800@piersonlibrary.org
SUMMARY:Teen Advisory Group
DESCRIPTION:Love to read? Help us build a library collection that truly reflects the interests and ambitions of our community! Assist Katie in finding exciting new publications and recent releases\, identify gaps in our collection\, create eye-catching displays\, and plan events! Snacks provided. Recommended ages 11–15. 
URL:https://piersonlibrary.org/event/teen-advisory-2/
CATEGORIES:After School,Teen Advisory Group
ATTACH;FMTTYPE=image/jpeg:https://piersonlibrary.org/wp-content/uploads/2024/10/Youth-Advisory-scaled.jpg
END:VEVENT
BEGIN:VEVENT
DTSTART;TZID=America/New_York:20260114T140000
DTEND;TZID=America/New_York:20260114T163000
DTSTAMP:20260423T184536
CREATED:20260101T135327Z
LAST-MODIFIED:20260101T135327Z
UID:7204-1768399200-1768408200@piersonlibrary.org
SUMMARY:After-school Hangout
DESCRIPTION:Join us on early release day to game\, snack\, and chill with friends! Appropriate for tweens and teens. 
URL:https://piersonlibrary.org/event/after-school-hangout-65/
CATEGORIES:After School,Gaming,Tweens & Teens
ATTACH;FMTTYPE=image/jpeg:https://piersonlibrary.org/wp-content/uploads/2024/10/After-School-Hangout-scaled.jpg
END:VEVENT
BEGIN:VEVENT
DTSTART;TZID=America/New_York:20260114T143000
DTEND;TZID=America/New_York:20260114T153000
DTSTAMP:20260423T184536
CREATED:20260101T140314Z
LAST-MODIFIED:20260101T140638Z
UID:7208-1768401000-1768404600@piersonlibrary.org
SUMMARY:Teen Advisory Group
DESCRIPTION:Love to read? Help us build a library collection that truly reflects the interests and ambitions of our community! Assist Katie in finding exciting new publications and recent releases\, identify gaps in our collection\, create eye-catching displays\, and plan events! Snacks provided. Recommended ages 11–15.
URL:https://piersonlibrary.org/event/teen-advisory-3/
CATEGORIES:After School,Teen Advisory Group
ATTACH;FMTTYPE=image/jpeg:https://piersonlibrary.org/wp-content/uploads/2024/10/Youth-Advisory-scaled.jpg
END:VEVENT
BEGIN:VEVENT
DTSTART;TZID=America/New_York:20260121T140000
DTEND;TZID=America/New_York:20260121T163000
DTSTAMP:20260423T184536
CREATED:20260101T135728Z
LAST-MODIFIED:20260101T135728Z
UID:7205-1769004000-1769013000@piersonlibrary.org
SUMMARY:After-school Hangout
DESCRIPTION:Join us on early release day to game\, snack\, and chill with friends! Appropriate for tweens and teens. 
URL:https://piersonlibrary.org/event/after-school-hangout-66/
CATEGORIES:After School,Gaming,Tweens & Teens
ATTACH;FMTTYPE=image/jpeg:https://piersonlibrary.org/wp-content/uploads/2024/10/After-School-Hangout-scaled.jpg
END:VEVENT
BEGIN:VEVENT
DTSTART;TZID=America/New_York:20260121T143000
DTEND;TZID=America/New_York:20260121T153000
DTSTAMP:20260423T184536
CREATED:20260101T140427Z
LAST-MODIFIED:20260101T140704Z
UID:7209-1769005800-1769009400@piersonlibrary.org
SUMMARY:Teen Advisory Group
DESCRIPTION:Love to read? Help us build a library collection that truly reflects the interests and ambitions of our community! Assist Katie in finding exciting new publications and recent releases\, identify gaps in our collection\, create eye-catching displays\, and plan events! Snacks provided. Recommended ages 11–15.
URL:https://piersonlibrary.org/event/teen-advisory-4/
CATEGORIES:After School,Teen Advisory Group
ATTACH;FMTTYPE=image/jpeg:https://piersonlibrary.org/wp-content/uploads/2024/10/Youth-Advisory-scaled.jpg
END:VEVENT
BEGIN:VEVENT
DTSTART;TZID=America/New_York:20260128T140000
DTEND;TZID=America/New_York:20260128T163000
DTSTAMP:20260423T184536
CREATED:20260101T135931Z
LAST-MODIFIED:20260101T135931Z
UID:7206-1769608800-1769617800@piersonlibrary.org
SUMMARY:After-school Hangout
DESCRIPTION:Join us on early release day to game\, snack\, and chill with friends! Appropriate for tweens and teens.
URL:https://piersonlibrary.org/event/after-school-hangout-67/
CATEGORIES:After School,Gaming,Tweens & Teens
ATTACH;FMTTYPE=image/jpeg:https://piersonlibrary.org/wp-content/uploads/2024/10/After-School-Hangout-scaled.jpg
END:VEVENT
BEGIN:VEVENT
DTSTART;TZID=America/New_York:20260128T143000
DTEND;TZID=America/New_York:20260128T163000
DTSTAMP:20260423T184536
CREATED:20260101T140548Z
LAST-MODIFIED:20260101T140548Z
UID:7210-1769610600-1769617800@piersonlibrary.org
SUMMARY:Teen Advisory Group
DESCRIPTION:Love to read? Help us build a library collection that truly reflects the interests and ambitions of our community! Assist Katie in finding exciting new publications and recent releases\, identify gaps in our collection\, create eye-catching displays\, and plan events! Snacks provided. Recommended ages 11–15.
URL:https://piersonlibrary.org/event/teen-advisory-group-11/
CATEGORIES:After School,Teen Advisory Group
ATTACH;FMTTYPE=image/jpeg:https://piersonlibrary.org/wp-content/uploads/2024/10/Youth-Advisory-scaled.jpg
END:VEVENT
BEGIN:VEVENT
DTSTART;TZID=America/New_York:20260204T140000
DTEND;TZID=America/New_York:20260204T163000
DTSTAMP:20260423T184536
CREATED:20260130T043701Z
LAST-MODIFIED:20260130T043701Z
UID:7336-1770213600-1770222600@piersonlibrary.org
SUMMARY:After School Hangout
DESCRIPTION:Join us on early release day to game\, snack\, and chill with friends! Appropriate for tweens and teens.
URL:https://piersonlibrary.org/event/after-school-hangout-68/
CATEGORIES:After School,Gaming
ATTACH;FMTTYPE=image/jpeg:https://piersonlibrary.org/wp-content/uploads/2024/10/After-School-Hangout-scaled.jpg
END:VEVENT
BEGIN:VEVENT
DTSTART;TZID=America/New_York:20260211T140000
DTEND;TZID=America/New_York:20260211T163000
DTSTAMP:20260423T184536
CREATED:20260130T043824Z
LAST-MODIFIED:20260130T043824Z
UID:7337-1770818400-1770827400@piersonlibrary.org
SUMMARY:After School Hangout
DESCRIPTION:Join us on early release day to game\, snack\, and chill with friends! Appropriate for tweens and teens.
URL:https://piersonlibrary.org/event/after-school-hangout-69/
CATEGORIES:After School,Gaming
ATTACH;FMTTYPE=image/jpeg:https://piersonlibrary.org/wp-content/uploads/2024/10/After-School-Hangout-scaled.jpg
END:VEVENT
BEGIN:VEVENT
DTSTART;TZID=America/New_York:20260218T140000
DTEND;TZID=America/New_York:20260218T163000
DTSTAMP:20260423T184536
CREATED:20260130T044018Z
LAST-MODIFIED:20260130T044622Z
UID:7338-1771423200-1771432200@piersonlibrary.org
SUMMARY:After School Hangout
DESCRIPTION:Join us on early release day to game\, snack\, and chill with friends! Appropriate for tweens and teens.
URL:https://piersonlibrary.org/event/after-school-hangout-70/
CATEGORIES:After School,Games
ATTACH;FMTTYPE=image/jpeg:https://piersonlibrary.org/wp-content/uploads/2024/10/After-School-Hangout-scaled.jpg
END:VEVENT
BEGIN:VEVENT
DTSTART;TZID=America/New_York:20260304T140000
DTEND;TZID=America/New_York:20260304T163000
DTSTAMP:20260423T184536
CREATED:20260226T235318Z
LAST-MODIFIED:20260226T235318Z
UID:7454-1772632800-1772641800@piersonlibrary.org
SUMMARY:After-school Hangout
DESCRIPTION:Join us on early release day to game\, snack\, and chill with friends! Appropriate for tweens and teens. 
URL:https://piersonlibrary.org/event/after-school-hangout-71/
CATEGORIES:After School,Early Release Day,Gaming
ATTACH;FMTTYPE=image/jpeg:https://piersonlibrary.org/wp-content/uploads/2024/10/After-School-Hangout-scaled.jpg
END:VEVENT
BEGIN:VEVENT
DTSTART;TZID=America/New_York:20260304T143000
DTEND;TZID=America/New_York:20260304T153000
DTSTAMP:20260423T184536
CREATED:20260227T000741Z
LAST-MODIFIED:20260227T050637Z
UID:7458-1772634600-1772638200@piersonlibrary.org
SUMMARY:Teen Advisory Group
DESCRIPTION:Love to read? Help us build a library collection that truly reflects the interests and ambitions of our community! Assist Katie in finding exciting new publications and recent releases\, identify gaps in our collection\, create eye-catching displays\, and plan events! Snacks provided. Recommended ages 11-15.
URL:https://piersonlibrary.org/event/teen-advisory-7/
CATEGORIES:After School,Early Release Day,Teen Advisory Group
ATTACH;FMTTYPE=image/jpeg:https://piersonlibrary.org/wp-content/uploads/2024/10/Youth-Advisory-scaled.jpg
END:VEVENT
BEGIN:VEVENT
DTSTART;TZID=America/New_York:20260311T140000
DTEND;TZID=America/New_York:20260311T150000
DTSTAMP:20260423T184536
CREATED:20260227T000930Z
LAST-MODIFIED:20260227T000930Z
UID:7459-1773237600-1773241200@piersonlibrary.org
SUMMARY:Teen Advisory Group
DESCRIPTION:Love to read? Help us build a library collection that truly reflects the interests and ambitions of our community! Assist Katie in finding exciting new publications and recent releases\, identify gaps in our collection\, create eye-catching displays\, and plan events! Snacks provided. Recommended ages 11-15.
URL:https://piersonlibrary.org/event/teen-advisory-group-13/
CATEGORIES:After School,Early Release Day,Teen Advisory Group
ATTACH;FMTTYPE=image/jpeg:https://piersonlibrary.org/wp-content/uploads/2024/10/Youth-Advisory-scaled.jpg
END:VEVENT
BEGIN:VEVENT
DTSTART;TZID=America/New_York:20260311T140000
DTEND;TZID=America/New_York:20260311T163000
DTSTAMP:20260423T184536
CREATED:20260226T235818Z
LAST-MODIFIED:20260226T235818Z
UID:7455-1773237600-1773246600@piersonlibrary.org
SUMMARY:After-school Hangout
DESCRIPTION:Join us on early release day to game\, snack\, and chill with friends! Appropriate for tweens and teens.
URL:https://piersonlibrary.org/event/after-school-hangout-72/
CATEGORIES:After School,Early Release Day,Gaming
ATTACH;FMTTYPE=image/jpeg:https://piersonlibrary.org/wp-content/uploads/2024/10/After-School-Hangout-scaled.jpg
END:VEVENT
BEGIN:VEVENT
DTSTART;TZID=America/New_York:20260318T140000
DTEND;TZID=America/New_York:20260318T163000
DTSTAMP:20260423T184536
CREATED:20260227T000110Z
LAST-MODIFIED:20260227T000110Z
UID:7456-1773842400-1773851400@piersonlibrary.org
SUMMARY:After-school Hangout
DESCRIPTION:Join us on early release day to game\, snack\, and chill with friends! Appropriate for tweens and teens.
URL:https://piersonlibrary.org/event/after-school-hangout-73/
CATEGORIES:After School,Early Release Day,Gaming
ATTACH;FMTTYPE=image/jpeg:https://piersonlibrary.org/wp-content/uploads/2024/10/After-School-Hangout-scaled.jpg
END:VEVENT
BEGIN:VEVENT
DTSTART;TZID=America/New_York:20260318T143000
DTEND;TZID=America/New_York:20260318T153000
DTSTAMP:20260423T184536
CREATED:20260227T050356Z
LAST-MODIFIED:20260227T050356Z
UID:7512-1773844200-1773847800@piersonlibrary.org
SUMMARY:Teen Advisory Group
DESCRIPTION:Love to read? Help us build a library collection that truly reflects the interests and ambitions of our community! Assist Katie in finding exciting new publications and recent releases\, identify gaps in our collection\, create eye-catching displays\, and plan events! Snacks provided. Recommended ages 11-15.
URL:https://piersonlibrary.org/event/teen-advisory-group-14/
CATEGORIES:After School,Early Release Day,Teen Advisory Group
ATTACH;FMTTYPE=image/jpeg:https://piersonlibrary.org/wp-content/uploads/2024/10/Youth-Advisory-scaled.jpg
END:VEVENT
BEGIN:VEVENT
DTSTART;TZID=America/New_York:20260325T140000
DTEND;TZID=America/New_York:20260325T163000
DTSTAMP:20260423T184536
CREATED:20260227T000504Z
LAST-MODIFIED:20260227T000504Z
UID:7457-1774447200-1774456200@piersonlibrary.org
SUMMARY:After-school Hangout
DESCRIPTION:Join us on early release day to game\, snack\, and chill with friends! Appropriate for tweens and teens.
URL:https://piersonlibrary.org/event/after-school-hangout-74/
CATEGORIES:After School,Early Release Day,Gaming
ATTACH;FMTTYPE=image/jpeg:https://piersonlibrary.org/wp-content/uploads/2024/10/After-School-Hangout-scaled.jpg
END:VEVENT
BEGIN:VEVENT
DTSTART;TZID=America/New_York:20260325T143000
DTEND;TZID=America/New_York:20260325T153000
DTSTAMP:20260423T184536
CREATED:20260227T050622Z
LAST-MODIFIED:20260227T050622Z
UID:7513-1774449000-1774452600@piersonlibrary.org
SUMMARY:Teen Advisory Group
DESCRIPTION:Love to read? Help us build a library collection that truly reflects the interests and ambitions of our community! Assist Katie in finding exciting new publications and recent releases\, identify gaps in our collection\, create eye-catching displays\, and plan events! Snacks provided. Recommended ages 11-15.
URL:https://piersonlibrary.org/event/teen-advisory-group-15/
CATEGORIES:After School,Early Release Day,Teen Advisory Group
ATTACH;FMTTYPE=image/jpeg:https://piersonlibrary.org/wp-content/uploads/2024/10/Youth-Advisory-scaled.jpg
END:VEVENT
BEGIN:VEVENT
DTSTART;TZID=America/New_York:20260401T140000
DTEND;TZID=America/New_York:20260401T150000
DTSTAMP:20260423T184536
CREATED:20260328T204605Z
LAST-MODIFIED:20260328T204605Z
UID:7628-1775052000-1775055600@piersonlibrary.org
SUMMARY:Teen Advisory Group
DESCRIPTION:Love to read? Help us build a library collection that truly reflects the interests and ambitions of our community! Assist Katie in finding exciting new publications and recent releases\, identify gaps in our collection\, create eye-catching displays\, and plan events! Snacks provided. Recommended ages 11–15.
URL:https://piersonlibrary.org/event/teen-advisory-group-16/
CATEGORIES:After School,Teen Advisory Group
ATTACH;FMTTYPE=image/jpeg:https://piersonlibrary.org/wp-content/uploads/2024/10/Youth-Advisory-scaled.jpg
END:VEVENT
BEGIN:VEVENT
DTSTART;TZID=America/New_York:20260401T140000
DTEND;TZID=America/New_York:20260401T163000
DTSTAMP:20260423T184536
CREATED:20260328T203252Z
LAST-MODIFIED:20260328T203252Z
UID:7623-1775052000-1775061000@piersonlibrary.org
SUMMARY:After-school Hangout
DESCRIPTION:Join us on early release day to game\, snack\, and chill with friends! Appropriate for tweens and teens. \n 
URL:https://piersonlibrary.org/event/after-school-hangout-75/
CATEGORIES:After School,Early Release Day,Gaming
ATTACH;FMTTYPE=image/jpeg:https://piersonlibrary.org/wp-content/uploads/2024/10/After-School-Hangout-scaled.jpg
END:VEVENT
BEGIN:VEVENT
DTSTART;TZID=America/New_York:20260408T140000
DTEND;TZID=America/New_York:20260408T150000
DTSTAMP:20260423T184536
CREATED:20260328T204755Z
LAST-MODIFIED:20260328T204755Z
UID:7629-1775656800-1775660400@piersonlibrary.org
SUMMARY:Teen Advisory Group
DESCRIPTION:Love to read? Help us build a library collection that truly reflects the interests and ambitions of our community! Assist Katie in finding exciting new publications and recent releases\, identify gaps in our collection\, create eye-catching displays\, and plan events! Snacks provided. Recommended ages 11–15.
URL:https://piersonlibrary.org/event/teen-advisory-group-17/
CATEGORIES:After School,Teen Advisory Group
ATTACH;FMTTYPE=image/jpeg:https://piersonlibrary.org/wp-content/uploads/2024/10/Youth-Advisory-scaled.jpg
END:VEVENT
BEGIN:VEVENT
DTSTART;TZID=America/New_York:20260408T140000
DTEND;TZID=America/New_York:20260408T163000
DTSTAMP:20260423T184536
CREATED:20260328T203756Z
LAST-MODIFIED:20260328T203756Z
UID:7624-1775656800-1775665800@piersonlibrary.org
SUMMARY:After-school Hangout
DESCRIPTION:Join us on early release day to game\, snack\, and chill with friends! Appropriate for tweens and teens. \n 
URL:https://piersonlibrary.org/event/after-school-hangout-76/
CATEGORIES:After School,Early Release Day,Gaming
ATTACH;FMTTYPE=image/jpeg:https://piersonlibrary.org/wp-content/uploads/2024/10/After-School-Hangout-scaled.jpg
END:VEVENT
END:VCALENDAR