BEGIN:VCALENDAR
VERSION:2.0
PRODID:-//Pierson Library - ECPv6.15.16//NONSGML v1.0//EN
CALSCALE:GREGORIAN
METHOD:PUBLISH
X-WR-CALNAME:Pierson Library
X-ORIGINAL-URL:https://piersonlibrary.org
X-WR-CALDESC:Events for Pierson Library
REFRESH-INTERVAL;VALUE=DURATION:PT1H
X-Robots-Tag:noindex
X-PUBLISHED-TTL:PT1H
BEGIN:VTIMEZONE
TZID:America/New_York
BEGIN:DAYLIGHT
TZOFFSETFROM:-0500
TZOFFSETTO:-0400
TZNAME:EDT
DTSTART:20240310T070000
END:DAYLIGHT
BEGIN:STANDARD
TZOFFSETFROM:-0400
TZOFFSETTO:-0500
TZNAME:EST
DTSTART:20241103T060000
END:STANDARD
BEGIN:DAYLIGHT
TZOFFSETFROM:-0500
TZOFFSETTO:-0400
TZNAME:EDT
DTSTART:20250309T070000
END:DAYLIGHT
BEGIN:STANDARD
TZOFFSETFROM:-0400
TZOFFSETTO:-0500
TZNAME:EST
DTSTART:20251102T060000
END:STANDARD
BEGIN:DAYLIGHT
TZOFFSETFROM:-0500
TZOFFSETTO:-0400
TZNAME:EDT
DTSTART:20260308T070000
END:DAYLIGHT
BEGIN:STANDARD
TZOFFSETFROM:-0400
TZOFFSETTO:-0500
TZNAME:EST
DTSTART:20261101T060000
END:STANDARD
END:VTIMEZONE
BEGIN:VEVENT
DTSTART;TZID=America/New_York:20250903T140000
DTEND;TZID=America/New_York:20250903T163000
DTSTAMP:20260422T004515
CREATED:20250823T233700Z
LAST-MODIFIED:20250823T233700Z
UID:6686-1756908000-1756917000@piersonlibrary.org
SUMMARY:After School Hangout
DESCRIPTION:Join us on early release day to game\, snack\, and chill with friends! Appropriate for tweens and teens. No advanced registration is necessary.
URL:https://piersonlibrary.org/event/after-school-hangout-48/
CATEGORIES:After School,Gaming,Tweens & Teens
ATTACH;FMTTYPE=image/jpeg:https://piersonlibrary.org/wp-content/uploads/2024/10/After-School-Hangout-scaled.jpg
END:VEVENT
BEGIN:VEVENT
DTSTART;TZID=America/New_York:20250910T140000
DTEND;TZID=America/New_York:20250910T163000
DTSTAMP:20260422T004515
CREATED:20250823T234108Z
LAST-MODIFIED:20250823T235334Z
UID:6687-1757512800-1757521800@piersonlibrary.org
SUMMARY:After School Hangout
DESCRIPTION:Join us on early release day to game\, snack\, and chill with friends! Appropriate for tweens and teens. No advanced registration is necessary.
URL:https://piersonlibrary.org/event/after-school-hangout-49/
CATEGORIES:After School,Gaming,Tweens & Teens
ATTACH;FMTTYPE=image/jpeg:https://piersonlibrary.org/wp-content/uploads/2024/10/After-School-Hangout-scaled.jpg
END:VEVENT
BEGIN:VEVENT
DTSTART;TZID=America/New_York:20250917T140000
DTEND;TZID=America/New_York:20250917T163000
DTSTAMP:20260422T004515
CREATED:20250823T234307Z
LAST-MODIFIED:20250823T234717Z
UID:6688-1758117600-1758126600@piersonlibrary.org
SUMMARY:After School Hangout
DESCRIPTION:Join us on early release day to game\, snack\, and chill with friends! Appropriate for tweens and teens. No advanced registration is necessary.
URL:https://piersonlibrary.org/event/after-school-hangout-50/
CATEGORIES:After School,Gaming,Tweens & Teens
ATTACH;FMTTYPE=image/jpeg:https://piersonlibrary.org/wp-content/uploads/2024/10/After-School-Hangout-scaled.jpg
END:VEVENT
BEGIN:VEVENT
DTSTART;TZID=America/New_York:20250924T140000
DTEND;TZID=America/New_York:20250924T163000
DTSTAMP:20260422T004515
CREATED:20250823T234625Z
LAST-MODIFIED:20250823T234625Z
UID:6689-1758722400-1758731400@piersonlibrary.org
SUMMARY:After School Hangout
DESCRIPTION:Join us on early release day to game\, snack\, and chill with friends! Appropriate for tweens and teens. No advanced registration is necessary.
URL:https://piersonlibrary.org/event/after-school-hangout-51/
CATEGORIES:After School,Games,Tweens & Teens
ATTACH;FMTTYPE=image/jpeg:https://piersonlibrary.org/wp-content/uploads/2024/10/After-School-Hangout-scaled.jpg
END:VEVENT
END:VCALENDAR