BEGIN:VCALENDAR
VERSION:2.0
PRODID:-//Pierson Library - ECPv6.15.16//NONSGML v1.0//EN
CALSCALE:GREGORIAN
METHOD:PUBLISH
X-WR-CALNAME:Pierson Library
X-ORIGINAL-URL:https://piersonlibrary.org
X-WR-CALDESC:Events for Pierson Library
REFRESH-INTERVAL;VALUE=DURATION:PT1H
X-Robots-Tag:noindex
X-PUBLISHED-TTL:PT1H
BEGIN:VTIMEZONE
TZID:America/New_York
BEGIN:DAYLIGHT
TZOFFSETFROM:-0500
TZOFFSETTO:-0400
TZNAME:EDT
DTSTART:20250309T070000
END:DAYLIGHT
BEGIN:STANDARD
TZOFFSETFROM:-0400
TZOFFSETTO:-0500
TZNAME:EST
DTSTART:20251102T060000
END:STANDARD
BEGIN:DAYLIGHT
TZOFFSETFROM:-0500
TZOFFSETTO:-0400
TZNAME:EDT
DTSTART:20260308T070000
END:DAYLIGHT
BEGIN:STANDARD
TZOFFSETFROM:-0400
TZOFFSETTO:-0500
TZNAME:EST
DTSTART:20261101T060000
END:STANDARD
BEGIN:DAYLIGHT
TZOFFSETFROM:-0500
TZOFFSETTO:-0400
TZNAME:EDT
DTSTART:20270314T070000
END:DAYLIGHT
BEGIN:STANDARD
TZOFFSETFROM:-0400
TZOFFSETTO:-0500
TZNAME:EST
DTSTART:20271107T060000
END:STANDARD
END:VTIMEZONE
BEGIN:VEVENT
DTSTART;VALUE=DATE:20260420
DTEND;VALUE=DATE:20260426
DTSTAMP:20260421T053309
CREATED:20260328T201911Z
LAST-MODIFIED:20260328T201911Z
UID:7616-1776643200-1777161599@piersonlibrary.org
SUMMARY:Break the Safe
DESCRIPTION:Love to solve riddles\, ciphers\, and codes? Stop in over April break and put your wits to the test deciphering clues to unlock the library safe for a sweet reward.
URL:https://piersonlibrary.org/event/break-the-safe/
ATTACH;FMTTYPE=image/jpeg:https://piersonlibrary.org/wp-content/uploads/2026/03/Break-the-Safe-scaled.jpg
END:VEVENT
BEGIN:VEVENT
DTSTART;TZID=America/New_York:20260421T103000
DTEND;TZID=America/New_York:20260421T110000
DTSTAMP:20260421T053309
CREATED:20260328T182702Z
LAST-MODIFIED:20260328T205152Z
UID:7598-1776767400-1776769200@piersonlibrary.org
SUMMARY:Music & Movement with G’Raph
DESCRIPTION:Musician extraordinaire G’Raph (a.k.a. Raphael Groten) brings weekly kids concerts to the Pierson Library! Raphael’s exuberant music and radiating kindness bring sunshine to every event\, as he plays a variety of original music and familiar classics on a variety of musical instruments. These fun\, high-energy mornings are sure to get you and your crew singing\, dancing\, and shaking your sillies out. Come for the music\, leave with a lifted heart!
URL:https://piersonlibrary.org/event/music-movement-with-graph-12/
CATEGORIES:Music & Movement
ATTACH;FMTTYPE=image/jpeg:https://piersonlibrary.org/wp-content/uploads/2025/09/G-Raph-1-scaled.jpg
END:VEVENT
BEGIN:VEVENT
DTSTART;TZID=America/New_York:20260421T140000
DTEND;TZID=America/New_York:20260421T160000
DTSTAMP:20260421T053309
CREATED:20260328T223337Z
LAST-MODIFIED:20260328T223337Z
UID:7675-1776780000-1776787200@piersonlibrary.org
SUMMARY:Tech Help Tuesday
DESCRIPTION:Have a tech problem you just can’t figure out? Have an app that’s giving you trouble? Does your smartphone leave you flummoxed? We can help. Book a 30-minute appointment with one of our tech-savvy librarians who can help you tame that tech problem! To register\, please call the library at 802-985-5124.
URL:https://piersonlibrary.org/event/tech-help-tuesday-19/
CATEGORIES:Tech Help,Technology
ATTACH;FMTTYPE=image/jpeg:https://piersonlibrary.org/wp-content/uploads/2024/12/Tech-Help-Tuesday-Events-Calendar-2-scaled.jpg
END:VEVENT
BEGIN:VEVENT
DTSTART;TZID=America/New_York:20260421T151500
DTEND;TZID=America/New_York:20260421T170000
DTSTAMP:20260421T053309
CREATED:20260328T183639Z
LAST-MODIFIED:20260328T183639Z
UID:7601-1776784500-1776790800@piersonlibrary.org
SUMMARY:Minecraft Meet-up
DESCRIPTION:Minecraft players ages 7–12 and their adults meet up to share their Minecraft knowledge and play together! Attendees should bring their laptop or tablet with Minecraft installed and account created.
URL:https://piersonlibrary.org/event/minecraft-meet-up-23/
CATEGORIES:Minecraft
ATTACH;FMTTYPE=image/jpeg:https://piersonlibrary.org/wp-content/uploads/2025/09/Minecraft-Meet-up-scaled.jpg
END:VEVENT
BEGIN:VEVENT
DTSTART;TZID=America/New_York:20260421T180000
DTEND;TZID=America/New_York:20260421T190000
DTSTAMP:20260421T053309
CREATED:20260328T223627Z
LAST-MODIFIED:20260328T223627Z
UID:7676-1776794400-1776798000@piersonlibrary.org
SUMMARY:Tuesday Night Book Club: The Emperor of Gladness
DESCRIPTION:Join us for a discussion of The Emperor of Gladness by Ocean Vuong\, a luminous and deeply compassionate novel about chosen family\, survival\, and the quiet forces that bind people together. Set in the postindustrial town of East Gladness\, Connecticut\, the story follows nineteen-year-old Hai\, who\, on the brink of despair forms an unexpected bond with Grazina\, an elderly widow living with dementia. As Hai becomes Grazina’s caretaker\, the two forge a transformative relationship grounded in empathy\, memory\, and shared vulnerability. Over the course of a year\, their connection reshapes Hai’s understanding of himself\, his family\, and the fractured community around him. Tender\, searching\, and beautifully rendered\, the novel explores how love and human connection offer the possibility of healing and second chances on the margins of American life. Copies are available at the first-floor circulation desk. New members are always welcome!
URL:https://piersonlibrary.org/event/tuesday-night-book-club-the-emperor-of-gladness/
CATEGORIES:Book Club
ATTACH;FMTTYPE=image/jpeg:https://piersonlibrary.org/wp-content/uploads/2026/03/Tuesday-Night-Book-Club-The-Emperor-of-Gladness-scaled.jpg
END:VEVENT
END:VCALENDAR