BEGIN:VCALENDAR
VERSION:2.0
PRODID:-//Pierson Library - ECPv6.15.16//NONSGML v1.0//EN
CALSCALE:GREGORIAN
METHOD:PUBLISH
X-WR-CALNAME:Pierson Library
X-ORIGINAL-URL:https://piersonlibrary.org
X-WR-CALDESC:Events for Pierson Library
REFRESH-INTERVAL;VALUE=DURATION:PT1H
X-Robots-Tag:noindex
X-PUBLISHED-TTL:PT1H
BEGIN:VTIMEZONE
TZID:America/New_York
BEGIN:DAYLIGHT
TZOFFSETFROM:-0500
TZOFFSETTO:-0400
TZNAME:EDT
DTSTART:20250309T070000
END:DAYLIGHT
BEGIN:STANDARD
TZOFFSETFROM:-0400
TZOFFSETTO:-0500
TZNAME:EST
DTSTART:20251102T060000
END:STANDARD
BEGIN:DAYLIGHT
TZOFFSETFROM:-0500
TZOFFSETTO:-0400
TZNAME:EDT
DTSTART:20260308T070000
END:DAYLIGHT
BEGIN:STANDARD
TZOFFSETFROM:-0400
TZOFFSETTO:-0500
TZNAME:EST
DTSTART:20261101T060000
END:STANDARD
BEGIN:DAYLIGHT
TZOFFSETFROM:-0500
TZOFFSETTO:-0400
TZNAME:EDT
DTSTART:20270314T070000
END:DAYLIGHT
BEGIN:STANDARD
TZOFFSETFROM:-0400
TZOFFSETTO:-0500
TZNAME:EST
DTSTART:20271107T060000
END:STANDARD
END:VTIMEZONE
BEGIN:VEVENT
DTSTART;VALUE=DATE:20260420
DTEND;VALUE=DATE:20260426
DTSTAMP:20260420T014627
CREATED:20260328T201911Z
LAST-MODIFIED:20260328T201911Z
UID:7616-1776643200-1777161599@piersonlibrary.org
SUMMARY:Break the Safe
DESCRIPTION:Love to solve riddles\, ciphers\, and codes? Stop in over April break and put your wits to the test deciphering clues to unlock the library safe for a sweet reward.
URL:https://piersonlibrary.org/event/break-the-safe/
ATTACH;FMTTYPE=image/jpeg:https://piersonlibrary.org/wp-content/uploads/2026/03/Break-the-Safe-scaled.jpg
END:VEVENT
BEGIN:VEVENT
DTSTART;TZID=America/New_York:20260420T103000
DTEND;TZID=America/New_York:20260420T110000
DTSTAMP:20260420T014627
CREATED:20260328T201525Z
LAST-MODIFIED:20260328T201525Z
UID:7615-1776681000-1776682800@piersonlibrary.org
SUMMARY:Little Artists: Thumbprint Dandelions Paintings
DESCRIPTION:Join us for a fun series where toddlers show their creativity with art! At this session we’ll create beautiful and easy thumbprint dandelions paintings.
URL:https://piersonlibrary.org/event/little-artists-thumbprint-dandelions-paintings/
CATEGORIES:Art,Crafts for kids,Toddlers
ATTACH;FMTTYPE=image/jpeg:https://piersonlibrary.org/wp-content/uploads/2025/02/Little-Artists-Event-Calendar-2-scaled.jpg
END:VEVENT
BEGIN:VEVENT
DTSTART;TZID=America/New_York:20260420T120000
DTEND;TZID=America/New_York:20260420T130000
DTSTAMP:20260420T014627
CREATED:20260328T212417Z
LAST-MODIFIED:20260328T212417Z
UID:7650-1776686400-1776690000@piersonlibrary.org
SUMMARY:Fiber Arts Crafting Hour
DESCRIPTION:Have you got a fiber arts project you’re working on and would enjoy the company of other crafters? Join this crafting hour every Monday to knit\, crochet\, weave\, felt\, embroider\, and socialize! This program runs officially for one hour\, but provided the space is available\, crafters are welcome to stay and socialize!
URL:https://piersonlibrary.org/event/fiber-arts-crafting-hour-22/
CATEGORIES:Fiber Arts
ATTACH;FMTTYPE=image/jpeg:https://piersonlibrary.org/wp-content/uploads/2024/10/Fiber-Arts-Crafting-Circle-1-scaled.jpg
END:VEVENT
END:VCALENDAR