BEGIN:VCALENDAR
VERSION:2.0
PRODID:-//Pierson Library - ECPv6.15.16//NONSGML v1.0//EN
CALSCALE:GREGORIAN
METHOD:PUBLISH
X-WR-CALNAME:Pierson Library
X-ORIGINAL-URL:https://piersonlibrary.org
X-WR-CALDESC:Events for Pierson Library
REFRESH-INTERVAL;VALUE=DURATION:PT1H
X-Robots-Tag:noindex
X-PUBLISHED-TTL:PT1H
BEGIN:VTIMEZONE
TZID:America/New_York
BEGIN:DAYLIGHT
TZOFFSETFROM:-0500
TZOFFSETTO:-0400
TZNAME:EDT
DTSTART:20250309T070000
END:DAYLIGHT
BEGIN:STANDARD
TZOFFSETFROM:-0400
TZOFFSETTO:-0500
TZNAME:EST
DTSTART:20251102T060000
END:STANDARD
BEGIN:DAYLIGHT
TZOFFSETFROM:-0500
TZOFFSETTO:-0400
TZNAME:EDT
DTSTART:20260308T070000
END:DAYLIGHT
BEGIN:STANDARD
TZOFFSETFROM:-0400
TZOFFSETTO:-0500
TZNAME:EST
DTSTART:20261101T060000
END:STANDARD
BEGIN:DAYLIGHT
TZOFFSETFROM:-0500
TZOFFSETTO:-0400
TZNAME:EDT
DTSTART:20270314T070000
END:DAYLIGHT
BEGIN:STANDARD
TZOFFSETFROM:-0400
TZOFFSETTO:-0500
TZNAME:EST
DTSTART:20271107T060000
END:STANDARD
END:VTIMEZONE
BEGIN:VEVENT
DTSTART;VALUE=DATE:20260301
DTEND;VALUE=DATE:20260401
DTSTAMP:20260424T232642
CREATED:20260226T124839Z
LAST-MODIFIED:20260226T124839Z
UID:7417-1772323200-1775001599@piersonlibrary.org
SUMMARY:Shelburne Writes! Poetry Contest
DESCRIPTION:Calling all poetry lovers! Shelburne Writes! is a poetry contest open to writers of all ages\, offering recognition to the top poets in four age categories: elementary school (K-4)\, middle school (5-8)\, high school (9-12)\, and adult (two winners will be chosen from this category). All types of poetry all welcome: traditional\, prose poetry\, experimental poetry\, etc. The subject matter of your entry should be somehow connected to Vermont—it can be as loose as the action simply taking place in Vermont; we are open to your interpretations on the theme. The contest is only open to residents of Shelburne\, and entries will be judged blind by a committee that includes both the Shelburne junior and adult Poet Laureates. Winners from each category will have their poems published in the Shelburne News and will also be highlighted at a poetry reading held at the Library on April 28 at 6:00 pm. Everyone who enters the contest will be invited to attend and read their entries. \n 
URL:https://piersonlibrary.org/event/shelburne-writes-poetry-contest-2/
CATEGORIES:Poetry
ATTACH;FMTTYPE=image/jpeg:https://piersonlibrary.org/wp-content/uploads/2025/02/Poetry-Contest-Event-Calendar-scaled.jpg
END:VEVENT
BEGIN:VEVENT
DTSTART;TZID=America/New_York:20260321T101500
DTEND;TZID=America/New_York:20260321T121500
DTSTAMP:20260424T232642
CREATED:20260227T035427Z
LAST-MODIFIED:20260227T035427Z
UID:7493-1774088100-1774095300@piersonlibrary.org
SUMMARY:Creative Writing Support Group
DESCRIPTION:Find community and encouragement with other writers in our monthly creative writing meet-up! Each session will include a check-in to see where and how everyone’s at with their practice and/or projects\, followed by an in-session generative writing exercise (led either by library staff or an outside expert)\, a supportive workshopping of submitted pages (ideally read ahead of session)\, and quiet time for individual creative work in a group writing environment. Newcomers welcome! Call the library at 802-985-5124 and leave your email to claim a spot and get this month’s pages!
URL:https://piersonlibrary.org/event/creative-writing-support-group-13/
CATEGORIES:Creative Writing
ATTACH;FMTTYPE=image/jpeg:https://piersonlibrary.org/wp-content/uploads/2025/02/Creative-Writing-Support-Group-Event-Calendar-scaled.jpg
END:VEVENT
BEGIN:VEVENT
DTSTART;TZID=America/New_York:20260321T103000
DTEND;TZID=America/New_York:20260321T123000
DTSTAMP:20260424T232642
CREATED:20260227T012259Z
LAST-MODIFIED:20260227T012259Z
UID:7462-1774089000-1774096200@piersonlibrary.org
SUMMARY:Puzzle Competition
DESCRIPTION:Love a good jigsaw puzzle? Put your puzzling skills to the test at the great puzzle race! Teams of 2–4 puzzlers compete to complete a 500-piece puzzle in under two hours. Prizes provided for the fastest team! Call to register your team and get a “piece” of the action at 802-985-5124. Don’t know any fellow puzzlers? Don’t be deterred—sign up to be added to the library team! Recommended for teens and adults. \n 
URL:https://piersonlibrary.org/event/puzzle-competition-2/
CATEGORIES:Craft,Puzzles
ATTACH;FMTTYPE=image/jpeg:https://piersonlibrary.org/wp-content/uploads/2025/04/Great-Puzzle-Race-eNewsletter-1-scaled.jpg
END:VEVENT
END:VCALENDAR