BEGIN:VCALENDAR
VERSION:2.0
PRODID:-//Pierson Library - ECPv6.15.16//NONSGML v1.0//EN
CALSCALE:GREGORIAN
METHOD:PUBLISH
X-WR-CALNAME:Pierson Library
X-ORIGINAL-URL:https://piersonlibrary.org
X-WR-CALDESC:Events for Pierson Library
REFRESH-INTERVAL;VALUE=DURATION:PT1H
X-Robots-Tag:noindex
X-PUBLISHED-TTL:PT1H
BEGIN:VTIMEZONE
TZID:America/New_York
BEGIN:DAYLIGHT
TZOFFSETFROM:-0500
TZOFFSETTO:-0400
TZNAME:EDT
DTSTART:20250309T070000
END:DAYLIGHT
BEGIN:STANDARD
TZOFFSETFROM:-0400
TZOFFSETTO:-0500
TZNAME:EST
DTSTART:20251102T060000
END:STANDARD
BEGIN:DAYLIGHT
TZOFFSETFROM:-0500
TZOFFSETTO:-0400
TZNAME:EDT
DTSTART:20260308T070000
END:DAYLIGHT
BEGIN:STANDARD
TZOFFSETFROM:-0400
TZOFFSETTO:-0500
TZNAME:EST
DTSTART:20261101T060000
END:STANDARD
BEGIN:DAYLIGHT
TZOFFSETFROM:-0500
TZOFFSETTO:-0400
TZNAME:EDT
DTSTART:20270314T070000
END:DAYLIGHT
BEGIN:STANDARD
TZOFFSETFROM:-0400
TZOFFSETTO:-0500
TZNAME:EST
DTSTART:20271107T060000
END:STANDARD
END:VTIMEZONE
BEGIN:VEVENT
DTSTART;TZID=America/New_York:20260228T103000
DTEND;TZID=America/New_York:20260228T120000
DTSTAMP:20260424T133700
CREATED:20260130T042658Z
LAST-MODIFIED:20260130T042658Z
UID:7334-1772274600-1772280000@piersonlibrary.org
SUMMARY:Read to a Dog
DESCRIPTION:Celebrate the joy of reading with Taffy\, our certified therapy dog! Join our ‘Read to a Dog’ program to enhance literacy skills in the delightful company of this furry friend. Taffy provides a supportive and non-judgmental environment\, making reading a rewarding experience for emerging readers. Boost confidence and fluency with Taffy by your side! Space is limited. To register\, please call us at 802-985-5124 
URL:https://piersonlibrary.org/event/read-to-a-dog-40/
CATEGORIES:Read to a dog
ATTACH;FMTTYPE=image/jpeg:https://piersonlibrary.org/wp-content/uploads/2024/10/Taffy-the-reading-dog-Events-Calendar-scaled.jpg
END:VEVENT
BEGIN:VEVENT
DTSTART;TZID=America/New_York:20260228T103000
DTEND;TZID=America/New_York:20260228T120000
DTSTAMP:20260424T133700
CREATED:20260130T050522Z
LAST-MODIFIED:20260130T050534Z
UID:7348-1772274600-1772280000@piersonlibrary.org
SUMMARY:Teen Crochet & Knit Club
DESCRIPTION:Love to crochet or knit? Bring your current project to the library and create in the company of fellow yarn artists! Yarn\, crochet hooks\, and donuts provided.
URL:https://piersonlibrary.org/event/teen-crochet-knit-club/
CATEGORIES:Tweens & Teens
ATTACH;FMTTYPE=image/jpeg:https://piersonlibrary.org/wp-content/uploads/2025/11/Knitting-scaled.jpg
END:VEVENT
END:VCALENDAR