BEGIN:VCALENDAR
VERSION:2.0
PRODID:-//Pierson Library - ECPv6.15.16//NONSGML v1.0//EN
CALSCALE:GREGORIAN
METHOD:PUBLISH
X-ORIGINAL-URL:https://piersonlibrary.org
X-WR-CALDESC:Events for Pierson Library
REFRESH-INTERVAL;VALUE=DURATION:PT1H
X-Robots-Tag:noindex
X-PUBLISHED-TTL:PT1H
BEGIN:VTIMEZONE
TZID:America/New_York
BEGIN:DAYLIGHT
TZOFFSETFROM:-0500
TZOFFSETTO:-0400
TZNAME:EDT
DTSTART:20250309T070000
END:DAYLIGHT
BEGIN:STANDARD
TZOFFSETFROM:-0400
TZOFFSETTO:-0500
TZNAME:EST
DTSTART:20251102T060000
END:STANDARD
BEGIN:DAYLIGHT
TZOFFSETFROM:-0500
TZOFFSETTO:-0400
TZNAME:EDT
DTSTART:20260308T070000
END:DAYLIGHT
BEGIN:STANDARD
TZOFFSETFROM:-0400
TZOFFSETTO:-0500
TZNAME:EST
DTSTART:20261101T060000
END:STANDARD
BEGIN:DAYLIGHT
TZOFFSETFROM:-0500
TZOFFSETTO:-0400
TZNAME:EDT
DTSTART:20270314T070000
END:DAYLIGHT
BEGIN:STANDARD
TZOFFSETFROM:-0400
TZOFFSETTO:-0500
TZNAME:EST
DTSTART:20271107T060000
END:STANDARD
END:VTIMEZONE
BEGIN:VEVENT
DTSTART;VALUE=DATE:20260130
DTEND;VALUE=DATE:20260214
DTSTAMP:20260424T110137
CREATED:20260129T203909Z
LAST-MODIFIED:20260131T032122Z
UID:7297-1769731200-1771027199@piersonlibrary.org
SUMMARY:Letters Across America Pen Pal Program (Open Registration)
DESCRIPTION:In a world full of screens and instant messages\, our Pen Pal Program offers a chance to experience something delightfully analog. It’s back and stronger than ever\, celebrating handwritten letters\, meaningful connections\, and the excitement of mail that isn’t a bill. The Bexley Public Library (just outside Columbus\, OH) returns for another round of letter exchanges\, and this year we’re thrilled to be joined by the Hendersonville County Public Library in Hendersonville\, NC\, and the Harte Branch of the Long Beach Public Library in CA. Anyone ages 5–105 is invited to sign up and be matched with a pen pal close to their age from one of these three states (which state will be a surprise!). Registration is open from February 2 through February 12\, but space is limited. Pen pals will be paired by library staff within similar age brackets\, and participants will receive an information packet about their pen pal on the 24th. Participants are encouraged to write at least two letters during March and April. Letters will be collected by the Pierson Library and mailed to the partner libraries every Wednesday morning. This program is designed to encourage meaningful connections between library patrons across state lines. To register complete the online registration form at https://docs.google.com/forms/d/1_767j1mCm_ptBan1sVPXVCHnkq3TIOPI7KGu0GpiCC8/edit?ts=697bea1e or come in for a paper copy. Participants under 18 must have a permission form signed by a parent or adult guardian (available at the front desk)
URL:https://piersonlibrary.org/event/letters-across-america-pen-pal-program-open-registration/
CATEGORIES:Pen Pals
ATTACH;FMTTYPE=image/jpeg:https://piersonlibrary.org/wp-content/uploads/2026/01/Letters-Across-America-scaled.jpg
END:VEVENT
BEGIN:VEVENT
DTSTART;TZID=America/New_York:20260213T101500
DTEND;TZID=America/New_York:20260213T113000
DTSTAMP:20260424T110137
CREATED:20260130T011808Z
LAST-MODIFIED:20260130T013211Z
UID:7313-1770977700-1770982200@piersonlibrary.org
SUMMARY:Dungeons & Dragons Homeschool Edition
DESCRIPTION:Kids ages 7-12 roll the dice for a chance at adventure\, and guaranteed fun at our Friday morning D&D sessions. Add us to your Friday schedule through the month of January\, and travel far and in good company\, all from your cozy seat at the Pierson! Beginners welcome. Call us with questions\, or to register for this fun\, free event.
URL:https://piersonlibrary.org/event/dungeons-dragons-homeschool-edition-6/
CATEGORIES:Dungeons & Dragons,Gaming
ATTACH;FMTTYPE=image/jpeg:https://piersonlibrary.org/wp-content/uploads/2026/01/Dungeons-and-Dragons-scaled.jpg
END:VEVENT
BEGIN:VEVENT
DTSTART;TZID=America/New_York:20260213T153000
DTEND;TZID=America/New_York:20260213T163000
DTSTAMP:20260424T110137
CREATED:20260130T030005Z
LAST-MODIFIED:20260130T030005Z
UID:7317-1770996600-1771000200@piersonlibrary.org
SUMMARY:Lego Club
DESCRIPTION:Love to build? Unwind from a busy week with a rummage through the library’s extensive collection of Legos and build to your heart’s content! Display your work in the library for friends to enjoy and enter our weekly drawing for a chance to win a Lego set! 
URL:https://piersonlibrary.org/event/lego-club-7/
CATEGORIES:LEGO
ATTACH;FMTTYPE=image/jpeg:https://piersonlibrary.org/wp-content/uploads/2025/01/LEGO-AFTERNOON-1-scaled.jpg
END:VEVENT
BEGIN:VEVENT
DTSTART;TZID=America/New_York:20260213T173000
DTEND;TZID=America/New_York:20260213T193000
DTSTAMP:20260424T110137
CREATED:20260130T040936Z
LAST-MODIFIED:20260130T040936Z
UID:7327-1771003800-1771011000@piersonlibrary.org
SUMMARY:Multicultural Movie Night: Lilo & Stitch (2025 Live Action Remake)
DESCRIPTION:Please join us for Multicultural Movie Night! This month\, we are showing the 2025 live action remake of Lilo & Stitch\, the funny and touching story of a lonely Hawaiian girl and the fugitive alien who helps to mend her broken family. Popcorn and pizza will be provided. Brought to you in partnership with the Shelburne Equity & Diversity Committee. Rated PG / 108 minutes.
URL:https://piersonlibrary.org/event/multicultural-movie-night-lilo-stitch-2025-live-action-remake/
CATEGORIES:Multicultural Movie Night
ATTACH;FMTTYPE=image/jpeg:https://piersonlibrary.org/wp-content/uploads/2026/01/Multicultural-Movie-Night-Lilo-Stitch-2-scaled.jpg
END:VEVENT
BEGIN:VEVENT
DTSTART;TZID=America/New_York:20260213T190000
DTEND;TZID=America/New_York:20260213T210000
DTSTAMP:20260424T110137
CREATED:20260130T051126Z
LAST-MODIFIED:20260130T051126Z
UID:7349-1771009200-1771016400@piersonlibrary.org
SUMMARY:Teen Winter Dance
DESCRIPTION:Hey tweens and teens! Join us for the Winter Ball\, a Friday night dance for teens planned by our Teen Advisory Group. We’ll have pizza\, snacks\, and fun. Don’t miss out!
URL:https://piersonlibrary.org/event/teen-winter-dance/
CATEGORIES:Dance,Tweens & Teens
ATTACH;FMTTYPE=image/jpeg:https://piersonlibrary.org/wp-content/uploads/2026/01/Teen-Dance-scaled.jpg
END:VEVENT
END:VCALENDAR