BEGIN:VCALENDAR
VERSION:2.0
PRODID:-//Pierson Library - ECPv6.15.16//NONSGML v1.0//EN
CALSCALE:GREGORIAN
METHOD:PUBLISH
X-WR-CALNAME:Pierson Library
X-ORIGINAL-URL:https://piersonlibrary.org
X-WR-CALDESC:Events for Pierson Library
REFRESH-INTERVAL;VALUE=DURATION:PT1H
X-Robots-Tag:noindex
X-PUBLISHED-TTL:PT1H
BEGIN:VTIMEZONE
TZID:America/New_York
BEGIN:DAYLIGHT
TZOFFSETFROM:-0500
TZOFFSETTO:-0400
TZNAME:EDT
DTSTART:20240310T070000
END:DAYLIGHT
BEGIN:STANDARD
TZOFFSETFROM:-0400
TZOFFSETTO:-0500
TZNAME:EST
DTSTART:20241103T060000
END:STANDARD
BEGIN:DAYLIGHT
TZOFFSETFROM:-0500
TZOFFSETTO:-0400
TZNAME:EDT
DTSTART:20250309T070000
END:DAYLIGHT
BEGIN:STANDARD
TZOFFSETFROM:-0400
TZOFFSETTO:-0500
TZNAME:EST
DTSTART:20251102T060000
END:STANDARD
BEGIN:DAYLIGHT
TZOFFSETFROM:-0500
TZOFFSETTO:-0400
TZNAME:EDT
DTSTART:20260308T070000
END:DAYLIGHT
BEGIN:STANDARD
TZOFFSETFROM:-0400
TZOFFSETTO:-0500
TZNAME:EST
DTSTART:20261101T060000
END:STANDARD
END:VTIMEZONE
BEGIN:VEVENT
DTSTART;TZID=America/New_York:20250214T150000
DTEND;TZID=America/New_York:20250214T163000
DTSTAMP:20260421T221549
CREATED:20250124T233647Z
LAST-MODIFIED:20250124T233647Z
UID:5833-1739545200-1739550600@piersonlibrary.org
SUMMARY:Lego Afternoon
DESCRIPTION:Love to build? Stop in on Friday afternoons to rummage through our terrific collection of Legos and build with friends. We’ll display all creations in the library for visitors to see and enter each creation in a weekly prize drawing for a Lego set! 
URL:https://piersonlibrary.org/event/lego-afternoon-10/
CATEGORIES:LEGO
ATTACH;FMTTYPE=image/jpeg:https://piersonlibrary.org/wp-content/uploads/2025/01/LEGO-AFTERNOON-1-scaled.jpg
END:VEVENT
BEGIN:VEVENT
DTSTART;TZID=America/New_York:20250214T153000
DTEND;TZID=America/New_York:20250214T163000
DTSTAMP:20260421T221549
CREATED:20250124T235904Z
LAST-MODIFIED:20250124T235904Z
UID:5840-1739547000-1739550600@piersonlibrary.org
SUMMARY:Valentine's Day Chocolate Tasting Jamboree
DESCRIPTION:A quirky adventure in taste for the lay connoisseur! We’re back with another Valentine’s tasting wherein we sample an inclusive variety of local\, corporate\, specialty\, and homespun chocolates; discerning what tastes earthy\, fruity\, milk weedy\, vegetal; sharing our experiences with chocolate\, our Proustian sense memories; ranking and deciding\, once and for all\, what chocolate reigns supreme!  \n 
URL:https://piersonlibrary.org/event/valentines-day-chocolate-tasting-jamboree/
CATEGORIES:Food Tastings
ATTACH;FMTTYPE=image/jpeg:https://piersonlibrary.org/wp-content/uploads/2025/01/Chocolate-Tasting-Event-Calendar-scaled.jpg
END:VEVENT
BEGIN:VEVENT
DTSTART;TZID=America/New_York:20250214T190000
DTEND;TZID=America/New_York:20250214T210000
DTSTAMP:20260421T221549
CREATED:20250126T011811Z
LAST-MODIFIED:20250214T171300Z
UID:5886-1739559600-1739566800@piersonlibrary.org
SUMMARY:Shelburne Annual Pheromone Party with When Harry Met Sally (CANCELED)
DESCRIPTION:Due to unforeseen circumstances\, tonight’s pheromone party has been canceled.
URL:https://piersonlibrary.org/event/shelburne-annual-pheromone-party-with-when-harry-met-sally/
CATEGORIES:Movies
ATTACH;FMTTYPE=image/jpeg:https://piersonlibrary.org/wp-content/uploads/2025/01/Pheromone-Party-Canceled-scaled.jpg
END:VEVENT
END:VCALENDAR