BEGIN:VCALENDAR
VERSION:2.0
PRODID:-//Pierson Library - ECPv6.15.16//NONSGML v1.0//EN
CALSCALE:GREGORIAN
METHOD:PUBLISH
X-ORIGINAL-URL:https://piersonlibrary.org
X-WR-CALDESC:Events for Pierson Library
REFRESH-INTERVAL;VALUE=DURATION:PT1H
X-Robots-Tag:noindex
X-PUBLISHED-TTL:PT1H
BEGIN:VTIMEZONE
TZID:America/New_York
BEGIN:DAYLIGHT
TZOFFSETFROM:-0500
TZOFFSETTO:-0400
TZNAME:EDT
DTSTART:20240310T070000
END:DAYLIGHT
BEGIN:STANDARD
TZOFFSETFROM:-0400
TZOFFSETTO:-0500
TZNAME:EST
DTSTART:20241103T060000
END:STANDARD
BEGIN:DAYLIGHT
TZOFFSETFROM:-0500
TZOFFSETTO:-0400
TZNAME:EDT
DTSTART:20250309T070000
END:DAYLIGHT
BEGIN:STANDARD
TZOFFSETFROM:-0400
TZOFFSETTO:-0500
TZNAME:EST
DTSTART:20251102T060000
END:STANDARD
BEGIN:DAYLIGHT
TZOFFSETFROM:-0500
TZOFFSETTO:-0400
TZNAME:EDT
DTSTART:20260308T070000
END:DAYLIGHT
BEGIN:STANDARD
TZOFFSETFROM:-0400
TZOFFSETTO:-0500
TZNAME:EST
DTSTART:20261101T060000
END:STANDARD
END:VTIMEZONE
BEGIN:VEVENT
DTSTART;TZID=America/New_York:20250211T103000
DTEND;TZID=America/New_York:20250211T110000
DTSTAMP:20260421T205805
CREATED:20250124T234000Z
LAST-MODIFIED:20250124T234000Z
UID:5835-1739269800-1739271600@piersonlibrary.org
SUMMARY:Little Artists
DESCRIPTION:Join us for a fun series where toddlers show their creativity with art!  This month\, we’ll make a cute Valentine’s Day craft. 
URL:https://piersonlibrary.org/event/little-artists-5/
CATEGORIES:Crafts for kids,Toddlers
ATTACH;FMTTYPE=image/jpeg:https://piersonlibrary.org/wp-content/uploads/2024/12/Little-Artists-Event-Calendar-1-scaled.jpg
END:VEVENT
BEGIN:VEVENT
DTSTART;TZID=America/New_York:20250211T153000
DTEND;TZID=America/New_York:20250211T163000
DTSTAMP:20260421T205805
CREATED:20250124T234751Z
LAST-MODIFIED:20250124T234751Z
UID:5836-1739287800-1739291400@piersonlibrary.org
SUMMARY:Crafternoon: Valentine's Day
DESCRIPTION:Join us after school for a crafty good time as we create a cool Valentine’s Day project. To register\, please call the library at 802-985-5124. 
URL:https://piersonlibrary.org/event/crafternoon-valentines-day/
CATEGORIES:Crafts for kids
ATTACH;FMTTYPE=image/jpeg:https://piersonlibrary.org/wp-content/uploads/2025/01/Crafternoon-Event-Calendar-scaled.jpg
END:VEVENT
BEGIN:VEVENT
DTSTART;TZID=America/New_York:20250211T163000
DTEND;TZID=America/New_York:20250211T183000
DTSTAMP:20260421T205805
CREATED:20250125T151248Z
LAST-MODIFIED:20250128T173457Z
UID:5884-1739291400-1739298600@piersonlibrary.org
SUMMARY:Black Artistry\, Black Power: Spike Lee's Jungle Fever
DESCRIPTION:Celebrate black artistry and great cinema with a screening of 1991’s Jungle Fever by American visionary Spike Lee. If you missed this one back in the day\, now’s the perfect time to catch up. The romantic drama of biracial love and intermarital relations stars Wesley Snipes and Annabella Sciorra and is yet another example of Lee’s cinematic excellence. Rated R/1 hr. 32 min.
URL:https://piersonlibrary.org/event/black-artistry-black-power-spike-lees-jungle-fever/
CATEGORIES:Movies
ATTACH;FMTTYPE=image/jpeg:https://piersonlibrary.org/wp-content/uploads/2025/01/Spike-Lee-Event-Calendar-scaled.jpg
END:VEVENT
END:VCALENDAR