BEGIN:VCALENDAR
VERSION:2.0
PRODID:-//Pierson Library - ECPv6.15.16//NONSGML v1.0//EN
CALSCALE:GREGORIAN
METHOD:PUBLISH
X-ORIGINAL-URL:https://piersonlibrary.org
X-WR-CALDESC:Events for Pierson Library
REFRESH-INTERVAL;VALUE=DURATION:PT1H
X-Robots-Tag:noindex
X-PUBLISHED-TTL:PT1H
BEGIN:VTIMEZONE
TZID:America/New_York
BEGIN:DAYLIGHT
TZOFFSETFROM:-0500
TZOFFSETTO:-0400
TZNAME:EDT
DTSTART:20240310T070000
END:DAYLIGHT
BEGIN:STANDARD
TZOFFSETFROM:-0400
TZOFFSETTO:-0500
TZNAME:EST
DTSTART:20241103T060000
END:STANDARD
BEGIN:DAYLIGHT
TZOFFSETFROM:-0500
TZOFFSETTO:-0400
TZNAME:EDT
DTSTART:20250309T070000
END:DAYLIGHT
BEGIN:STANDARD
TZOFFSETFROM:-0400
TZOFFSETTO:-0500
TZNAME:EST
DTSTART:20251102T060000
END:STANDARD
BEGIN:DAYLIGHT
TZOFFSETFROM:-0500
TZOFFSETTO:-0400
TZNAME:EDT
DTSTART:20260308T070000
END:DAYLIGHT
BEGIN:STANDARD
TZOFFSETFROM:-0400
TZOFFSETTO:-0500
TZNAME:EST
DTSTART:20261101T060000
END:STANDARD
END:VTIMEZONE
BEGIN:VEVENT
DTSTART;TZID=America/New_York:20250210T120000
DTEND;TZID=America/New_York:20250210T140000
DTSTAMP:20260421T174921
CREATED:20250125T005006Z
LAST-MODIFIED:20250125T005006Z
UID:5859-1739188800-1739196000@piersonlibrary.org
SUMMARY:Fiber Arts Crafting Circle
DESCRIPTION:Have you got a fiber arts project you’re working on and would relish the company of other crafters? Join this informal group that meets for two hours every Wednesday to knit\, crochet\, weave\, felt\, embroider and socialize! On occassion there will be special guest presenters\, but mostly this is an opportunity to share company (and perhaps even pointers!) with other makers invested in the art\, craft and leisure of fiber arts. 
URL:https://piersonlibrary.org/event/fiber-arts-crafting-circle-7/
CATEGORIES:Fiber Arts
ATTACH;FMTTYPE=image/jpeg:https://piersonlibrary.org/wp-content/uploads/2024/10/Fiber-Arts-Crafting-Circle-1-scaled.jpg
END:VEVENT
END:VCALENDAR